BEGIN:VCALENDAR
VERSION:2.0
PRODID:-// - ECPv6.15.20//NONSGML v1.0//EN
CALSCALE:GREGORIAN
METHOD:PUBLISH
X-ORIGINAL-URL:https://www.hartfordaudubon.org
X-WR-CALDESC:Events for 
REFRESH-INTERVAL;VALUE=DURATION:PT1H
X-Robots-Tag:noindex
X-PUBLISHED-TTL:PT1H
BEGIN:VTIMEZONE
TZID:America/New_York
BEGIN:DAYLIGHT
TZOFFSETFROM:-0500
TZOFFSETTO:-0400
TZNAME:EDT
DTSTART:20220313T070000
END:DAYLIGHT
BEGIN:STANDARD
TZOFFSETFROM:-0400
TZOFFSETTO:-0500
TZNAME:EST
DTSTART:20221106T060000
END:STANDARD
BEGIN:DAYLIGHT
TZOFFSETFROM:-0500
TZOFFSETTO:-0400
TZNAME:EDT
DTSTART:20230312T070000
END:DAYLIGHT
BEGIN:STANDARD
TZOFFSETFROM:-0400
TZOFFSETTO:-0500
TZNAME:EST
DTSTART:20231105T060000
END:STANDARD
BEGIN:DAYLIGHT
TZOFFSETFROM:-0500
TZOFFSETTO:-0400
TZNAME:EDT
DTSTART:20240310T070000
END:DAYLIGHT
BEGIN:STANDARD
TZOFFSETFROM:-0400
TZOFFSETTO:-0500
TZNAME:EST
DTSTART:20241103T060000
END:STANDARD
END:VTIMEZONE
BEGIN:VEVENT
DTSTART;VALUE=DATE:20230429
DTEND;VALUE=DATE:20230522
DTSTAMP:20260425T232728
CREATED:20220806T174041Z
LAST-MODIFIED:20230411T123016Z
UID:13933-1682726400-1684713599@www.hartfordaudubon.org
SUMMARY:Annual Spring Census: 4/29 - 5/21/2023
DESCRIPTION:Join fellow HAS members for our annual Spring census. Unlike our other bird counts\, this count is by towns in the greater Hartford area and lasts 3 weeks.   Bird as much or as little as you like and report to as many town captains as you wish.  A list of captains will be released at a later date. \nPlease reach out to Jamie Meyers with any questions.\nsunnyctredbird@gmail.com   860-693-4497 / 860-519-9719 (Cell)
URL:https://www.hartfordaudubon.org/trip-event/annual-spring-census-starting-4-29-2023-for-3-weeks/
CATEGORIES:Club Event,Field Trip
ORGANIZER;CN="Jamie Meyers":MAILTO:sunnyctredbird@gmail.com
END:VEVENT
END:VCALENDAR