BEGIN:VCALENDAR
VERSION:2.0
PRODID:-// - ECPv6.15.20//NONSGML v1.0//EN
CALSCALE:GREGORIAN
METHOD:PUBLISH
X-ORIGINAL-URL:https://www.hartfordaudubon.org
X-WR-CALDESC:Events for 
REFRESH-INTERVAL;VALUE=DURATION:PT1H
X-Robots-Tag:noindex
X-PUBLISHED-TTL:PT1H
BEGIN:VTIMEZONE
TZID:America/New_York
BEGIN:DAYLIGHT
TZOFFSETFROM:-0500
TZOFFSETTO:-0400
TZNAME:EDT
DTSTART:20220313T070000
END:DAYLIGHT
BEGIN:STANDARD
TZOFFSETFROM:-0400
TZOFFSETTO:-0500
TZNAME:EST
DTSTART:20221106T060000
END:STANDARD
BEGIN:DAYLIGHT
TZOFFSETFROM:-0500
TZOFFSETTO:-0400
TZNAME:EDT
DTSTART:20230312T070000
END:DAYLIGHT
BEGIN:STANDARD
TZOFFSETFROM:-0400
TZOFFSETTO:-0500
TZNAME:EST
DTSTART:20231105T060000
END:STANDARD
BEGIN:DAYLIGHT
TZOFFSETFROM:-0500
TZOFFSETTO:-0400
TZNAME:EDT
DTSTART:20240310T070000
END:DAYLIGHT
BEGIN:STANDARD
TZOFFSETFROM:-0400
TZOFFSETTO:-0500
TZNAME:EST
DTSTART:20241103T060000
END:STANDARD
END:VTIMEZONE
BEGIN:VEVENT
DTSTART;VALUE=DATE:20231008
DTEND;VALUE=DATE:20231009
DTSTAMP:20260425T142549
CREATED:20230726T125503Z
LAST-MODIFIED:20230802T145052Z
UID:14527-1696723200-1696809599@www.hartfordaudubon.org
SUMMARY:Big Sit - Station 43 - Sunday - 10/8/2023
DESCRIPTION:953 Main St\, South Windsor \nCorner of Newberry Rd and Main St \nPark along road near intersection. \nCathy will cover from 5:30 to 9:30am.  We are hoping others will join and we can have folks there all day so drop by any time.  Visit https://www.thebigsit.org  to learn more about this national project. It is a day of fun at Station 43 where we count all species we see and hear from a 17-foot circle located at the HAS platform on the southwest end of the marsh. Bring a stool/chair and a scope if you have one. If it’s been wet\, wear boots. \nCathy Delasco     cathy_cosgrove@yahoo.com       860-324-4709 T
URL:https://www.hartfordaudubon.org/trip-event/big-sit-station-43-sunday-10-8-2023/
LOCATION:S Windsor\, 990 Main St.\, South Windsor\, CT\, 06074\, United States
CATEGORIES:Club Event
END:VEVENT
END:VCALENDAR