BEGIN:VCALENDAR
VERSION:2.0
PRODID:-// - ECPv6.15.20//NONSGML v1.0//EN
CALSCALE:GREGORIAN
METHOD:PUBLISH
X-ORIGINAL-URL:https://www.hartfordaudubon.org
X-WR-CALDESC:Events for 
REFRESH-INTERVAL;VALUE=DURATION:PT1H
X-Robots-Tag:noindex
X-PUBLISHED-TTL:PT1H
BEGIN:VTIMEZONE
TZID:America/New_York
BEGIN:DAYLIGHT
TZOFFSETFROM:-0500
TZOFFSETTO:-0400
TZNAME:EDT
DTSTART:20220313T070000
END:DAYLIGHT
BEGIN:STANDARD
TZOFFSETFROM:-0400
TZOFFSETTO:-0500
TZNAME:EST
DTSTART:20221106T060000
END:STANDARD
BEGIN:DAYLIGHT
TZOFFSETFROM:-0500
TZOFFSETTO:-0400
TZNAME:EDT
DTSTART:20230312T070000
END:DAYLIGHT
BEGIN:STANDARD
TZOFFSETFROM:-0400
TZOFFSETTO:-0500
TZNAME:EST
DTSTART:20231105T060000
END:STANDARD
BEGIN:DAYLIGHT
TZOFFSETFROM:-0500
TZOFFSETTO:-0400
TZNAME:EDT
DTSTART:20240310T070000
END:DAYLIGHT
BEGIN:STANDARD
TZOFFSETFROM:-0400
TZOFFSETTO:-0500
TZNAME:EST
DTSTART:20241103T060000
END:STANDARD
END:VTIMEZONE
BEGIN:VEVENT
DTSTART;VALUE=DATE:20231217
DTEND;VALUE=DATE:20231218
DTSTAMP:20260425T112457
CREATED:20230726T133451Z
LAST-MODIFIED:20230802T144412Z
UID:14537-1702771200-1702857599@www.hartfordaudubon.org
SUMMARY:Christmas Bird Count - Sunday - 12/17/2023
DESCRIPTION:Dec 17             Christmas Bird Count          Sun All Day \nBird Count Circle \n7.5-mile radius from Old State House \nJoin Hartford Audubon Members for the longest running citizen science project to assess population trends of birds during the winter season.  For one day\, we count birds in a circle around Hartford that is divided into specific areas.  Bird an hour or bird all day.  A list of Captains will be released at a later date. \nJay Kaplan              jaybrd49@aol.com                 860-693-0157 \n                                                                        860-707-5246 T
URL:https://www.hartfordaudubon.org/trip-event/christmas-bird-count-sunday-12-17-2023/
CATEGORIES:Club Event
ORGANIZER;CN="Jay Kaplan":MAILTO:jaybrd49@aol.com
END:VEVENT
END:VCALENDAR