BEGIN:VCALENDAR
VERSION:2.0
PRODID:-// - ECPv6.15.20//NONSGML v1.0//EN
CALSCALE:GREGORIAN
METHOD:PUBLISH
X-ORIGINAL-URL:https://www.hartfordaudubon.org
X-WR-CALDESC:Events for 
REFRESH-INTERVAL;VALUE=DURATION:PT1H
X-Robots-Tag:noindex
X-PUBLISHED-TTL:PT1H
BEGIN:VTIMEZONE
TZID:America/New_York
BEGIN:DAYLIGHT
TZOFFSETFROM:-0500
TZOFFSETTO:-0400
TZNAME:EDT
DTSTART:20230312T070000
END:DAYLIGHT
BEGIN:STANDARD
TZOFFSETFROM:-0400
TZOFFSETTO:-0500
TZNAME:EST
DTSTART:20231105T060000
END:STANDARD
BEGIN:DAYLIGHT
TZOFFSETFROM:-0500
TZOFFSETTO:-0400
TZNAME:EDT
DTSTART:20240310T070000
END:DAYLIGHT
BEGIN:STANDARD
TZOFFSETFROM:-0400
TZOFFSETTO:-0500
TZNAME:EST
DTSTART:20241103T060000
END:STANDARD
BEGIN:DAYLIGHT
TZOFFSETFROM:-0500
TZOFFSETTO:-0400
TZNAME:EDT
DTSTART:20250309T070000
END:DAYLIGHT
BEGIN:STANDARD
TZOFFSETFROM:-0400
TZOFFSETTO:-0500
TZNAME:EST
DTSTART:20251102T060000
END:STANDARD
END:VTIMEZONE
BEGIN:VEVENT
DTSTART;TZID=America/New_York:20241210T183000
DTEND;TZID=America/New_York:20241210T210000
DTSTAMP:20260424T161833
CREATED:20240905T152347Z
LAST-MODIFIED:20240905T152347Z
UID:15362-1733855400-1733864400@www.hartfordaudubon.org
SUMMARY:Annual Holiday Meeting - December 10\, 2024 - 6:30 pm
DESCRIPTION:Dec 10 ⛄Annual Holiday Meeting🌲 Tue 6:30 pmPotluck Supper and SlideshowSt James’s Episcopal Church1018 Farmington Ave\, West Hartford \nContinuing a fun tradition\, please wear a favorite holiday\, bird tee–shirt\, or hat! Following dinner\, we’ll have the teacup auction andthe member photo–sharing session. Bring silverware\, plates\, a dishto share\, serving utensils\, and something for the teacup auction.Contact Mona Cavallero at mcavallero1@comcast.net for detailson sharing your photos. \nContact Sydnee Foster fostersydnee@gmail.com 203–913–8380
URL:https://www.hartfordaudubon.org/trip-event/annual-holiday-meeting-december-10-2024-630-pm/
LOCATION:St. James’s Episcopal Church\, 1018 Farmington Ave.\, West Hartford\, CT\, 06127\, United States
CATEGORIES:Club Event
ORGANIZER;CN="Hartford Audubon Society":MAILTO:info@hartfordaudubon.org
END:VEVENT
BEGIN:VEVENT
DTSTART;VALUE=DATE:20241215
DTEND;VALUE=DATE:20241216
DTSTAMP:20260424T161833
CREATED:20240905T152623Z
LAST-MODIFIED:20241203T133021Z
UID:15364-1734220800-1734307199@www.hartfordaudubon.org
SUMMARY:Christmas Bird Count - December 15\, 2024 - All Day
DESCRIPTION:Dec 15 Christmas Bird Count Sun All DayBird Count Circle7.5–mile radius from Old State House\nJoin Hartford Audubon Members for the nation’s longest runningcitizen science project to assess population trends of birds duringthe winter season. For one day\, we count birds in a circle aroundHartford that is divided into specific areas. Bird an hour or bird allday. A list of Captains will be released at a later date.\n\nContact Jay Kaplan jaybrd49@aol.com 860–693–0157860–707–5246 T
URL:https://www.hartfordaudubon.org/trip-event/christmas-bird-count-december-15-2024-all-day/
CATEGORIES:Club Event
ORGANIZER;CN="Jay Kaplan":MAILTO:jaybrd49@aol.com
END:VEVENT
END:VCALENDAR