BEGIN:VCALENDAR
VERSION:2.0
PRODID:-// - ECPv6.15.20//NONSGML v1.0//EN
CALSCALE:GREGORIAN
METHOD:PUBLISH
X-ORIGINAL-URL:https://www.hartfordaudubon.org
X-WR-CALDESC:Events for 
REFRESH-INTERVAL;VALUE=DURATION:PT1H
X-Robots-Tag:noindex
X-PUBLISHED-TTL:PT1H
BEGIN:VTIMEZONE
TZID:America/New_York
BEGIN:DAYLIGHT
TZOFFSETFROM:-0500
TZOFFSETTO:-0400
TZNAME:EDT
DTSTART:20240310T070000
END:DAYLIGHT
BEGIN:STANDARD
TZOFFSETFROM:-0400
TZOFFSETTO:-0500
TZNAME:EST
DTSTART:20241103T060000
END:STANDARD
BEGIN:DAYLIGHT
TZOFFSETFROM:-0500
TZOFFSETTO:-0400
TZNAME:EDT
DTSTART:20250309T070000
END:DAYLIGHT
BEGIN:STANDARD
TZOFFSETFROM:-0400
TZOFFSETTO:-0500
TZNAME:EST
DTSTART:20251102T060000
END:STANDARD
BEGIN:DAYLIGHT
TZOFFSETFROM:-0500
TZOFFSETTO:-0400
TZNAME:EDT
DTSTART:20260308T070000
END:DAYLIGHT
BEGIN:STANDARD
TZOFFSETFROM:-0400
TZOFFSETTO:-0500
TZNAME:EST
DTSTART:20261101T060000
END:STANDARD
END:VTIMEZONE
BEGIN:VEVENT
DTSTART;VALUE=DATE:20250101
DTEND;VALUE=DATE:20250201
DTSTAMP:20260424T143934
CREATED:20240905T153904Z
LAST-MODIFIED:20241225T142955Z
UID:15367-1735689600-1738367999@www.hartfordaudubon.org
SUMMARY:Big January - All Month - All of Hartford County
DESCRIPTION:It’s that time again!  The Hartford Audubon Society (HAS) is pleased to announce our eighth annual Hartford County Big January of Birding birdwatching challenge. The goal of the activity is to encourage folks to get outside during the month of January and see as many species of wild birds in Hartford County as possible. The competition is free to people of all ages.  You do not need to be a HAS member or reside in Hartford County to enter.\n\nTo participate\, birders should enter their daily or periodic observations into ebird.org\, the free birdwatching site maintained by the Cornell University Lab of Ornithology. At the end of the month\, Hartford Audubon will retrieve all the data and award certificates and prizes. There are four categories:\n    * Youth (ages 4-10) who must see at least 25 species to enter\n    * Teen (ages 11-17) who must see at least 35 species to enter\n    * Weekend Warrior (adults ages 18 and up who can’t get outdoors during the week) who must see at least 50 species to enter\n    * Adults (ages 18 and up who can get outdoors during the week) who must see at least 60 species to enter.\nAll entries that meet the minimum number of species for each challenge group will receive a certificate of achievement.  A special prize will be awarded for the highest species count for each challenge group\, and the coveted “Golden Grebe” award will be given to the birder finding the most unusual bird.\n\nJanuary\, 2025 may be a very interesting month and a joyful way to enter the new year.\nPlease feel free to share this email with all your bird-loving friends.  We’d like nothing more than to hand out dozens of certificates!\n\n\nContact Sarah Faulkner sffaulkner@comcast.net 860–543–1280 T
URL:https://www.hartfordaudubon.org/trip-event/big-january-all-month-all-of-hartford-county/
CATEGORIES:Club Event
ORGANIZER;CN="Hartford Audubon Society":MAILTO:info@hartfordaudubon.org
END:VEVENT
END:VCALENDAR