BEGIN:VCALENDAR
VERSION:2.0
PRODID:-// - ECPv6.15.20//NONSGML v1.0//EN
CALSCALE:GREGORIAN
METHOD:PUBLISH
X-ORIGINAL-URL:https://www.hartfordaudubon.org
X-WR-CALDESC:Events for 
REFRESH-INTERVAL;VALUE=DURATION:PT1H
X-Robots-Tag:noindex
X-PUBLISHED-TTL:PT1H
BEGIN:VTIMEZONE
TZID:America/New_York
BEGIN:DAYLIGHT
TZOFFSETFROM:-0500
TZOFFSETTO:-0400
TZNAME:EDT
DTSTART:20240310T070000
END:DAYLIGHT
BEGIN:STANDARD
TZOFFSETFROM:-0400
TZOFFSETTO:-0500
TZNAME:EST
DTSTART:20241103T060000
END:STANDARD
BEGIN:DAYLIGHT
TZOFFSETFROM:-0500
TZOFFSETTO:-0400
TZNAME:EDT
DTSTART:20250309T070000
END:DAYLIGHT
BEGIN:STANDARD
TZOFFSETFROM:-0400
TZOFFSETTO:-0500
TZNAME:EST
DTSTART:20251102T060000
END:STANDARD
BEGIN:DAYLIGHT
TZOFFSETFROM:-0500
TZOFFSETTO:-0400
TZNAME:EDT
DTSTART:20260308T070000
END:DAYLIGHT
BEGIN:STANDARD
TZOFFSETFROM:-0400
TZOFFSETTO:-0500
TZNAME:EST
DTSTART:20261101T060000
END:STANDARD
END:VTIMEZONE
BEGIN:VEVENT
DTSTART;TZID=America/New_York:20250426T080000
DTEND;TZID=America/New_York:20250517T170000
DTSTAMP:20260424T101643
CREATED:20240906T142625Z
LAST-MODIFIED:20240906T142625Z
UID:15424-1745654400-1747501200@www.hartfordaudubon.org
SUMMARY:Annual Spring Census starting April 26\, 2025 for 3 weeks
DESCRIPTION:Apr 26 Annual Spring Census Sat 3 weeks\nJoin fellow HAS members for our annual Spring census\, which willend on Sunday\, May 19th. Unlike our other bird counts\, this countis by towns in the greater Hartford area and lasts 3 weeks. Bird asmuch or as little as you like and report to as many town captains asyou wish. A list of captains will be released at a later date.\nContact Doug Beach beachgolfdesign@att.net 860–878–1364
URL:https://www.hartfordaudubon.org/trip-event/annual-spring-census-starting-april-26-2025-for-3-weeks/
CATEGORIES:Club Event
ORGANIZER;CN="Hartford Audubon Society":MAILTO:info@hartfordaudubon.org
END:VEVENT
END:VCALENDAR