BEGIN:VCALENDAR
VERSION:2.0
PRODID:-// - ECPv6.15.20//NONSGML v1.0//EN
CALSCALE:GREGORIAN
METHOD:PUBLISH
X-ORIGINAL-URL:https://www.hartfordaudubon.org
X-WR-CALDESC:Events for 
REFRESH-INTERVAL;VALUE=DURATION:PT1H
X-Robots-Tag:noindex
X-PUBLISHED-TTL:PT1H
BEGIN:VTIMEZONE
TZID:America/New_York
BEGIN:DAYLIGHT
TZOFFSETFROM:-0500
TZOFFSETTO:-0400
TZNAME:EDT
DTSTART:20250309T070000
END:DAYLIGHT
BEGIN:STANDARD
TZOFFSETFROM:-0400
TZOFFSETTO:-0500
TZNAME:EST
DTSTART:20251102T060000
END:STANDARD
BEGIN:DAYLIGHT
TZOFFSETFROM:-0500
TZOFFSETTO:-0400
TZNAME:EDT
DTSTART:20260308T070000
END:DAYLIGHT
BEGIN:STANDARD
TZOFFSETFROM:-0400
TZOFFSETTO:-0500
TZNAME:EST
DTSTART:20261101T060000
END:STANDARD
BEGIN:DAYLIGHT
TZOFFSETFROM:-0500
TZOFFSETTO:-0400
TZNAME:EDT
DTSTART:20270314T070000
END:DAYLIGHT
BEGIN:STANDARD
TZOFFSETFROM:-0400
TZOFFSETTO:-0500
TZNAME:EST
DTSTART:20271107T060000
END:STANDARD
END:VTIMEZONE
BEGIN:VEVENT
DTSTART;TZID=America/New_York:20260304T190000
DTEND;TZID=America/New_York:20260304T210000
DTSTAMP:20260421T150028
CREATED:20250731T135045Z
LAST-MODIFIED:20250731T135045Z
UID:15797-1772650800-1772658000@www.hartfordaudubon.org
SUMMARY:Birding with your Phone - March 4\, 2026
DESCRIPTION:Mar 4 Birding With Your Phone Wed 7:00 pmVirtual Workshop via Zoom – RESERVATION REQUIRED \nA 1–1/2 hour\, virtual hands–on workshop with Ken Elkins ofConnecticut Audubon. Ken will teach attendees how to use andrefine the use of eBird\, Merlin\, several bird guides\, and more.Registration is required\, so email Sarah to reserve a space. \nParticipants will be sent a list of apps to have before the workshop.Sarah Faulkner sffaulkner@comcast.net 860–543–1280 T
URL:https://www.hartfordaudubon.org/trip-event/birding-with-your-phone-march-4-2026/
CATEGORIES:Club Event
ORGANIZER;CN="Hartford Audubon Society":MAILTO:info@hartfordaudubon.org
END:VEVENT
END:VCALENDAR