BEGIN:VCALENDAR
VERSION:2.0
PRODID:-// - ECPv6.15.20//NONSGML v1.0//EN
CALSCALE:GREGORIAN
METHOD:PUBLISH
X-ORIGINAL-URL:https://www.hartfordaudubon.org
X-WR-CALDESC:Events for 
REFRESH-INTERVAL;VALUE=DURATION:PT1H
X-Robots-Tag:noindex
X-PUBLISHED-TTL:PT1H
BEGIN:VTIMEZONE
TZID:America/New_York
BEGIN:DAYLIGHT
TZOFFSETFROM:-0500
TZOFFSETTO:-0400
TZNAME:EDT
DTSTART:20250309T070000
END:DAYLIGHT
BEGIN:STANDARD
TZOFFSETFROM:-0400
TZOFFSETTO:-0500
TZNAME:EST
DTSTART:20251102T060000
END:STANDARD
BEGIN:DAYLIGHT
TZOFFSETFROM:-0500
TZOFFSETTO:-0400
TZNAME:EDT
DTSTART:20260308T070000
END:DAYLIGHT
BEGIN:STANDARD
TZOFFSETFROM:-0400
TZOFFSETTO:-0500
TZNAME:EST
DTSTART:20261101T060000
END:STANDARD
BEGIN:DAYLIGHT
TZOFFSETFROM:-0500
TZOFFSETTO:-0400
TZNAME:EDT
DTSTART:20270314T070000
END:DAYLIGHT
BEGIN:STANDARD
TZOFFSETFROM:-0400
TZOFFSETTO:-0500
TZNAME:EST
DTSTART:20271107T060000
END:STANDARD
END:VTIMEZONE
BEGIN:VEVENT
DTSTART;TZID=America/New_York:20260425T080000
DTEND;TZID=America/New_York:20260517T170000
DTSTAMP:20260421T114521
CREATED:20250803T151850Z
LAST-MODIFIED:20250803T151850Z
UID:15828-1777104000-1779037200@www.hartfordaudubon.org
SUMMARY:Annual Spring Census - Starting April 25\, 2026 - 3 weeks
DESCRIPTION:Apr 25 Annual Spring Census Sat 3 weeksAll Towns in the Greater Hartford Area \nJoin fellow HAS members for our annual Spring census\, which willend on Sunday\, May 17th. Unlike our other bird counts\, this countis by towns in the greater Hartford area and lasts 3 weeks. Bird asmuch or as little as you like and report to as many town captains asyou wish. A list of captains will be released at a later date. \nBill Asteriades bill.asteriades@gmail.com 860–690–1152 TDoug Beach beachgolfdesign@att.net 860–878–1364
URL:https://www.hartfordaudubon.org/trip-event/annual-spring-census-starting-april-25-2026-3-weeks/
CATEGORIES:Club Event
ORGANIZER;CN="Hartford Audubon Society":MAILTO:info@hartfordaudubon.org
END:VEVENT
BEGIN:VEVENT
DTSTART;VALUE=DATE:20260613
DTEND;VALUE=DATE:20260615
DTSTAMP:20260421T114521
CREATED:20250807T165757Z
LAST-MODIFIED:20250807T171155Z
UID:15890-1781308800-1781481599@www.hartfordaudubon.org
SUMMARY:Annual Summer Bird Count: June 13-14\, 2026
DESCRIPTION:Jun 13 Annual Summer Bird Count Sat & SunBird Count Circle. 7.5–mile radius from Old State House\nJoin Hartford Audubon members as we participate in the annualSummer Bird Count. Species and numbers are counted on this two–day tally within our Christmas Count circle. Bird one day or bothand help collect breeding–bird data and track species trends forConnecticut. Bird for an hour or bird all weekend.\nJay Kaplan jaybrd49@aol.com 860–693–0157860–707–5246
URL:https://www.hartfordaudubon.org/trip-event/annual-summer-bird-count-june-13-14-2026/
CATEGORIES:Club Event
ORGANIZER;CN="Hartford Audubon Society":MAILTO:info@hartfordaudubon.org
END:VEVENT
END:VCALENDAR