BEGIN:VCALENDAR
VERSION:2.0
PRODID:-// - ECPv6.15.20//NONSGML v1.0//EN
CALSCALE:GREGORIAN
METHOD:PUBLISH
X-ORIGINAL-URL:https://www.hartfordaudubon.org
X-WR-CALDESC:Events for 
REFRESH-INTERVAL;VALUE=DURATION:PT1H
X-Robots-Tag:noindex
X-PUBLISHED-TTL:PT1H
BEGIN:VTIMEZONE
TZID:America/New_York
BEGIN:DAYLIGHT
TZOFFSETFROM:-0500
TZOFFSETTO:-0400
TZNAME:EDT
DTSTART:20220313T070000
END:DAYLIGHT
BEGIN:STANDARD
TZOFFSETFROM:-0400
TZOFFSETTO:-0500
TZNAME:EST
DTSTART:20221106T060000
END:STANDARD
BEGIN:DAYLIGHT
TZOFFSETFROM:-0500
TZOFFSETTO:-0400
TZNAME:EDT
DTSTART:20230312T070000
END:DAYLIGHT
BEGIN:STANDARD
TZOFFSETFROM:-0400
TZOFFSETTO:-0500
TZNAME:EST
DTSTART:20231105T060000
END:STANDARD
BEGIN:DAYLIGHT
TZOFFSETFROM:-0500
TZOFFSETTO:-0400
TZNAME:EDT
DTSTART:20240310T070000
END:DAYLIGHT
BEGIN:STANDARD
TZOFFSETFROM:-0400
TZOFFSETTO:-0500
TZNAME:EST
DTSTART:20241103T060000
END:STANDARD
END:VTIMEZONE
BEGIN:VEVENT
DTSTART;VALUE=DATE:20230312
DTEND;VALUE=DATE:20230313
DTSTAMP:20260425T212617
CREATED:20220806T171637Z
LAST-MODIFIED:20220814T152157Z
UID:13909-1678579200-1678665599@www.hartfordaudubon.org
SUMMARY:Daylight Saving Bird-a-Thon - 3/12/2023
DESCRIPTION:Sunday\, March 12\, 2023 \nLeader/Coordinator:  Maggie Peretto – All day \nAll of Hartford County \nJoin Hartford Audubon  for a fun one day birding competition to celebrate the return of Daylight Saving Time!   Form teams of 2-4 people\, dress up and name them with a smile in mind.   Compete and report results.  1 point for every species\, 2 points for every species found on a HAS sanctuary and 10 bonus points if you have a new birder on the team.  At the end of the day we’ll get together for a potluck dinner.  Maggie will send out an informational e-mail the week before. \nMaggie Peretto        wings.mp@gmail.com               860-604-4903
URL:https://www.hartfordaudubon.org/trip-event/daylight-saving-bird-a-thon-3-12-2023/
LOCATION:CT
CATEGORIES:Field Trip
ORGANIZER;CN="Maggie Peretto":MAILTO:wings.mp@gmail.com
END:VEVENT
BEGIN:VEVENT
DTSTART;TZID=America/New_York:20230318T190000
DTEND;TZID=America/New_York:20230318T210000
DTSTAMP:20260425T212617
CREATED:20220806T171905Z
LAST-MODIFIED:20220814T152356Z
UID:13912-1679166000-1679173200@www.hartfordaudubon.org
SUMMARY:Woodcocks at Nod Brook - 3/18/2023
DESCRIPTION:Saturday\, March 18\, 2023 \nLeader: Brian Toal – starting at 7 pm \n82 Hopmeadow St (Rt 10)\, Simsbury \nBack of the first parking lot of the Tower Office Park \nSee the unique mating display or “sky dance” of the American Woodcock on a relatively short evening trip. Short distance (0.25 mile).  Lasts about 1 hour after dusk. Must stand still/quiet while waiting for birds. Dress and layer for cold. \nBrian Toal           BrianToal@SBCGlobal.net              860-677-7156
URL:https://www.hartfordaudubon.org/trip-event/woodcocks-at-nod-brook-3-18-2023/
LOCATION:CT
CATEGORIES:Field Trip
ORGANIZER;CN="Brian Toal":MAILTO:briantoal@sbcglobal.net
END:VEVENT
BEGIN:VEVENT
DTSTART;TZID=America/New_York:20230325T083000
DTEND;TZID=America/New_York:20230325T150000
DTSTAMP:20260425T212617
CREATED:20220806T172428Z
LAST-MODIFIED:20230322T154500Z
UID:13918-1679733000-1679756400@www.hartfordaudubon.org
SUMMARY:CANCELED:  Sachuest Point\, RI - 3/25/2023
DESCRIPTION:CANCELED :\nSaturday\, March 25\, 2023\nLeader:  Paul Desjardins – starting at 8:30 am \n769 Sachuest Point Rd\, Middletown\, RI  \nSachuest Point Visitor Center parking lot \nGPS Coordinates 41.479909\, -71.243489 \nIf you are looking for colorful\, easy to see birds\, then Sachuest Point National Wildlife Refuge is the place to be. The refuge is home to the second largest wintering population of harlequin ducks on the Atlantic coast. The harlequins\, named after the clowns they resemble\, can be seen along the refuge’s rocky shoreline between November and March each year. By scanning the coastline\, visitors may also see loons\, eiders\, and gannets. More than 200 bird species visit the refuge seasonally\, and other occasional migrating travelers include the peregrine falcon\, northern harrier\, as well as snowy and short-eared owls. Walking the nearly 3 miles of trails around Sachuest Point offers visitors the opportunity to experience several habitats where interesting animals and plants can be observed and photographed. The refuge includes 40 acres of salt marsh lands and steep rocky shorelines around the perimeter. Most visitors enjoy year-round birdwatching\, and elevated observation platforms along the trails provide unobstructed views of the refuge. A short distance away at Third Beach is our recently restored salt marsh habitat\, a new birding “hotspot” and a favorite of birders and non-birders alike.  Dress Warmly and bring a lunch. \nPaul Desjardins     Paul.Desjardins2@gmail.com      860-623-3696
URL:https://www.hartfordaudubon.org/trip-event/sachuest-point-ri-3-25-2023/
LOCATION:Sachuest Point National Wildlife Refuge\, Hanging Rock Rd.\, Middletown\, RI\, United States
CATEGORIES:Field Trip
ORGANIZER;CN="Paul Desjardins":MAILTO:paul.desjardins2@gmail.com
END:VEVENT
BEGIN:VEVENT
DTSTART;TZID=America/New_York:20230326T080000
DTEND;TZID=America/New_York:20230326T110000
DTSTAMP:20260425T212617
CREATED:20220806T172132Z
LAST-MODIFIED:20230130T172700Z
UID:13914-1679817600-1679828400@www.hartfordaudubon.org
SUMMARY:Silver Sands State Park - 3/26/2023
DESCRIPTION:Sunday\, March 26\, 2023\n \nLeader:  Maggie Peretto starting at 8 am \nSilver Sands State Park\, 1 Silver Sands Pkwy\, Milford \nMeet in main parking lot \nContact Maggie to verify this date.  This is a good trip to try for sea ducks and sparrows while hoping for a Rough-Legged Hawk. Dress warmly. Flat shoreline walk approximately 2 miles for about 3 hours. \n“https://portal.ct.gov/DEEP/State-Parks/Parks/Silver-Sands-State-Park \nSandy beaches\, boardwalks\, seashells\, and shore birds dominate the attraction to Silver Sands’ beaches in Milford.  Over a half mile of shoreline and three quarters of a mile of all-weather boardwalk make this a popular four-season waterfront destination. \nMaggie Peretto        wings.mp@gmail.com 860-604-4903 
URL:https://www.hartfordaudubon.org/trip-event/silver-sands-state-park-3-19-2023/
LOCATION:CT
CATEGORIES:Field Trip
ORGANIZER;CN="Maggie Peretto":MAILTO:wings.mp@gmail.com
END:VEVENT
END:VCALENDAR