BEGIN:VCALENDAR
VERSION:2.0
PRODID:-// - ECPv6.15.20//NONSGML v1.0//EN
CALSCALE:GREGORIAN
METHOD:PUBLISH
X-ORIGINAL-URL:https://www.hartfordaudubon.org
X-WR-CALDESC:Events for 
REFRESH-INTERVAL;VALUE=DURATION:PT1H
X-Robots-Tag:noindex
X-PUBLISHED-TTL:PT1H
BEGIN:VTIMEZONE
TZID:America/New_York
BEGIN:DAYLIGHT
TZOFFSETFROM:-0500
TZOFFSETTO:-0400
TZNAME:EDT
DTSTART:20220313T070000
END:DAYLIGHT
BEGIN:STANDARD
TZOFFSETFROM:-0400
TZOFFSETTO:-0500
TZNAME:EST
DTSTART:20221106T060000
END:STANDARD
BEGIN:DAYLIGHT
TZOFFSETFROM:-0500
TZOFFSETTO:-0400
TZNAME:EDT
DTSTART:20230312T070000
END:DAYLIGHT
BEGIN:STANDARD
TZOFFSETFROM:-0400
TZOFFSETTO:-0500
TZNAME:EST
DTSTART:20231105T060000
END:STANDARD
BEGIN:DAYLIGHT
TZOFFSETFROM:-0500
TZOFFSETTO:-0400
TZNAME:EDT
DTSTART:20240310T070000
END:DAYLIGHT
BEGIN:STANDARD
TZOFFSETFROM:-0400
TZOFFSETTO:-0500
TZNAME:EST
DTSTART:20241103T060000
END:STANDARD
END:VTIMEZONE
BEGIN:VEVENT
DTSTART;TZID=America/New_York:20230603T090000
DTEND;TZID=America/New_York:20230603T110000
DTSTAMP:20260425T165146
CREATED:20220806T183508Z
LAST-MODIFIED:20220814T161515Z
UID:13967-1685782800-1685790000@www.hartfordaudubon.org
SUMMARY:CT State Trail's Day Family Birdwalk\, Elizabeth Park - 6/3/2023
DESCRIPTION:Saturday\, June 3\, 2023 \nLeader: Sarah Faulkner – starting at 9 am \nElizabeth Park\, 1555 Asylum Avenue\, West Hartford \nPark in the parking areas and meet in front of the Pond House Café \nJoin HAS leader and science teacher Sarah Faulkner for a two-hour beginner’s birdwalk for families in this beautiful park.  You’ll be introduced to birdwatching\, learn to find and identify birds\, and learn about apps on your phone that can help.  Children between ages 6-17 are welcome.  We’ll look for birds\, discuss the ecosystems\, and enjoy being in nature. Easy walking\, about 1 mile in total on sidewalks and driveways. Bring binoculars and smart phone if possible\, layered clothing\, sturdy sneakers\, insect repellent\, water and snack.  Leader will have some binoculars to loan to participants. Email leader to pre-register for this walk. \nSarah Faulkner     sffaulkner@comcast.net             860-543-1280
URL:https://www.hartfordaudubon.org/trip-event/ct-state-trails-day-family-birdwalk-elizabeth-park-6-3-2023/
LOCATION:CT
CATEGORIES:Field Trip
END:VEVENT
BEGIN:VEVENT
DTSTART;VALUE=DATE:20230610
DTEND;VALUE=DATE:20230612
DTSTAMP:20260425T165146
CREATED:20220806T183658Z
LAST-MODIFIED:20220809T133912Z
UID:13969-1686355200-1686527999@www.hartfordaudubon.org
SUMMARY:Annual Summer Bird Count - 6/10-11/2023
DESCRIPTION:Bird Count Circle \n7.5-mile radius from Old State House \nJoin Hartford Audubon members as we participate in the  annual Summer Bird Count. Species and numbers are counted on this two-day tally within our Christmas Count circle. Bird one day or both and help collect breeding bird data and track species trends for Connecticut. Bird for an hour or bird all weekend. \nJay Kaplan                 jaybrd49@aol.com                      860-693-0157 \n                                                                                              860-707-5246 T
URL:https://www.hartfordaudubon.org/trip-event/annual-summer-bird-count-6-10-11-2023/
LOCATION:CT
CATEGORIES:Club Event,Field Trip
ORGANIZER;CN="Jay Kaplan":MAILTO:jaybrd49@aol.com
END:VEVENT
BEGIN:VEVENT
DTSTART;TZID=America/New_York:20230617T070000
DTEND;TZID=America/New_York:20230617T100000
DTSTAMP:20260425T165146
CREATED:20220806T183923Z
LAST-MODIFIED:20230617T101528Z
UID:13971-1686985200-1686996000@www.hartfordaudubon.org
SUMMARY:CANCELLED DUE TO WEATHER:  Northwest Park - 6/17/2023
DESCRIPTION:CANCELLED DUE TO WEATHER \nLeader: Paul Cianfaglione   starting at 7 am \n145 Lang Rd\, Windsor \nMeet in main parking lot \nA 2 to 3 hour leisurely stroll through grass and shrubland habitat as we search for Indigo Buntings\, Field Sparrows\, Orchard Orioles and other uncommon nesting species. Easy walking. \nPaul Cianfaglione     pgcianfaglione@gmail.com    860-836-3443
URL:https://www.hartfordaudubon.org/trip-event/northwest-park-6-10-2023/
LOCATION:Northwest Park\, 145 Lang Rd.\, Windsor\, CT\, 06095\, United States
CATEGORIES:Field Trip
ORGANIZER;CN="Paul Cianfaglione":MAILTO:pgcianfaglione@gmail.com
END:VEVENT
END:VCALENDAR