BEGIN:VCALENDAR
VERSION:2.0
PRODID:-// - ECPv6.15.20//NONSGML v1.0//EN
CALSCALE:GREGORIAN
METHOD:PUBLISH
X-ORIGINAL-URL:https://www.hartfordaudubon.org
X-WR-CALDESC:Events for 
REFRESH-INTERVAL;VALUE=DURATION:PT1H
X-Robots-Tag:noindex
X-PUBLISHED-TTL:PT1H
BEGIN:VTIMEZONE
TZID:America/New_York
BEGIN:DAYLIGHT
TZOFFSETFROM:-0500
TZOFFSETTO:-0400
TZNAME:EDT
DTSTART:20220313T070000
END:DAYLIGHT
BEGIN:STANDARD
TZOFFSETFROM:-0400
TZOFFSETTO:-0500
TZNAME:EST
DTSTART:20221106T060000
END:STANDARD
BEGIN:DAYLIGHT
TZOFFSETFROM:-0500
TZOFFSETTO:-0400
TZNAME:EDT
DTSTART:20230312T070000
END:DAYLIGHT
BEGIN:STANDARD
TZOFFSETFROM:-0400
TZOFFSETTO:-0500
TZNAME:EST
DTSTART:20231105T060000
END:STANDARD
BEGIN:DAYLIGHT
TZOFFSETFROM:-0500
TZOFFSETTO:-0400
TZNAME:EDT
DTSTART:20240310T070000
END:DAYLIGHT
BEGIN:STANDARD
TZOFFSETFROM:-0400
TZOFFSETTO:-0500
TZNAME:EST
DTSTART:20241103T060000
END:STANDARD
END:VTIMEZONE
BEGIN:VEVENT
DTSTART;TZID=America/New_York:20231209T160000
DTEND;TZID=America/New_York:20231209T170000
DTSTAMP:20260425T074114
CREATED:20230726T133304Z
LAST-MODIFIED:20230802T144511Z
UID:14535-1702137600-1702141200@www.hartfordaudubon.org
SUMMARY:Hartford Crow Roost - Bird Experience - Saturday - 12/9/2023
DESCRIPTION:4 pm – 5 pm \nWal-mart Supercenter (also called Charter Oak Marketplace) Parking Lot \n495 Flatbush Ave\, Hartford – Park in the row of spaces closest to Newfield Ave\, \njust NW of the NW corner of the Wal-mart Store \nWatching thousands of crows return to their nightly roost is an exciting winter time event.  We’re never sure where the roost will be each night\, but it’s been near here the last several years.  If we can’t see the incoming crows from where we parked\, we will car pool from there.  If the roost is far away in the weeks before Dec. 9\, I’ll update the meeting place using AllHAS.  Dress quite warmly (including warm footwear): we will mostly be standing in one place.  This will probably last about an hour.  Trip will be cancelled or rescheduled if snow or rain is falling or the weather is otherwise dangerous; call to ask if the weather seems borderline. \nSylvia Halkin            halkin@ccsu.edu                860-985-7343 T
URL:https://www.hartfordaudubon.org/trip-event/hartford-crow-roost-bird-experience-saturday-12-9-2023/
LOCATION:CT
CATEGORIES:Field Trip
END:VEVENT
END:VCALENDAR