BEGIN:VCALENDAR
VERSION:2.0
PRODID:-// - ECPv6.15.20//NONSGML v1.0//EN
CALSCALE:GREGORIAN
METHOD:PUBLISH
X-ORIGINAL-URL:https://www.hartfordaudubon.org
X-WR-CALDESC:Events for 
REFRESH-INTERVAL;VALUE=DURATION:PT1H
X-Robots-Tag:noindex
X-PUBLISHED-TTL:PT1H
BEGIN:VTIMEZONE
TZID:America/New_York
BEGIN:DAYLIGHT
TZOFFSETFROM:-0500
TZOFFSETTO:-0400
TZNAME:EDT
DTSTART:20230312T070000
END:DAYLIGHT
BEGIN:STANDARD
TZOFFSETFROM:-0400
TZOFFSETTO:-0500
TZNAME:EST
DTSTART:20231105T060000
END:STANDARD
BEGIN:DAYLIGHT
TZOFFSETFROM:-0500
TZOFFSETTO:-0400
TZNAME:EDT
DTSTART:20240310T070000
END:DAYLIGHT
BEGIN:STANDARD
TZOFFSETFROM:-0400
TZOFFSETTO:-0500
TZNAME:EST
DTSTART:20241103T060000
END:STANDARD
BEGIN:DAYLIGHT
TZOFFSETFROM:-0500
TZOFFSETTO:-0400
TZNAME:EDT
DTSTART:20250309T070000
END:DAYLIGHT
BEGIN:STANDARD
TZOFFSETFROM:-0400
TZOFFSETTO:-0500
TZNAME:EST
DTSTART:20251102T060000
END:STANDARD
END:VTIMEZONE
BEGIN:VEVENT
DTSTART;TZID=America/New_York:20240601T070000
DTEND;TZID=America/New_York:20240601T100000
DTSTAMP:20260424T222614
CREATED:20230731T162956Z
LAST-MODIFIED:20230802T123312Z
UID:14603-1717225200-1717236000@www.hartfordaudubon.org
SUMMARY:Station 43 Wetland Birds - Bird Walk - Saturday 6/1/2024
DESCRIPTION:7 am – 9-10 am  \n990 Main St\, South Windsor \nCorner of Newberry Rd and Main St \nPark along road near intersection. \nA bird walk which focuses on wetland nesting species. We have a chance to see Least Bitterns\, Virginia Rails and Marsh Wrens.   Knee high waterproof boots and bug spray is recommended. Mostly easy walking but some very wet areas.  2-3 hours. \nPaul Cianfaglione     pgcianfaglione@gmail.com    860-836-3443 T
URL:https://www.hartfordaudubon.org/trip-event/station-43-wetland-birds-bird-walk-saturday-6-1-2024/
LOCATION:S Windsor\, 990 Main St.\, South Windsor\, CT\, 06074\, United States
CATEGORIES:Field Trip
ORGANIZER;CN="Paul Cianfaglione":MAILTO:pgcianfaglione@gmail.com
END:VEVENT
BEGIN:VEVENT
DTSTART;TZID=America/New_York:20240602T080000
DTEND;TZID=America/New_York:20240602T100000
DTSTAMP:20260424T222614
CREATED:20230731T163643Z
LAST-MODIFIED:20240504T160131Z
UID:14607-1717315200-1717322400@www.hartfordaudubon.org
SUMMARY:CT State Trail's Day Family Bird Walk - Time/Location change - 7:30 Sunday 6/2/2024
DESCRIPTION:CT State Trails Day Family Bird walk — TIME AND LOCATION CHANGE: 7:30 am\, Sunday\, June 2\, Sun\, Wind and Woodlands Preserve\, Canton.  \n\nJoin HAS leader and science teacher Sarah Faulkner for a 1-2 hour beginner’s birdwalk for families on the Canton Land Trust’s beautiful Sun\, Wind\, and Woodlands Preserve. You’ll be introduced to birdwatching\, learn to find and identify birds\, and learn about apps on your phone to help you recognize birds. We’ll look for birds\, discuss the ecosystems\, and enjoy being in nature. Slow walking with some uneven footing (stepping over branches in places)\, about 1 mile in total. Bring binoculars\, smart phone if possible\, sturdy sneakers\, insect repellent\, water\, and snack. Children ages 6 and older are welcome. Leader will have some binoculars to loan to participants if needed. Email leader to register. Please load the apps “Merlin” and “eBird” before coming.  Both are free from Cornell Lab of Ornithology. The hike is also being offered also to the Canton Land Trust.\n\nQuestions and to register: Email sffaulkner@comcast.net.  Limited to 20 participants.\n\nDirections: Sun\, Wind\, and Woodlands Preserve\, 200 Breezy Hill Road\, Canton. From Route 44\, turn onto Indian Hill Road and follow to its end. Turn right onto Breezy Hill Road\, and follow it about a half-mile\, just past Breezy Hill Farm. Park in the unpaved parking lot on the left – look for the land trust sign. In Google maps\, search for Sun\, Wind and Woodland parking
URL:https://www.hartfordaudubon.org/trip-event/ct-state-trails-day-family-bird-walk-greenstone-hollow-sunday-6-1-2024/
LOCATION:CT
CATEGORIES:Field Trip
END:VEVENT
BEGIN:VEVENT
DTSTART;TZID=America/New_York:20240608T080000
DTEND;TZID=America/New_York:20240608T100000
DTSTAMP:20260424T222614
CREATED:20230731T164330Z
LAST-MODIFIED:20240628T131428Z
UID:14611-1717833600-1717840800@www.hartfordaudubon.org
SUMMARY:Reservoir # 3\, Bloomfield - Bird Walk - Saturday - 6/8/2024
DESCRIPTION:8 am – 10 am \n298 Tunxis Ave\, Bloomfield\, CT 06002 \nMeet at first parking lot. \nThis area has is easily accessible and has a wide variety of habitats within a short distance.  We are likely to find Bobolinks nesting in the fields and Great Blue Herons nesting in their rookery at the back of a swamp along with a variety of other summer resident birds.  The area encompasses low fields\, tall grass fields\, marsh\, shrub habitat and forest habitat\, all from an easily walkable road.  Wear long pants and bug spray for tick protection.  We will walk about 1-1/2 miles over level solid terrain. \nChris Fisher            ChrisF001@aol.com              860-967-5976 T \nJim Watso             jcwphotos@cox.net                860-519-8306 T \ntrip report
URL:https://www.hartfordaudubon.org/trip-event/reservoir-3-bloomfield-bird-walk-saturday-6-8-2024/
LOCATION:CT
CATEGORIES:Field Trip
END:VEVENT
END:VCALENDAR