BEGIN:VCALENDAR
VERSION:2.0
PRODID:-// - ECPv6.15.20//NONSGML v1.0//EN
CALSCALE:GREGORIAN
METHOD:PUBLISH
X-ORIGINAL-URL:https://www.hartfordaudubon.org
X-WR-CALDESC:Events for 
REFRESH-INTERVAL;VALUE=DURATION:PT1H
X-Robots-Tag:noindex
X-PUBLISHED-TTL:PT1H
BEGIN:VTIMEZONE
TZID:America/New_York
BEGIN:DAYLIGHT
TZOFFSETFROM:-0500
TZOFFSETTO:-0400
TZNAME:EDT
DTSTART:20230312T070000
END:DAYLIGHT
BEGIN:STANDARD
TZOFFSETFROM:-0400
TZOFFSETTO:-0500
TZNAME:EST
DTSTART:20231105T060000
END:STANDARD
BEGIN:DAYLIGHT
TZOFFSETFROM:-0500
TZOFFSETTO:-0400
TZNAME:EDT
DTSTART:20240310T070000
END:DAYLIGHT
BEGIN:STANDARD
TZOFFSETFROM:-0400
TZOFFSETTO:-0500
TZNAME:EST
DTSTART:20241103T060000
END:STANDARD
BEGIN:DAYLIGHT
TZOFFSETFROM:-0500
TZOFFSETTO:-0400
TZNAME:EDT
DTSTART:20250309T070000
END:DAYLIGHT
BEGIN:STANDARD
TZOFFSETFROM:-0400
TZOFFSETTO:-0500
TZNAME:EST
DTSTART:20251102T060000
END:STANDARD
END:VTIMEZONE
BEGIN:VEVENT
DTSTART;TZID=America/New_York:20241207T160000
DTEND;TZID=America/New_York:20241207T170000
DTSTAMP:20260424T131747
CREATED:20240905T152057Z
LAST-MODIFIED:20241203T132436Z
UID:15360-1733587200-1733590800@www.hartfordaudubon.org
SUMMARY:Hartford Crow Roost - December 7\, 2024 - 4 pm - Change in meeting location for Hartford Crow Roost trip: update will be sent Friday evening\, Dec. 6!
DESCRIPTION:Change in meeting location for Hartford Crow Roost trip: update will be sent Friday evening\, Dec. 6!\n\n\nDear people thinking of joining us on Saturday\, Dec. 7\, to observe crows flying into the Hartford roost\, \nDuring the past week the crows have been roosting about half a mile north of where they were last year\, so we should meet to observe them at a location closer to where they will be!  I will track down the roost on Friday evening\, Dec. 6\, in case the crows have moved again\, and then will send another ALLHAS e-mail to let you know where we should meet!  Likely we will meet at the southeast corner of the very large parking lot that surrounds Apple Cinemas\, on the east side of New Park Ave\, but not if the crows have gone elsewhere on Friday\, so please check your e-mail again Friday evening or Saturday morning for the update. \nI am looking forward to our expedition!   Please call me with any questions. \nSylvia Halkin \n(860) 985-7343
URL:https://www.hartfordaudubon.org/trip-event/hartford-crow-roost-december-7-2024-4-pm/
LOCATION:CT
CATEGORIES:Field Trip
ORGANIZER;CN="Hartford Audubon Society":MAILTO:info@hartfordaudubon.org
END:VEVENT
END:VCALENDAR