BEGIN:VCALENDAR
VERSION:2.0
PRODID:-// - ECPv6.15.20//NONSGML v1.0//EN
CALSCALE:GREGORIAN
METHOD:PUBLISH
X-ORIGINAL-URL:https://www.hartfordaudubon.org
X-WR-CALDESC:Events for 
REFRESH-INTERVAL;VALUE=DURATION:PT1H
X-Robots-Tag:noindex
X-PUBLISHED-TTL:PT1H
BEGIN:VTIMEZONE
TZID:America/New_York
BEGIN:DAYLIGHT
TZOFFSETFROM:-0500
TZOFFSETTO:-0400
TZNAME:EDT
DTSTART:20240310T070000
END:DAYLIGHT
BEGIN:STANDARD
TZOFFSETFROM:-0400
TZOFFSETTO:-0500
TZNAME:EST
DTSTART:20241103T060000
END:STANDARD
BEGIN:DAYLIGHT
TZOFFSETFROM:-0500
TZOFFSETTO:-0400
TZNAME:EDT
DTSTART:20250309T070000
END:DAYLIGHT
BEGIN:STANDARD
TZOFFSETFROM:-0400
TZOFFSETTO:-0500
TZNAME:EST
DTSTART:20251102T060000
END:STANDARD
BEGIN:DAYLIGHT
TZOFFSETFROM:-0500
TZOFFSETTO:-0400
TZNAME:EDT
DTSTART:20260308T070000
END:DAYLIGHT
BEGIN:STANDARD
TZOFFSETFROM:-0400
TZOFFSETTO:-0500
TZNAME:EST
DTSTART:20261101T060000
END:STANDARD
END:VTIMEZONE
BEGIN:VEVENT
DTSTART;TZID=America/New_York:20250104T090000
DTEND;TZID=America/New_York:20250104T110000
DTSTAMP:20260424T115013
CREATED:20240905T155224Z
LAST-MODIFIED:20240905T155410Z
UID:15370-1735981200-1735988400@www.hartfordaudubon.org
SUMMARY:Station 43 Beginners Bird Walk #2 - January 4\, 2025
DESCRIPTION:Jan 4 Station 43 Beginners Bird Walk #2 Sat 9 am953 Main St\, South Windsor Corner of Newberry Rd and Main St \nPark along road near intersection. \nThe second of four morning walks designed for beginners atHartford Audubon’s oldest sanctuary. Station 43 is an excellentbirding area year–round and on each walk we will look for seasonalbirds. The walk is roughly 2.5 miles (3 hours) long over flat terrainbut we may encounter areas with water/ice covering parts of thepath. Waterproof boots suggested. \nContact Jon Ward jward88787@aol.com 860–416–3958 T
URL:https://www.hartfordaudubon.org/trip-event/station-43-beginners-bird-walk-2-january-4-2025/
LOCATION:CT
CATEGORIES:Field Trip
ORGANIZER;CN="Hartford Audubon Society":MAILTO:info@hartfordaudubon.org
END:VEVENT
BEGIN:VEVENT
DTSTART;VALUE=DATE:20250118
DTEND;VALUE=DATE:20250120
DTSTAMP:20260424T115013
CREATED:20240905T160824Z
LAST-MODIFIED:20240905T160824Z
UID:15377-1737158400-1737331199@www.hartfordaudubon.org
SUMMARY:Cape Ann & Newburyport\, MA - January 18-19\, 2025
DESCRIPTION:Jan 18-19\, 2025 – Cape Ann & Newburyport\, MA Sat 2 days\nContact Fran or Wendy at least one week in advance for detailsBarrow’s Goldeneye\, Snowy Owl\, alcids\, sea ducks\, and northernrarities are the targets of this perennial favorite trip. Be preparedfor severe cold and windy weather and hope for moderate temps.Contact leader for motel (to get the reduced rate) and meeting time.\nFrances D’Amico frandamico525@yahoo.com 203–715–6313 TWendy Parsons flowers76@sbcglobal.net 860–471–3700 T
URL:https://www.hartfordaudubon.org/trip-event/cape-ann-newburyport-ma-january-18-19-2025/
LOCATION:Cape Ann & Newburyport\, MA\, Cape Ann\, Rockport\, MA\, United States
CATEGORIES:Field Trip
ORGANIZER;CN="Hartford Audubon Society":MAILTO:info@hartfordaudubon.org
END:VEVENT
BEGIN:VEVENT
DTSTART;TZID=America/New_York:20250125T073000
DTEND;TZID=America/New_York:20250125T110000
DTSTAMP:20260424T115013
CREATED:20240905T161347Z
LAST-MODIFIED:20240905T161347Z
UID:15379-1737790200-1737802800@www.hartfordaudubon.org
SUMMARY:Hartford County Boat Launch Tour - January 25\, 2025
DESCRIPTION:Jan 25 Hartford County Boat Launch TourSat 7:30 am12 South River St\, EnfieldDonald Barnes Boat Launch \nThis is a morning tour of eight area boat launches\, from Enfield toRocky Hill. It will last until approximately 11am. Dress warmlyand bring a scope if you like. Bad weather may cancel the trip. \nPaul Cianfaglione pgcianfaglione@gmail.com 860–836–3443 TAl Gatti algatti22@gmail.com 860–916–7142 T
URL:https://www.hartfordaudubon.org/trip-event/hartford-county-boat-launch-tour-january-25-2025/
LOCATION:Donald Barnes Boat Launch\, 1 S River St.\, Enfield\, CT\, 06082\, United States
CATEGORIES:Field Trip
ORGANIZER;CN="Hartford Audubon Society":MAILTO:info@hartfordaudubon.org
END:VEVENT
END:VCALENDAR