BEGIN:VCALENDAR
VERSION:2.0
PRODID:-// - ECPv6.15.20//NONSGML v1.0//EN
CALSCALE:GREGORIAN
METHOD:PUBLISH
X-ORIGINAL-URL:https://www.hartfordaudubon.org
X-WR-CALDESC:Events for 
REFRESH-INTERVAL;VALUE=DURATION:PT1H
X-Robots-Tag:noindex
X-PUBLISHED-TTL:PT1H
BEGIN:VTIMEZONE
TZID:America/New_York
BEGIN:DAYLIGHT
TZOFFSETFROM:-0500
TZOFFSETTO:-0400
TZNAME:EDT
DTSTART:20240310T070000
END:DAYLIGHT
BEGIN:STANDARD
TZOFFSETFROM:-0400
TZOFFSETTO:-0500
TZNAME:EST
DTSTART:20241103T060000
END:STANDARD
BEGIN:DAYLIGHT
TZOFFSETFROM:-0500
TZOFFSETTO:-0400
TZNAME:EDT
DTSTART:20250309T070000
END:DAYLIGHT
BEGIN:STANDARD
TZOFFSETFROM:-0400
TZOFFSETTO:-0500
TZNAME:EST
DTSTART:20251102T060000
END:STANDARD
BEGIN:DAYLIGHT
TZOFFSETFROM:-0500
TZOFFSETTO:-0400
TZNAME:EDT
DTSTART:20260308T070000
END:DAYLIGHT
BEGIN:STANDARD
TZOFFSETFROM:-0400
TZOFFSETTO:-0500
TZNAME:EST
DTSTART:20261101T060000
END:STANDARD
END:VTIMEZONE
BEGIN:VEVENT
DTSTART;TZID=America/New_York:20250903T083000
DTEND;TZID=America/New_York:20250903T113000
DTSTAMP:20260421T214002
CREATED:20250728T153538Z
LAST-MODIFIED:20250728T153538Z
UID:15726-1756888200-1756899000@www.hartfordaudubon.org
SUMMARY:Hilltop Farm Bird Walk - September 3\, 2025
DESCRIPTION:Sep 3 Hilltop Farm Wed 8:30 am1616 Mapleton Ave\, Suffield\, CTEnter at Work Day Sign Entrance\nPark near the red barn. Additional parking signs will be posted.On this 7.9–acre historic homestead and adjacent town–owned openspace we will view an eagles’ nest from a boardwalk surroundedby newly planted native species purchased with a HAS grant.Stroll by the Connecticut River\, an inland pond\, and theCommunity Garden plots. The Bird Garden\, also enhanced withHAS grant funds\, provides a place to sit and relax while enjoyingbluebirds\, wrens\, hummingbirds\, and butterflies.\n\nWe will be walking on 2 miles of hilly farm road and well–establishedwoodland trails.\n\n3 hours\nJoan & Tom Heffernan – joanheffernan@gmail.com 860–983–5158 T
URL:https://www.hartfordaudubon.org/trip-event/hilltop-farm-bird-walk-september-3-2025/
LOCATION:CT
CATEGORIES:Field Trip
ORGANIZER;CN="Hartford Audubon Society":MAILTO:info@hartfordaudubon.org
END:VEVENT
BEGIN:VEVENT
DTSTART;TZID=America/New_York:20250906T080000
DTEND;TZID=America/New_York:20250906T110000
DTSTAMP:20260421T214002
CREATED:20250728T153933Z
LAST-MODIFIED:20250728T153933Z
UID:15728-1757145600-1757156400@www.hartfordaudubon.org
SUMMARY:Great Pond Simsbury Bird Walk - September 6\, 2025
DESCRIPTION:Sep 6 Great Pond\, Simsbury Sat 8 am156 Great Pond Rd\, SimsburyBetween Laurel Ln and Old Farms RdMeet in parking lot at end of entrance dirt road \nAn easy walk over a newly widened road leads to Great Pondwhere we will see waterfowl\, shorebirds\, migrating warblers andthe many types of birds that call this area home.  \nUsually lasts about 3 hrs\, but one can leave at any time. Maximum distance is 1.5miles. Bring a spotting scope if you have one. \nJon Ward – jward88787@aol.com  – 860–416–3958 T
URL:https://www.hartfordaudubon.org/trip-event/great-pond-simsbury-bird-walk-september-6-2025/
LOCATION:CT
CATEGORIES:Field Trip
ORGANIZER;CN="Hartford Audubon Society":MAILTO:info@hartfordaudubon.org
END:VEVENT
BEGIN:VEVENT
DTSTART;TZID=America/New_York:20250910T080000
DTEND;TZID=America/New_York:20250910T100000
DTSTAMP:20260421T214002
CREATED:20250728T162741Z
LAST-MODIFIED:20250728T162832Z
UID:15732-1757491200-1757498400@www.hartfordaudubon.org
SUMMARY:Glastonbury - Great Pond - Bird Walk - September 10\, 2025
DESCRIPTION:Sep 10 Glastonbury Great Pond Wed 8 am\nEntrance is just beyond 451 Great Pond Rd\, Glastonbury\, on leftFrom Rt. 17 – use south entrance to Great Pond Rd anddrive in 0.2 mi. Park on south side away from hydrants.\nExpect common CT birds as well as migrants. Habitat varies:woodland\, water\, shrub and field. Count on chickadee\, nuthatch\,jay\, cardinal\, wren and migrants as well. Many hawk\, duck andsparrow species. There are always some surprises. 2.5 mile walk.Hilly terrain. Bring bug spray and sturdy shoes.\n\nAnnette Pasek apasek@cox.net 860–490–8357 T
URL:https://www.hartfordaudubon.org/trip-event/glastonbury-great-pond-bird-walk-september-10-2025/
LOCATION:CT
CATEGORIES:Field Trip
ORGANIZER;CN="Hartford Audubon Society":MAILTO:info@hartfordaudubon.org
END:VEVENT
BEGIN:VEVENT
DTSTART;TZID=America/New_York:20250913T080000
DTEND;TZID=America/New_York:20250913T100000
DTSTAMP:20260421T214002
CREATED:20250729T123150Z
LAST-MODIFIED:20250729T123150Z
UID:15735-1757750400-1757757600@www.hartfordaudubon.org
SUMMARY:Fannie Stebbins Wildlife Refuge - Bird Walk - September 13\, 2025
DESCRIPTION:Sep 13 Fannie Stebbins Wildlife Refuge Sat 8 am202 Bark Haul Rd\, Longmeadow\, MA\nPark by sign at the end of the road. \nA wonderful mix of ponds\, swamps\, woods\, and fields\, FannieStebbins has ideal habitat for a wide variety of birds. The loop trailwe will take is 2.2 miles long and brings us along or through all ofthe habitats. This is an easy walk\, although it may be wet or muddyin places. Bring bug spray. \nJon Ward jward88787@aol.com 860–416–3958 T
URL:https://www.hartfordaudubon.org/trip-event/fannie-stebbins-wildlife-refuge-bird-walk-september-13-2025/
LOCATION:CT
CATEGORIES:Field Trip
ORGANIZER;CN="Hartford Audubon Society":MAILTO:info@hartfordaudubon.org
END:VEVENT
BEGIN:VEVENT
DTSTART;TZID=America/New_York:20250914T080000
DTEND;TZID=America/New_York:20250914T103000
DTSTAMP:20260421T214002
CREATED:20250729T123452Z
LAST-MODIFIED:20250729T123709Z
UID:15737-1757836800-1757845800@www.hartfordaudubon.org
SUMMARY:Keney Park - Bird Walk - September 14\, 2025
DESCRIPTION:Sep 14 Keney Park – Hartford’s Jewel Sun 8:00 am244 Greenfield St. Parking\, Hartford \nThat address should take you to the parking lot where we meet. \nThis walk is flat and easy walking on both paved and wooded trails.We hope to see Eastern Bluebirds\, fall warblers and others as weenjoy this hidden jewel of a park. The walk will last 2 to 2–1/2hours\, depending on what we find. Great for beginners\, but alwaysgood for seasoned veterans. Dress appropriately for the weatherand use bug spray. \nAnnette Pasek apasek@cox.net 860–490–8357 TAl Gatti algatti22@gmail.com 860–916–7142 T
URL:https://www.hartfordaudubon.org/trip-event/keney-park-bird-walk-september-14-2025/
LOCATION:CT
CATEGORIES:Field Trip
ORGANIZER;CN="Hartford Audubon Society":MAILTO:info@hartfordaudubon.org
END:VEVENT
BEGIN:VEVENT
DTSTART;TZID=America/New_York:20250917T080000
DTEND;TZID=America/New_York:20250917T170000
DTSTAMP:20260421T214002
CREATED:20250729T124149Z
LAST-MODIFIED:20250729T124803Z
UID:15740-1758096000-1758128400@www.hartfordaudubon.org
SUMMARY:Paul Carrier Hawk Watch - September 17\, 19\, 20\, 2025
DESCRIPTION:Sep 17\,19\,20 Paul Carrier Hawk Watch 3 days\nWednesday\, Friday and Saturday\nBooth Hill\, CT Rt 20\, West HartlandFrom Granby center follow Rt 20 west for 14.8 miles\nPark on side of road and walk south less than 100 feet\nWhile we are planning for the 3 dates listed above\, we will use theAllHAS e–mail to announce any changes based on weather andactual migration patterns. View Broad–winged Hawks at the peakof their migration through Connecticut. Bring a chair\, binoculars\,food and drink\, and spend as long as you want – all day or untilthe hawks stop. Scopes are helpful if you have one. \n\nYou can download Paul’s hawk silhouette guide free at:http://www.battaly.com/nehw/carrier_guide/carrier_guide_2008.pdf\n\nJoan Lupacchino Joanlup6@yahoo.com 860–649–1157 TRich Nieman Ren180@comcast.net
URL:https://www.hartfordaudubon.org/trip-event/paul-carrier-hawk-watch-september-17-19-20-2025/
LOCATION:CT
CATEGORIES:Field Trip
ORGANIZER;CN="Hartford Audubon Society":MAILTO:info@hartfordaudubon.org
END:VEVENT
BEGIN:VEVENT
DTSTART;TZID=America/New_York:20250918T150000
DTEND;TZID=America/New_York:20250918T190000
DTSTAMP:20260421T214002
CREATED:20250729T125124Z
LAST-MODIFIED:20250729T125124Z
UID:15743-1758207600-1758222000@www.hartfordaudubon.org
SUMMARY:Cruisin' with Birds and Brews - September 18\, 2025
DESCRIPTION:Sep 18 Cruisin’ with Birds & Brews Thu 3 pm \nUse 202 Ferry Lane\, South Glastonbury\, CT for a GPS addressDrive past house at 202 to the end of lane\, park in lot on left.Birds\, Old Cars and Beverages – non–alcoholic and alcoholic! \nStarting at the Connecticut River\, easy observations from the picnicarea for common birds\, woodpeckers and gulls\, ducks are likelytoo! Migration may bring some surprises. The big question iswhen will a Sandhill Crane be spotted in the farm fields? Flatterrain\, easy birding. The walk ends around the corner at “Hopson the Hill Brewery”\, 275 Dug Rd\, where Thursday evenings theyhost a Car Cruise Night!  \nBring a lawn chair and check HAS websitefor additional details. \nAnnette Pasek apasek@cox.net 860–490–8357 T
URL:https://www.hartfordaudubon.org/trip-event/cruisin-with-birds-and-brews-september-18-2025/
LOCATION:CT
CATEGORIES:Field Trip
ORGANIZER;CN="Hartford Audubon Society":MAILTO:info@hartfordaudubon.org
END:VEVENT
BEGIN:VEVENT
DTSTART;TZID=America/New_York:20250920T073000
DTEND;TZID=America/New_York:20250920T103000
DTSTAMP:20260421T214002
CREATED:20250729T125423Z
LAST-MODIFIED:20250729T125423Z
UID:15745-1758353400-1758364200@www.hartfordaudubon.org
SUMMARY:Rocky Hill Meadows - Bird Walk - September 20\, 2025
DESCRIPTION:Sep 20 Rocky Hill Meadows Sat 7:30 am311 Meadow Rd\, Rocky Hill \nPark in the lot along the road just past the big boat launch lot.A three–hour leisurely bird walk primarily focused on southboundshorebirds. Be advised\, the weather and habitat conditions on tripdate will greatly affect the comings and goings of bird species.American Golden–Plover and Buff–breasted Sandpiper arepossible. This will be easy walking. \nPaul Cianfaglione pgcianfaglione@gmail.com 860–836–3443 T
URL:https://www.hartfordaudubon.org/trip-event/rocky-hill-meadows-bird-walk-september-20-2025/
LOCATION:CT
CATEGORIES:Field Trip
ORGANIZER;CN="Hartford Audubon Society":MAILTO:info@hartfordaudubon.org
END:VEVENT
BEGIN:VEVENT
DTSTART;TZID=America/New_York:20250920T080000
DTEND;TZID=America/New_York:20250920T110000
DTSTAMP:20260421T214002
CREATED:20250729T130203Z
LAST-MODIFIED:20250729T130203Z
UID:15747-1758355200-1758366000@www.hartfordaudubon.org
SUMMARY:Station 43 Beginner's Bird Walk - September 20\, 2025
DESCRIPTION:Sep 20 Station 43 Beginners Bird Walk #1 Sat 8 am953 Main St\, South WindsorCorner of Newberry Rd and Main StPark along road near intersection. \nThe first of four morning walks designed for beginners at HartfordAudubon’s oldest sanctuary. Station 43 is an excellent birding areayear–round and on each walk we will look for seasonal birds. Thewalk is roughly 2.5 miles (3 hours) long over flat terrain but wemay encounter muddy areas and water covering parts of the path.Bring spotting scope if you have one. High\, water–proof boots andinsect repellent are suggested. \nJon Ward jward88787@aol.com 860–416–3958 T
URL:https://www.hartfordaudubon.org/trip-event/station-43-beginners-bird-walk-september-20-2025/
LOCATION:CT
CATEGORIES:Field Trip
ORGANIZER;CN="Hartford Audubon Society":MAILTO:info@hartfordaudubon.org
END:VEVENT
BEGIN:VEVENT
DTSTART;TZID=America/New_York:20250927T070000
DTEND;TZID=America/New_York:20250927T120000
DTSTAMP:20260421T214002
CREATED:20250729T130742Z
LAST-MODIFIED:20250729T130742Z
UID:15751-1758956400-1758974400@www.hartfordaudubon.org
SUMMARY:Glastonbury Meadows Bird Walk - September 27\, 2025
DESCRIPTION:Sep 27 Glastonbury Meadows Sat 7 amBehind Glastonbury Town Hall\, 2155 Main StreetNear the Water Treatment Plant \nLIMITED TO 10 PARTICIPANTS – MUST PRE–REGISTER \nJoin us for a 4–5 mile morning walk through one of the best birdinglocations in Hartford County\, which includes a marsh\, farmlandwith weedy growth\, and bordering trees. The terrain consists of dirtroads and farmland\, which can be moderately difficult at times. Itcan be wet in spots with any recent rainfall. Ankle–size boots\, longpants and bug spray are recommended. We typically end the walkby late morning or early afternoon depending on bird activity;however\, you can leave early. \nBill Asteriades bill.asteriades@gmail.com 860–690–1152 TAndrew Dasinger amdasinger@gmail.com 860 652–5925 T
URL:https://www.hartfordaudubon.org/trip-event/glastonbury-meadows-bird-walk-september-27-2025/
LOCATION:Glastonbury Meadows\, 1918 Main St/\, Glastonbury\, CT\, 06033\, United States
CATEGORIES:Field Trip
ORGANIZER;CN="Hartford Audubon Society":MAILTO:info@hartfordaudubon.org
END:VEVENT
BEGIN:VEVENT
DTSTART;TZID=America/New_York:20250927T080000
DTEND;TZID=America/New_York:20250927T100000
DTSTAMP:20260421T214002
CREATED:20250729T130452Z
LAST-MODIFIED:20250729T130452Z
UID:15749-1758960000-1758967200@www.hartfordaudubon.org
SUMMARY:Greenstone Hollow - Bird Walk - September 27\, 2025
DESCRIPTION:Sep 27 Greenstone Hollow Sat 8 am31 Ridge Blvd\, East Granby – Park on north side of road \nAll are welcome on this exploration of our Greenstone HollowNature Preserve. Woodland\, water and shrub meadow habitats willhopefully provide 20–40 species during the Fall migration. About1.5 miles of easy walking for up to 2 hours. Can leave at any time.Wear waterproof footgear if it has rained recently. \nChris&Diane Fisher ChrisF001@aol.com  860–967–5976 T
URL:https://www.hartfordaudubon.org/trip-event/greenstone-hollow-bird-walk-september-27-2025/
LOCATION:CT
CATEGORIES:Field Trip
ORGANIZER;CN="Hartford Audubon Society":MAILTO:info@hartfordaudubon.org
END:VEVENT
END:VCALENDAR