BEGIN:VCALENDAR
VERSION:2.0
PRODID:-// - ECPv6.15.20//NONSGML v1.0//EN
CALSCALE:GREGORIAN
METHOD:PUBLISH
X-ORIGINAL-URL:https://www.hartfordaudubon.org
X-WR-CALDESC:Events for 
REFRESH-INTERVAL;VALUE=DURATION:PT1H
X-Robots-Tag:noindex
X-PUBLISHED-TTL:PT1H
BEGIN:VTIMEZONE
TZID:America/New_York
BEGIN:DAYLIGHT
TZOFFSETFROM:-0500
TZOFFSETTO:-0400
TZNAME:EDT
DTSTART:20180311T070000
END:DAYLIGHT
BEGIN:STANDARD
TZOFFSETFROM:-0400
TZOFFSETTO:-0500
TZNAME:EST
DTSTART:20181104T060000
END:STANDARD
BEGIN:DAYLIGHT
TZOFFSETFROM:-0500
TZOFFSETTO:-0400
TZNAME:EDT
DTSTART:20190310T070000
END:DAYLIGHT
BEGIN:STANDARD
TZOFFSETFROM:-0400
TZOFFSETTO:-0500
TZNAME:EST
DTSTART:20191103T060000
END:STANDARD
BEGIN:DAYLIGHT
TZOFFSETFROM:-0500
TZOFFSETTO:-0400
TZNAME:EDT
DTSTART:20200308T070000
END:DAYLIGHT
BEGIN:STANDARD
TZOFFSETFROM:-0400
TZOFFSETTO:-0500
TZNAME:EST
DTSTART:20201101T060000
END:STANDARD
BEGIN:DAYLIGHT
TZOFFSETFROM:-0500
TZOFFSETTO:-0400
TZNAME:EDT
DTSTART:20210314T070000
END:DAYLIGHT
BEGIN:STANDARD
TZOFFSETFROM:-0400
TZOFFSETTO:-0500
TZNAME:EST
DTSTART:20211107T060000
END:STANDARD
END:VTIMEZONE
BEGIN:VEVENT
DTSTART;TZID=America/New_York:20200328T083000
DTEND;TZID=America/New_York:20200328T150000
DTSTAMP:20260425T061645
CREATED:20190804T233138Z
LAST-MODIFIED:20200406T002838Z
UID:1459-1585384200-1585407600@www.hartfordaudubon.org
SUMMARY:Canceled:  March 28\, 2020 - Sachuest Point\, RI - Saturday - 8:30 am
DESCRIPTION:Trip Leader – Paul Desjardins \nView Harlequin Ducks and seabirds hard to see in CT. Also visit Trustom Pond\, Ninigret\, and locations showing rarities. Bring lunch. \nSachuest Point National Wildlife Refuge\, Middletown\, RI – meet at Visitor Center parking lot \nFor more information – contact Paul at 860-623-3696 or paul.desjardins2@gmail.com \n 
URL:https://www.hartfordaudubon.org/trip-event/march-28-2020-sachuest-point-ri-saturday-830-am/
CATEGORIES:Field Trip
END:VEVENT
BEGIN:VEVENT
DTSTART;TZID=America/New_York:20200322T080000
DTEND;TZID=America/New_York:20200322T150000
DTSTAMP:20260425T061645
CREATED:20190804T225350Z
LAST-MODIFIED:20200406T002801Z
UID:1457-1584864000-1584889200@www.hartfordaudubon.org
SUMMARY:Canceled -March 22\, 2020 - Silver Sands State Park - Sunday - 8 am
DESCRIPTION:Trip Leader – Maggie Peretto \nThis is a good trip to try for sea ducks\, sparrows\, and owls while hoping for a Rough-Legged Hawk. Dress warmly. \nSilver Sands State Park\, Milford – meet at Main Parking Lot. \nFor more information\, contact Maggie at 860-604-4903.
URL:https://www.hartfordaudubon.org/trip-event/march-22-2020-silver-sands-state-park-sunday-8-am/
CATEGORIES:Field Trip
END:VEVENT
BEGIN:VEVENT
DTSTART;TZID=America/New_York:20200321T190000
DTEND;TZID=America/New_York:20200321T203000
DTSTAMP:20260425T061645
CREATED:20190804T225108Z
LAST-MODIFIED:20190804T225117Z
UID:1455-1584817200-1584822600@www.hartfordaudubon.org
SUMMARY:March 21\, 2020 - Woodcocks at Nod Brook - Saturday - 7 pm
DESCRIPTION:Trip Leader – Brian Toal \nSee the unique mating display or “sky dance” of the American Woodcock on a relatively short evening trip. \n82 Hopmeadow St (Rte 10)\, Simsbury – meet at back of the first parking lot of the Tower Office Park. \nFor more information\, contact Brian at 860-677-7156 or brian.toal@sbcglobal.net \n 
URL:https://www.hartfordaudubon.org/trip-event/march-21-2020-woodcocks-at-nod-brook-saturday-7-pm/
CATEGORIES:Field Trip
END:VEVENT
BEGIN:VEVENT
DTSTART;TZID=America/New_York:20200308T150000
DTEND;TZID=America/New_York:20200308T160000
DTSTAMP:20260425T061645
CREATED:20200304T022442Z
LAST-MODIFIED:20200306T023433Z
UID:1633-1583679600-1583683200@www.hartfordaudubon.org
SUMMARY:March 8\, 2020 - Tobacco Valley Sanctuary Bird Walk
DESCRIPTION:Maggie Peretto will lead a bird walk at Hartford Audubon’s Tobacco Valley sanctuary. Get your double points for the Birdathon!!!  Then join us for the Pot Luck supper at 6 pm.
URL:https://www.hartfordaudubon.org/trip-event/march-8-2020-tobacco-valley-sanctuary-bird-walk/
CATEGORIES:Field Trip
ORGANIZER;CN="Maggie Peretto":MAILTO:wings.mp@gmail.com
END:VEVENT
BEGIN:VEVENT
DTSTART;TZID=America/New_York:20200308T133000
DTEND;TZID=America/New_York:20200308T143000
DTSTAMP:20260425T061645
CREATED:20200306T022850Z
LAST-MODIFIED:20200306T022854Z
UID:1638-1583674200-1583677800@www.hartfordaudubon.org
SUMMARY:March 8\, 2020 - Greenstone Hollow Bird walk
DESCRIPTION:Larry Lunden will lead  a walk at Greenstone Hollow.\nEnjoy and get to know Hartford Audubon sanctuaries and also get your double points for the Birdathon. We hope to see you there.
URL:https://www.hartfordaudubon.org/trip-event/march-8-2020-greenstone-hollow-bird-walk/
CATEGORIES:Field Trip
ORGANIZER;CN="Larry Lunden":MAILTO:killdeer431@comcast.net
END:VEVENT
BEGIN:VEVENT
DTSTART;TZID=America/New_York:20200308T100000
DTEND;TZID=America/New_York:20200308T100000
DTSTAMP:20260425T061645
CREATED:20200304T022239Z
LAST-MODIFIED:20200306T023043Z
UID:1631-1583661600-1583661600@www.hartfordaudubon.org
SUMMARY:March 8\, 2020 - Lewis Farm Bird Walk
DESCRIPTION:Bob Winter will lead a bird walk at Lewis Farm / Hartford Audubon bird sanctuary.\nThis Sunday\, March 8th starting at 10 am. Get your double points for the Birdathon!!!
URL:https://www.hartfordaudubon.org/trip-event/march-8-2020-lewis-farm-bird-walk/
CATEGORIES:Field Trip
END:VEVENT
BEGIN:VEVENT
DTSTART;TZID=America/New_York:20200229T080000
DTEND;TZID=America/New_York:20200229T150000
DTSTAMP:20260425T061645
CREATED:20190804T224832Z
LAST-MODIFIED:20190804T224832Z
UID:1453-1582963200-1582988400@www.hartfordaudubon.org
SUMMARY:February\, 29\, 2020 - Station 43 Beginners Bird Walk 3 - Saturday - 8 am
DESCRIPTION:Trip Leader – Jon Ward \nThe ice should be mostly gone as birds begin to return. The water level may be high on this morning walk. Wear boots.  Meet at corner of Newberry Rd and Main St\, S Windsor. \nFor more information\, contact Jon at 860-416-3958 or jward88787@aol.com \n  \n 
URL:https://www.hartfordaudubon.org/trip-event/february-29-2020-station-43-beginners-bird-walk-3-saturday-8-am/
CATEGORIES:Field Trip
END:VEVENT
BEGIN:VEVENT
DTSTART;TZID=America/New_York:20200209T080000
DTEND;TZID=America/New_York:20200209T150000
DTSTAMP:20260425T061645
CREATED:20190804T224556Z
LAST-MODIFIED:20200208T211535Z
UID:1451-1581235200-1581260400@www.hartfordaudubon.org
SUMMARY:CANCELLED:  February 9\, 2020 - Hartford County Boat Launch Tour - Sunday - 8 am
DESCRIPTION:This trip has been cancelled. \nTrip Leader – Paul Cianfaglione \nThis is a morning tour of eight area boat launches\, from Enfield to Rocky Hill. Dress warmly and bring your scope.  Meet at Donald Barnes Boat Launch\, South River St\, Enfield. \nFor more information\, contact Paul at 860-836-3443 or pgcianfaglione@gmail.com \n 
URL:https://www.hartfordaudubon.org/trip-event/february-9-2020-hartford-county-boat-launch-tour-sunday-8-am/
CATEGORIES:Field Trip
END:VEVENT
BEGIN:VEVENT
DTSTART;TZID=America/New_York:20200201T080000
DTEND;TZID=America/New_York:20200202T170000
DTSTAMP:20260425T061645
CREATED:20190804T224304Z
LAST-MODIFIED:20190804T224308Z
UID:1449-1580544000-1580662800@www.hartfordaudubon.org
SUMMARY:February 1\, 2020 - Cape Ann & Newburyport\, MA - Saturday -2 days
DESCRIPTION:Trip Leader – Fran D’Amico \nTake a favorite trip to view seabirds that come south to New England in the winter. Irruptions can also bring unusual birds. \nContact Fran at least one week in advance for details at 203-237-2734 or frandamico525@yahoo.com
URL:https://www.hartfordaudubon.org/trip-event/february-1-2020-cape-ann-newburyport-ma-saturday-2-days/
CATEGORIES:Field Trip
END:VEVENT
BEGIN:VEVENT
DTSTART;TZID=America/New_York:20200118T080000
DTEND;TZID=America/New_York:20200119T170000
DTSTAMP:20260425T061645
CREATED:20190804T224041Z
LAST-MODIFIED:20190824T233948Z
UID:1447-1579334400-1579453200@www.hartfordaudubon.org
SUMMARY:January 18\, 2020 - Cape Cod Tour\, MA - 2 days
DESCRIPTION:Trip Leader – Peter Stephan \nThis is New England late winter birding at its finest. We should see Scoters and Gannets. \nStay and meet at The Cove in Orleans – \nCall Peter for reservations and details – 860 729-8374 or stephraf@aol.com
URL:https://www.hartfordaudubon.org/trip-event/january-18-2020-cape-cod-tour-ma-2-days/
CATEGORIES:Field Trip
END:VEVENT
BEGIN:VEVENT
DTSTART;TZID=America/New_York:20200104T090000
DTEND;TZID=America/New_York:20200104T150000
DTSTAMP:20260425T061645
CREATED:20190804T223628Z
LAST-MODIFIED:20190804T223633Z
UID:1445-1578128400-1578150000@www.hartfordaudubon.org
SUMMARY:January 4\, 2020 - Station 43 Beginners Bird Walk 2 - Saturday - 9 am
DESCRIPTION:Trip Leader – Jon Ward \nThis will be a cold one\, but don’t let that discourage you from coming. \nMeet at the corner of Newberry Rd and Main St\, S Windsor. \nFor more information\, contact Jon at 860-416-3598 or jward88787@aol.com
URL:https://www.hartfordaudubon.org/trip-event/january-4-2020-station-43-beginners-bird-walk-2-saturday-9-am/
CATEGORIES:Field Trip
END:VEVENT
BEGIN:VEVENT
DTSTART;TZID=America/New_York:20200101T080000
DTEND;TZID=America/New_York:20200131T170000
DTSTAMP:20260425T061645
CREATED:20190804T223204Z
LAST-MODIFIED:20191217T195438Z
UID:1441-1577865600-1580490000@www.hartfordaudubon.org
SUMMARY:January 1 - 31\, 2020 - January Big/Birding Event - all month!
DESCRIPTION:The Hartford Audubon Society (HAS) is pleased to announce our fourth annual Hartford County Big January of Birding bird watching challenge.  The purpose of the activity is to encourage folks to get outside during the month of January and see as many species of wild birds in Hartford County as possible!  The competition is free to people of all ages. \nBird watching is a delightful\, free activity that can be enjoyed by people of all ages\, in any setting.  Birds can be seen anywhere – you can watch pigeons\, peregrine falcons and snowy owls in Hartford; count the birds on your feeders from your windows; identify ducks and geese on a local river; or seek rare woodland birds on land trust reserves.  Anywhere you go\, birding is just plain fun.  Thus far\, in early December\, we still have some summer migrants lingering\, and some rare visitors – a Pacific loon on the shore\, catbirds in Canton\, a Western tanager in Torrington.   January\, 2020 may be a very interesting month. \nTo participate\, birders should enter their daily or periodic observations onto ebird.org\, the free bird watching site maintained by the Cornell University of Ornithology. At the end of the month\, please create a month-long record of your observations in ebird and share this list with HAS President\, Sarah Faulkner. \nTo enter\, there are four categories: \n\nYouth (ages 4-10) who must see at least 25 species to enter;\nTeen (ages 11-17) who must see at least 35 species to enter;\nWeekend Warrior (adults ages 18 -? who can’t get outdoors during the week) who must see at least 50 species to enter;\nAdults (ages 18 – ? who can get outdoors during the week) who must see at least 60 species to enter.\n\nAll entries that meet the minimum number of species for each challenge group will receive a certificate of achievement.  A special prize will be awarded for the highest species count for each challenge group. \nFor more information – contact Sarah Faulkner at 860-543-1280 or sffaulkner@comcast.net \n 
URL:https://www.hartfordaudubon.org/trip-event/january-1-31-2020-january-big-birding-event-all-month/
CATEGORIES:Club Event,Field Trip
END:VEVENT
BEGIN:VEVENT
DTSTART;VALUE=DATE:20191215
DTEND;VALUE=DATE:20191216
DTSTAMP:20260425T061645
CREATED:20190804T222312Z
LAST-MODIFIED:20190804T222733Z
UID:1439-1576368000-1576454399@www.hartfordaudubon.org
SUMMARY:December 15\,  2019 - Christmas Bird Count - all day
DESCRIPTION:Event Coordinator:  Jay Kaplan \nArea 1   S Windsor: Paul Desjardins\nArea 2   Inland S Windsor: Patrice Favreau\nArea 3   Glastonbury: Andrew Dasinger\nArea 4   Manchester: Maggie Peretto\nArea 5   Wethersfield/Rocky Hill: Steve Kotchko\nArea 6   Hartford: Jay Kaplan\nArea 7   Newington: Sylvia Halkin\nArea 8   Avon/Farmington: open\nArea 9   W Hartford: Brian Toal\nArea 10 Bloomfield: John Weeks\nArea 11 Windsor: Gil Kleiner\nArea 12 E Hartford: Blair Wlochowski \nPlease contact Jay for more information at 860-693-0157 or jaybrd49@aol.com
URL:https://www.hartfordaudubon.org/trip-event/december-15-2019-christmas-bird-count-all-day/
CATEGORIES:Club Event,Field Trip
END:VEVENT
BEGIN:VEVENT
DTSTART;TZID=America/New_York:20191208T080000
DTEND;TZID=America/New_York:20191208T130000
DTSTAMP:20260425T061645
CREATED:20190804T222040Z
LAST-MODIFIED:20191130T221628Z
UID:1437-1575792000-1575810000@www.hartfordaudubon.org
SUMMARY:December 8\, 2019 - Hammonasset State Park - Sunday - 8 am
DESCRIPTION:HAS-Hammo trip tomorrow- postponed from 12/1  to 12/8 due to weather.  \nTrip Leader – Ernie Harris \nHammonasset Beach State Park is the state’s premier birding location. Look for Lapland Longspurs\, Snow Buntings\, and Horned Larks. Eat lunch at Lenny and Joe’s Fish Tale. \nMeet at Meigs Point Nature Center\, Madison \nFor more information\, contact Ernie at 860-603-2655 or pdlqlt@mac.com
URL:https://www.hartfordaudubon.org/trip-event/december-1-2019-hammonasset-state-park-sunday-8-am/
CATEGORIES:Field Trip
END:VEVENT
BEGIN:VEVENT
DTSTART;VALUE=DATE:20191202
DTEND;VALUE=DATE:20191203
DTSTAMP:20260425T061645
CREATED:20191204T014008Z
LAST-MODIFIED:20191204T015339Z
UID:1566-1575244800-1575331199@www.hartfordaudubon.org
SUMMARY:Greenstone Hollow - 2019 Annual Report
DESCRIPTION:Greenstone Hollow Nature Preserve continues to be a place of activity for our members.  This year we held three bird walks with a total attendance of 23.  We added a walk for National Trails Day\, sponsored by the Connecticut Forest and Park Association. \nNo new species were sighted this year\, so the count remains at 118 species at the preserve.  Sandi Jones is making regular visits to the preserve and posting her observations on eBird.  I appreciate birders who enter their sightings on eBird\, and encourage others to visit the preserve and record their checklists. \nWe held six work days\, with an attendance of 24.  Our main focus this year has been on maintaining the trails.  Larry Lunden\, Andrew Smith\, Cathy Delasco\, Doug Beach and Chris Fisher spread 20 cubic yards of mulch\, donated by the town of East Granby\, on the Kinglet Woods Trail to even out the rooty ground.  Roberta Gowing agreed to work on the butterfly garden\, and with the help of Paul and Vicki Margiott cleaned out all the invading plants.  Two of the officers from the East Granby Land Trust\, Cathy Delasco and Michelle Clifford\, joined the crew.  Many thanks to our continuing crew\, including Stan McMillen and Karen Walsh.. \nChris made two major improvements to the preserve.  He installed a new set of trail and overlook name signs to replace the older ones that had deteriorated\, as well as a pair of all new map signs to make it easier to navigate the preserve.  This was funded by a generous donation from Susan and Sammy Samuel\, who live in the neighborhood\, as well as funds approved by the directors of HAS.  He also put a new deck on the bridge at Bluebird Hollow to improve footing. \nOur two benches have deteriorated due to weather and are no longer useable. \nChris and Doug continue to keep the trails mowed and open for visitors. \nOur goals in the coming year are to continue holding bird walks and work days.  We will continue our habitat improvements in the shrub swamp and wet meadow. \nLarry Lunden & Chris Fisher \n 
URL:https://www.hartfordaudubon.org/trip-event/greenstone-hollow-2019-annual-report/
CATEGORIES:Field Trip
END:VEVENT
BEGIN:VEVENT
DTSTART;TZID=America/New_York:20191109T080000
DTEND;TZID=America/New_York:20191110T170000
DTSTAMP:20260425T061645
CREATED:20190804T221720Z
LAST-MODIFIED:20191001T102210Z
UID:1435-1573286400-1573405200@www.hartfordaudubon.org
SUMMARY:November 9\, 2019 - Long Island Tour\, NY -  2 days
DESCRIPTION:Trip Leader -Peter Stephan \nVisit Jamaica Bay\, Jones Beach\, Lake Capri\, Belmont Lake\, Shinnecock Inlet\, Montauk Point\, and Shelter Island. Return on ferry. \nCall Peter for arrangements at 860-729-8374 or stephraf@aol.com \n 
URL:https://www.hartfordaudubon.org/trip-event/november-9-2019-long-island-tour-ny-2-days/
CATEGORIES:Field Trip
END:VEVENT
BEGIN:VEVENT
DTSTART;VALUE=DATE:20191013
DTEND;VALUE=DATE:20191014
DTSTAMP:20260425T061645
CREATED:20190804T221507Z
LAST-MODIFIED:20190804T221512Z
UID:1433-1570924800-1571011199@www.hartfordaudubon.org
SUMMARY:October 13\, 2019 - Big Sit at Station 43 - Sunday - all day
DESCRIPTION:Trip Leader – Brian Kleinman \nA day of fun at Station 43 where we count all species we see and hear from a 17-foot circle located at the HAS platform on the southwest end of the marsh. \nMeet at corner of Newberry Rd and Main St\, S Windsor. \nFor more information\, contact Brian at 860-655-7464 or snaketat@cox.net
URL:https://www.hartfordaudubon.org/trip-event/october-13-2019-big-sit-at-station-43-sunday-all-day/
CATEGORIES:Club Event,Field Trip
END:VEVENT
BEGIN:VEVENT
DTSTART;TZID=America/New_York:20191012T080000
DTEND;TZID=America/New_York:20191012T150000
DTSTAMP:20260425T061645
CREATED:20190804T221233Z
LAST-MODIFIED:20190804T221233Z
UID:1431-1570867200-1570892400@www.hartfordaudubon.org
SUMMARY:October 12\, 2019 - Greenstone Hollow- Saturday - 8 am
DESCRIPTION:Trip Leaders:  Chris and Diane Fisher \nEnjoy the fall colors and look for fall migrants in the many habitats found at this beautiful and compact nature preserve. \nRidge Blvd\, E Granby – meet at Main entrance at the end of the guard rail \nFor more information\, contact Chris at 860-658-2903 or chrisf001@aol.com
URL:https://www.hartfordaudubon.org/trip-event/october-12-2019-greenstone-hollow-saturday-8-am/
CATEGORIES:Field Trip
END:VEVENT
BEGIN:VEVENT
DTSTART;TZID=America/New_York:20191005T130000
DTEND;TZID=America/New_York:20191006T170000
DTSTAMP:20260425T061645
CREATED:20190804T220815Z
LAST-MODIFIED:20190930T000356Z
UID:1427-1570280400-1570381200@www.hartfordaudubon.org
SUMMARY:CANCELLED!   October 5\, 2019 - Gulf of Maine Pelagic\, ME -Saturday 1 pm - (2 days)
DESCRIPTION:Oct.5-6 pelagic trip from BarHarbor ME to Yarmouth CA has been cancelled\, because the ferry will NOT be running on those dates.\nTrip Leader:  Tom Robben \nSearch for Skuas on a 100-mile ferry ride across the Gulf of Maine from Bar Harbor to Yarmouth. Stay at a hotel in Canada and bird on return trip. Pre-register with Tom. Passport required.  Two day trip. \nDetails at trips33.blogspot.com\n \nContact Tom at 860-922-1098 or robben99@gmail.com
URL:https://www.hartfordaudubon.org/trip-event/october-5-2019-gulf-of-maine-pelagic-me-saturday-1-pm-2-days/
CATEGORIES:Field Trip,Pelagic
END:VEVENT
BEGIN:VEVENT
DTSTART;TZID=America/New_York:20191005T071500
DTEND;TZID=America/New_York:20191005T150000
DTSTAMP:20260425T061645
CREATED:20190804T220601Z
LAST-MODIFIED:20190829T012026Z
UID:1425-1570259700-1570287600@www.hartfordaudubon.org
SUMMARY:October 5\, 2019 - Glastonbury Meadows - Saturday - 7:15 am
DESCRIPTION:Trip Leaders: Bill Asteriades & Andrew Dasinger \nA morning walk through one of the best birding locations in Hartford County. \nContact Bill or Andrew for reservations and directions: \nBill at bill.asteriades@gmail.com or Andrew at amdasinger@gmail.com
URL:https://www.hartfordaudubon.org/trip-event/october-5-2019-glastonbury-meadows-saturday-715-am/
CATEGORIES:Field Trip
END:VEVENT
BEGIN:VEVENT
DTSTART;TZID=America/New_York:20190929T071500
DTEND;TZID=America/New_York:20190929T170000
DTSTAMP:20260425T061645
CREATED:20190804T220212Z
LAST-MODIFIED:20190824T233540Z
UID:1423-1569741300-1569776400@www.hartfordaudubon.org
SUMMARY:September 29\, 2019 - Stellwagen Bank Pelagic\, MA - Sunday - 7:15 am
DESCRIPTION:Trip Leader: Tom Robben \nSail a one-day\, six-hour trip in the rich waters of Stellwagen Bank\, located between Gloucester and Cape Cod. Meet at the dock in Gloucester  Pre‑register with Tom. \nCheck out the details at trips33.blogspot.com  \nor contact Tom at 860-922-1098 or robben 99@gmail.com
URL:https://www.hartfordaudubon.org/trip-event/september-29-2019-stellwagen-bank-pelagic-ma-sunday-715-am/
CATEGORIES:Field Trip,Pelagic
END:VEVENT
BEGIN:VEVENT
DTSTART;TZID=America/New_York:20190928T080000
DTEND;TZID=America/New_York:20190928T150000
DTSTAMP:20260425T061645
CREATED:20190804T215812Z
LAST-MODIFIED:20190804T215812Z
UID:1421-1569657600-1569682800@www.hartfordaudubon.org
SUMMARY:September 28\, 2019 - Smith Richardson Preserve - Saturday - 8 am
DESCRIPTION:Trip Leader – Patrick Comins \nVisit the Connecticut Audubon Society Smith Richardson Preserve with its spectacular fall stopover habitat for land birds. \nMeet at the corner of Sasco Creek Rd and Hedley Farms Rd in Westport. \nFor more information\, contact Patrick at 203-259-0416 X107 or pcomins@ctaudubon.org \n 
URL:https://www.hartfordaudubon.org/trip-event/september-28-2019-smith-richardson-preserve-saturday-8-am/
CATEGORIES:Field Trip
END:VEVENT
BEGIN:VEVENT
DTSTART;TZID=America/New_York:20190928T080000
DTEND;TZID=America/New_York:20190928T150000
DTSTAMP:20260425T061645
CREATED:20190804T214616Z
LAST-MODIFIED:20190804T214741Z
UID:1418-1569657600-1569682800@www.hartfordaudubon.org
SUMMARY:September 28\, 2019 -Station 43 Beginners Bird Walk 1	 - Saturday - 8am
DESCRIPTION:Trip Leader:  Jon Ward \nThe first of four morning walks designed for beginners at Hartford Audubon’s oldest sanctuary. This premier northern Connecticut birding site tends to be very wet. Wear boots. \nMeet at Corner of Newberry Rd and Main St\, South Windsor \nContact Jon for more information at 860-416-3958 or jward88787@aol.com \n 
URL:https://www.hartfordaudubon.org/trip-event/september-28-2019-station-43-beginners-bird-walk-1-saturday-8am/
CATEGORIES:Field Trip
END:VEVENT
BEGIN:VEVENT
DTSTART;TZID=America/New_York:20190925T080000
DTEND;TZID=America/New_York:20190925T093000
DTSTAMP:20260425T061645
CREATED:20190804T214202Z
LAST-MODIFIED:20190920T013739Z
UID:1416-1569398400-1569403800@www.hartfordaudubon.org
SUMMARY:September 25\, 2019 - Glastonbury Great Pond - Wednesday - 8 am
DESCRIPTION:Trip Leader:  Annette Pasek \nWoodland\, water and shrub habitats may produce common CT birds as well as migratory species. \n451 Great Pond Rd off Route 17 \nContact Annette for more information at 860-490-8357 or apasek@cox.net
URL:https://www.hartfordaudubon.org/trip-event/september-25-2019-glastonbury-great-pond-wednesday-8-am/
CATEGORIES:Field Trip
END:VEVENT
BEGIN:VEVENT
DTSTART;TZID=America/New_York:20190924T163000
DTEND;TZID=America/New_York:20190924T190000
DTSTAMP:20260425T061645
CREATED:20190818T005840Z
LAST-MODIFIED:20190921T002123Z
UID:1518-1569342600-1569351600@www.hartfordaudubon.org
SUMMARY:Sunday\, September 22\, 2019 - Swallow Spectacle Paddle - Tuesday - 4:30 PM
DESCRIPTION:Leader  David Zomick\nSwallow Spectacle Paddle\nSunday\, September 22   4:30 PM\nPilgrim Road boat launch\n\nWe will paddle leisurely  in  Lord  Cove &  around Goose & Calves  Islands &  be in  place by dusk for the breathtaking  tree swallow display.\n\nMust have:  PFD;boat light/ headlamp/flashlight  .\n\nOptional: food\, water\, sunscreen\, insect repellent\, camera etc. \nbathroom access is extremely limited.  Be prepared to return in darkness. \nRain cancels. \n\n\nDirections :  Use 2 Pilgrim Landing Rd.\, Old Lyme\, use 2 Pilgrim road as an approximate address for GPS.Directions:\nFrom the east — I-95 South\, Exit 70. Straight on US-1 South for 0.6 miles. Right on Route 156 West (Neck Road) for 0.5 miles. Left on Pilgrim Landing Rd. for 0.2 miles and the launch is on the left. \nFrom the west — Take I-95 North\, Exit 70. Left on Route 156 West (Neck Road) for 0.7 miles. Left on Pilgrim Landing Rd. for 0.2 miles and the launch is on the left. \n I have made arrangements  for the rental of single kayaks &/or  a canoe.  If interested\,  contact David Zomick ahead of time. \nPre-registration is required.  \n\n\n\n\n\nTo register\, contact David Zomick at dzsurtudo@gmail.com or 860-513-8600.
URL:https://www.hartfordaudubon.org/trip-event/swallow-spectacle-paddle-september-24-430-pm/
CATEGORIES:Field Trip
END:VEVENT
BEGIN:VEVENT
DTSTART;TZID=America/New_York:20190915T080000
DTEND;TZID=America/New_York:20190916T150000
DTSTAMP:20260425T061645
CREATED:20190913T003823Z
LAST-MODIFIED:20190914T004329Z
UID:1531-1568534400-1568646000@www.hartfordaudubon.org
SUMMARY:Sunday 9/15 and Monday 9/16\, 2019 - Booth Hill Hawkwatch
DESCRIPTION:Trip Leader:  Paul Carrier \nView Broad-winged Hawks at their peak migration through Connecticut. Bring a chair\, food and drink\, and spend the day. \nRoute 20\, W Hartland – Coming west on Rte 20\, Booth Hill is  in West Hartland a little less the .4 mile from Milo Coe Road. If you get to West St you have gone about .9 mile too far. \nCall Paul for more directions at 860-689-6590 or contact him via email: carriergraphics@sbcglobal.net
URL:https://www.hartfordaudubon.org/trip-event/sunday-september-15-booth-hill-hawkwatch/
CATEGORIES:Field Trip
END:VEVENT
BEGIN:VEVENT
DTSTART;TZID=America/New_York:20190914T080000
DTEND;TZID=America/New_York:20190914T150000
DTSTAMP:20260425T061645
CREATED:20190804T213902Z
LAST-MODIFIED:20190804T214646Z
UID:1414-1568448000-1568473200@www.hartfordaudubon.org
SUMMARY:September 14\, 2019 - Great Pond - Simsbury - Saturday - 8 am
DESCRIPTION:Trip Leader:  Jon Ward \nGreat Pond is the largest part of a beautiful state forest. This is an easy morning trip to see birds and have fun with people.   Great Pond Rd\, Simsbury / Great Pond parking lot in Massacoe State Forest \nContact Jon for more information at 860-416-3958 or jward88787@aol.com
URL:https://www.hartfordaudubon.org/trip-event/september-14-2019-great-pond-simsbury-saturday-8-am/
CATEGORIES:Field Trip
END:VEVENT
BEGIN:VEVENT
DTSTART;TZID=America/New_York:20190911T090000
DTEND;TZID=America/New_York:20190911T150000
DTSTAMP:20260425T061645
CREATED:20190804T213316Z
LAST-MODIFIED:20190913T003615Z
UID:1411-1568192400-1568214000@www.hartfordaudubon.org
SUMMARY:September 11\, 2019 - Hawk Watch at Booth Hill - Wednesday -9 am
DESCRIPTION:Trip Leader:  Paul Carrier \nView Broad-winged Hawks at their peak migration through Connecticut. Bring a chair\, food and drink\, and spend the day. \nRoute 20\, W Hartland \nCall Paul for directions at 860-689-6590 or contact him via email: carriergraphics@sbcglobal.net
URL:https://www.hartfordaudubon.org/trip-event/september-11-2019-hawk-watch-at-booth-hill-wednesday-9-am/
CATEGORIES:Field Trip
END:VEVENT
BEGIN:VEVENT
DTSTART;TZID=America/New_York:20190907T090000
DTEND;TZID=America/New_York:20190907T150000
DTSTAMP:20260425T061645
CREATED:20190804T213113Z
LAST-MODIFIED:20190804T213516Z
UID:1408-1567846800-1567868400@www.hartfordaudubon.org
SUMMARY:September 7\, 2019 - Hawk Watch at Booth Hill - Saturday - 9 am
DESCRIPTION:Trip Leader:  Paul Carrier \nView Broad-winged Hawks at their peak migration through Connecticut. Bring a chair\, food and drink\, and spend the day. \nRoute 20\, W Hartland \nCall Paul for directions at 860-689-6590 or contact him via email: carriergraphics@sbcglobal.net \n  \n 
URL:https://www.hartfordaudubon.org/trip-event/september-7-2019-hawk-watch-at-booth-hill-saturday-9-am/
CATEGORIES:Field Trip
END:VEVENT
BEGIN:VEVENT
DTSTART;TZID=America/New_York:20190616T071500
DTEND;TZID=America/New_York:20190616T160000
DTSTAMP:20260425T061645
CREATED:20190430T134047Z
LAST-MODIFIED:20190430T152812Z
UID:1239-1560669300-1560700800@www.hartfordaudubon.org
SUMMARY:Chatham Waters Pelagic - Sunday\, June 16\, 2019 - 7:15am
DESCRIPTION:Sunday\, June 16\, 2019 – 7:15am \nNEW:  Chatham Waters Pelagic \nLeader: Tom Robben \nMeet at the dock in Harwich Port\, MA. Joint trip with NECWA. Sail a one-day eight-hour trip in the rich ocean waters off Chatham\, MA\, east of Cape Cod.  Details will be provided at  trips33.blogspot.com.  \nPre-register with Tom. Contact Tom Robben at robben99@gmail.com if you may be interested in this trip. \n 
URL:https://www.hartfordaudubon.org/trip-event/chatham-waters-pelagic-sunday-june-16-2019-715am/
CATEGORIES:Field Trip,Pelagic
END:VEVENT
END:VCALENDAR