BEGIN:VCALENDAR
VERSION:2.0
PRODID:-// - ECPv6.15.20//NONSGML v1.0//EN
CALSCALE:GREGORIAN
METHOD:PUBLISH
X-ORIGINAL-URL:https://www.hartfordaudubon.org
X-WR-CALDESC:Events for 
REFRESH-INTERVAL;VALUE=DURATION:PT1H
X-Robots-Tag:noindex
X-PUBLISHED-TTL:PT1H
BEGIN:VTIMEZONE
TZID:America/New_York
BEGIN:DAYLIGHT
TZOFFSETFROM:-0500
TZOFFSETTO:-0400
TZNAME:EDT
DTSTART:20250309T070000
END:DAYLIGHT
BEGIN:STANDARD
TZOFFSETFROM:-0400
TZOFFSETTO:-0500
TZNAME:EST
DTSTART:20251102T060000
END:STANDARD
BEGIN:DAYLIGHT
TZOFFSETFROM:-0500
TZOFFSETTO:-0400
TZNAME:EDT
DTSTART:20260308T070000
END:DAYLIGHT
BEGIN:STANDARD
TZOFFSETFROM:-0400
TZOFFSETTO:-0500
TZNAME:EST
DTSTART:20261101T060000
END:STANDARD
BEGIN:DAYLIGHT
TZOFFSETFROM:-0500
TZOFFSETTO:-0400
TZNAME:EDT
DTSTART:20270314T070000
END:DAYLIGHT
BEGIN:STANDARD
TZOFFSETFROM:-0400
TZOFFSETTO:-0500
TZNAME:EST
DTSTART:20271107T060000
END:STANDARD
END:VTIMEZONE
BEGIN:VEVENT
DTSTART;TZID=America/New_York:20260516T070000
DTEND;TZID=America/New_York:20260516T100000
DTSTAMP:20260421T221049
CREATED:20250807T162056Z
LAST-MODIFIED:20250807T162056Z
UID:15874-1778914800-1778925600@www.hartfordaudubon.org
SUMMARY:Penwood State Park - Bird Walk - May 16\, 2026
DESCRIPTION:May 16 Penwood State Park Sat 7 am174 Hartford Rd\, SimsburyWe will meet in the parking lot.\nA three–hour leisurely bird walk in search of migrant warblers\,vireos\, thrushes\, and flycatchers. Special possibilities includeWorm–eating Warbler\, Swainson’s Thrush and both Yellow–billedand Black–billed Cuckoos. This will be easy walking.\nPaul Cianfaglione pgcianfaglione@gmail.com 860–836–3443 T
URL:https://www.hartfordaudubon.org/trip-event/penwood-state-park-bird-walk-may-16-2026/
LOCATION:RI
CATEGORIES:Field Trip
ORGANIZER;CN="Hartford Audubon Society":MAILTO:info@hartfordaudubon.org
END:VEVENT
BEGIN:VEVENT
DTSTART;TZID=America/New_York:20260517T080000
DTEND;TZID=America/New_York:20260517T110000
DTSTAMP:20260421T221049
CREATED:20250807T162334Z
LAST-MODIFIED:20250807T162334Z
UID:15876-1779004800-1779015600@www.hartfordaudubon.org
SUMMARY:Addison Bog and Woodlands - Bird Walk - May 17\, 2026
DESCRIPTION:May 17 Addison Bog and Woodlands Sun 8 am216 Addison Rd\, GlastonburyMeet in the baseball parking lot at the far end of the Smith MiddleSchool rd.\nWHEELCHAIR AND WALKER ACCESSIBLE PAVED TRAIL\nJoin us for a bird walk through mature growth forest and brook\,Black Spruce bog and power line cuts. The area has many residentand migrant species. Choose to walk the ten–foot wide\, paved pathwith 5 benches spaced throughout\, or join a group that walksthrough a very flat woodland trail section that can be good forseeing ovenbird\, veery and barred owls. As an option\, we canexplore a power–line cut which is good for indigo buntings\, prairiewarblers\, yellow warblers\, and blue–winged warblers. Bring sturdyshoes and bug spray. There is a porta potty at the Smith parking lot.The 2–3 mile walk will last about 3 hours\, but you can easily leaveat any time if necessary.\nLaura and Bob Bengtson rlbengtson@cox.net 860–882–4285 T
URL:https://www.hartfordaudubon.org/trip-event/addison-bog-and-woodlands-bird-walk-may-17-2026/
LOCATION:RI
CATEGORIES:Field Trip
ORGANIZER;CN="Hartford Audubon Society":MAILTO:info@hartfordaudubon.org
END:VEVENT
BEGIN:VEVENT
DTSTART;TZID=America/New_York:20260520T073000
DTEND;TZID=America/New_York:20260520T103000
DTSTAMP:20260421T221049
CREATED:20250807T163722Z
LAST-MODIFIED:20250807T163953Z
UID:15878-1779262200-1779273000@www.hartfordaudubon.org
SUMMARY:Cedar Hill Cemetary - Bird Walk - May 20\, 2026
DESCRIPTION:May 20 Cedar Hill Cemetary Wed 7:30 am453 Fairfield Ave\, Hartford\nA three–hour leisurely bird walk in search of migrant warblers\,vireos\, thrushes and flycatchers. We may find Cape May andCanada Warblers and Yellow–bellied Flycatcher. Easy walking.\nPaul Cianfaglione pgcianfaglione@gmail.com 860–836–3443 TAl Gatti algatti22@gmail.com 860–916–7142 T
URL:https://www.hartfordaudubon.org/trip-event/cedar-hill-cemetary-bird-walk-may-20-2026/
LOCATION:RI
CATEGORIES:Field Trip
ORGANIZER;CN="Hartford Audubon Society":MAILTO:info@hartfordaudubon.org
END:VEVENT
BEGIN:VEVENT
DTSTART;VALUE=DATE:20260522
DTEND;VALUE=DATE:20260525
DTSTAMP:20260421T221049
CREATED:20250807T164345Z
LAST-MODIFIED:20250807T164345Z
UID:15880-1779408000-1779667199@www.hartfordaudubon.org
SUMMARY:Central NY / Adirondacks - Bird Trip - 3 days - May 22-24\, 2026
DESCRIPTION:May 22 Central NY and the Adirondacks Fri 3 daysContact Peter for arrangements\nStarting Friday morning at the Bashakill\, then continue toMontezuma NWR. Saturday and Sunday will be spent at PerchRiver and Fort Drum\, continuing to Inlet. Monday starts at Ferd’sBog before returning to Hartford. This trip will find the majorityof the state’s inland breeding birds.\nPeter Stephan stephraf@aol.com 860–729–8374 T
URL:https://www.hartfordaudubon.org/trip-event/central-ny-adirondacks-bird-trip-3-days-may-22-24-2026/
LOCATION:RI
CATEGORIES:Field Trip
ORGANIZER;CN="Hartford Audubon Society":MAILTO:info@hartfordaudubon.org
END:VEVENT
BEGIN:VEVENT
DTSTART;TZID=America/New_York:20260606T070000
DTEND;TZID=America/New_York:20260606T100000
DTSTAMP:20260421T221049
CREATED:20250807T164625Z
LAST-MODIFIED:20250807T164625Z
UID:15882-1780729200-1780740000@www.hartfordaudubon.org
SUMMARY:Station 43 & Vibert Rd - Bird Walk - June 6\, 2026
DESCRIPTION:Jun 6 Station 43 & Vibert Rd – Wetland Birds Sat 7 am953 Main St\, South WindsorCorner of Newberry Rd & Main St Park on road by intersection.\nA bird walk which focuses on wetland nesting species. We have achance to see Least Bitterns\, Virginia Rails and Marsh Wrens.Knee–high waterproof boots and bug spray are recommended.Mostly easy walking but some very wet areas. 2–3 hours.\nPaul Cianfaglione pgcianfaglione@gmail.com 860–836–3443 T
URL:https://www.hartfordaudubon.org/trip-event/station-43-vibert-rd-bird-walk-june-6-2026/
LOCATION:RI
CATEGORIES:Field Trip
ORGANIZER;CN="Hartford Audubon Society":MAILTO:info@hartfordaudubon.org
END:VEVENT
BEGIN:VEVENT
DTSTART;TZID=America/New_York:20260606T080000
DTEND;TZID=America/New_York:20260606T110000
DTSTAMP:20260421T221049
CREATED:20250807T164931Z
LAST-MODIFIED:20250807T164931Z
UID:15884-1780732800-1780743600@www.hartfordaudubon.org
SUMMARY:Reservoir #3 - Bloomfield - Bird Walk - June 6\, 2026
DESCRIPTION:Jun 6 Reservoir # 3\, Bloomfield Sat 8 am298 Tunxis Ave\, Bloomfield\, CT 06002. Meet at first parking lot\nThis area is easily accessible and has a wide variety of habitatswithin a short distance. We are likely to find Bobolinks nesting inthe fields and Great Blue Herons nesting in their rookery at theback of a swamp along with a variety of other summer residentbirds. The area encompasses low fields\, tall grass fields\, marsh\,shrub habitat and forest habitat\, all from an easily walkable road.Wear long pants and bug spray for tick protection. We will walkabout 1–1/2 miles over level solid terrain.\nChris Fisher ChrisF001@aol.com 860–967–5976 TJim Watso jcwphotos@cox.net 860–519–8306 T
URL:https://www.hartfordaudubon.org/trip-event/reservoir-3-bloomfield-bird-walk-june-6-2026/
LOCATION:RI
CATEGORIES:Field Trip
ORGANIZER;CN="Hartford Audubon Society":MAILTO:info@hartfordaudubon.org
END:VEVENT
BEGIN:VEVENT
DTSTART;TZID=America/New_York:20260607T073000
DTEND;TZID=America/New_York:20260607T090000
DTSTAMP:20260421T221049
CREATED:20250807T165243Z
LAST-MODIFIED:20260325T181405Z
UID:15886-1780817400-1780822800@www.hartfordaudubon.org
SUMMARY:Trails Day Family Bird Walk - Mary Conklin Preserve - June 7\, 2026
DESCRIPTION:Sunday\, June 7\, 7:30 am: \nJoin Hartford Audubon and Canton Land Trust leaders Sarah Faulkner and Jay Kaplan for a 1 1/2 hour beginner’s birdwalk for families in this beautiful Canton Land Conservation Trust preserve. You’ll be introduced to birdwatching\, how to use the Merlin app to help with bird identification\, learn to find and identify birds\, and learn about other apps on your phone that can help.  Children ages 6 and older are welcome. We’ll look for birds\, discuss the ecosystems\, and enjoy being in nature. Easy walking\, around 2 miles\, 1.5 hours. Bring binoculars\, smart phone if possible\, sturdy sneakers\, insect repellent\, water and snack. Please leave dogs at home.  Leaders will have some binoculars to loan to participants. Email leader to pre-register for this walk at sffaulkner533@gmail.com. Rain cancels. \nDirections to the Mary Conklin Preserve: From Route 44 in Canton\, turn onto Indian Hill Road and drive about 1.4 miles. The driveway for 144 Indian Hill Road is on the left\, next to a large bright red mailbox. Park in the parking area and we’ll gather by the kiosk.
URL:https://www.hartfordaudubon.org/trip-event/trails-day-family-bird-walk-june-7-2026/
LOCATION:Mary Conklin Preserve\, Canton\, CT\, United States
CATEGORIES:Field Trip
ORGANIZER;CN="Hartford Audubon Society":MAILTO:info@hartfordaudubon.org
END:VEVENT
END:VCALENDAR