BEGIN:VCALENDAR
VERSION:2.0
PRODID:-// - ECPv6.15.20//NONSGML v1.0//EN
CALSCALE:GREGORIAN
METHOD:PUBLISH
X-ORIGINAL-URL:https://www.hartfordaudubon.org
X-WR-CALDESC:Events for 
REFRESH-INTERVAL;VALUE=DURATION:PT1H
X-Robots-Tag:noindex
X-PUBLISHED-TTL:PT1H
BEGIN:VTIMEZONE
TZID:America/New_York
BEGIN:DAYLIGHT
TZOFFSETFROM:-0500
TZOFFSETTO:-0400
TZNAME:EDT
DTSTART:20230312T070000
END:DAYLIGHT
BEGIN:STANDARD
TZOFFSETFROM:-0400
TZOFFSETTO:-0500
TZNAME:EST
DTSTART:20231105T060000
END:STANDARD
BEGIN:DAYLIGHT
TZOFFSETFROM:-0500
TZOFFSETTO:-0400
TZNAME:EDT
DTSTART:20240310T070000
END:DAYLIGHT
BEGIN:STANDARD
TZOFFSETFROM:-0400
TZOFFSETTO:-0500
TZNAME:EST
DTSTART:20241103T060000
END:STANDARD
BEGIN:DAYLIGHT
TZOFFSETFROM:-0500
TZOFFSETTO:-0400
TZNAME:EDT
DTSTART:20250309T070000
END:DAYLIGHT
BEGIN:STANDARD
TZOFFSETFROM:-0400
TZOFFSETTO:-0500
TZNAME:EST
DTSTART:20251102T060000
END:STANDARD
END:VTIMEZONE
BEGIN:VEVENT
DTSTART;TZID=America/New_York:20240312T190000
DTEND;TZID=America/New_York:20240312T210000
DTSTAMP:20260425T232554
CREATED:20230815T130517Z
LAST-MODIFIED:20240302T131927Z
UID:14704-1710270000-1710277200@www.hartfordaudubon.org
SUMMARY:Monthly Meeting - 3/12/2024 - Factors Limiting Warbler Distributions in the Southern Appalachian Mountains
DESCRIPTION:7 pm – Social Hour / 7:30 – Program begins. \nSam Merkel\, Ph.D will be returning to Hartford Audubon to present the program\, Factors Limiting Warbler Distributions in the Southern Appalachian Mountains\, at our Monthly Meeting on March 12.\n\nSpecies’ ranges are shifting northward in response to climate change.  As species’ ranges shift northward\, some species are experiencing rapid declines in the southern limits of their range. The exact factors affecting these declines are not known. Sam will discuss possible factors affecting these declines\, breaking them down into abiotic and biotic factors.  Abiotic factors are those factors which are non-living and physical components of the environment such as temperature and humidity; Biotic factors are those that are living or relate to living organisms such as competition\, predation\, or parasites.  Sam will discuss these factors and how understanding these factors is paramount to enacting successful conservation measures and avoiding local bird extinctions.  Sam’s graduate research was focused on Black-throated Blue Warblers\, Canada Warblers\, and Hooded Warblers in the Southern Appalachian Mountains.  Even though\, his research was centered on the Southern Appalachians\, it will help us better understand what is happening in our own back yard.\n\n\nSam Merker Ph.D. is a Postdoctoral researcher in the Department of Ecology & Evolutionary Biology at the University of Connecticut\nPlease reach out to Frances D’Amico with any questions at frandamico525@yahoo.com or 203-237-2734.
URL:https://www.hartfordaudubon.org/trip-event/monthly-meeting-3-12-2024-tbd-check-back-for-updates/
LOCATION:St. James’s Episcopal Church\, 1018 Farmington Ave.\, West Hartford\, CT\, 06127\, United States
CATEGORIES:Meeting
ORGANIZER;CN="Hartford Audubon Society":MAILTO:info@hartfordaudubon.org
END:VEVENT
END:VCALENDAR