BEGIN:VCALENDAR
VERSION:2.0
PRODID:-// - ECPv6.15.20//NONSGML v1.0//EN
CALSCALE:GREGORIAN
METHOD:PUBLISH
X-ORIGINAL-URL:https://www.hartfordaudubon.org
X-WR-CALDESC:Events for 
REFRESH-INTERVAL;VALUE=DURATION:PT1H
X-Robots-Tag:noindex
X-PUBLISHED-TTL:PT1H
BEGIN:VTIMEZONE
TZID:America/New_York
BEGIN:DAYLIGHT
TZOFFSETFROM:-0500
TZOFFSETTO:-0400
TZNAME:EDT
DTSTART:20230312T070000
END:DAYLIGHT
BEGIN:STANDARD
TZOFFSETFROM:-0400
TZOFFSETTO:-0500
TZNAME:EST
DTSTART:20231105T060000
END:STANDARD
BEGIN:DAYLIGHT
TZOFFSETFROM:-0500
TZOFFSETTO:-0400
TZNAME:EDT
DTSTART:20240310T070000
END:DAYLIGHT
BEGIN:STANDARD
TZOFFSETFROM:-0400
TZOFFSETTO:-0500
TZNAME:EST
DTSTART:20241103T060000
END:STANDARD
BEGIN:DAYLIGHT
TZOFFSETFROM:-0500
TZOFFSETTO:-0400
TZNAME:EDT
DTSTART:20250309T070000
END:DAYLIGHT
BEGIN:STANDARD
TZOFFSETFROM:-0400
TZOFFSETTO:-0500
TZNAME:EST
DTSTART:20251102T060000
END:STANDARD
END:VTIMEZONE
BEGIN:VEVENT
DTSTART;TZID=America/New_York:20240514T173000
DTEND;TZID=America/New_York:20240514T213000
DTSTAMP:20260425T202540
CREATED:20230815T131708Z
LAST-MODIFIED:20240319T123129Z
UID:14708-1715707800-1715722200@www.hartfordaudubon.org
SUMMARY:Monthly Meeting - 5/14/2024- Annual Banquet / Meeting
DESCRIPTION:Starting at 5:30 pm \nPlease join us for the Annual Banquet at the Pond House in Elizabeth Park\, followed by the Annual Meeting. We’ll review the year\, receive the annual Treasurer’s Report\, present awards\, and elect our Officers and Board Directors. Then\, the evening program will feature a speaker TBD! This evening is the highlight of the year – please plan on attending.  We will also continue the recent tradition of a bird walk in Elizabeth Park prior to dinner.  Details will be sent out via All HAS. \nPlease note that the ticket price will increase from $25 to $35 this year – as decided by the Board of Directors. \nAlso\, there will be a limit of 85 attendees due to logistics\, so if you plan to attend\, buy your ticket early. \nIf you have any questions\, please reach out to Sydnee Foster at fostersydnee@gmail.com or 203-913-8380.
URL:https://www.hartfordaudubon.org/trip-event/monthly-meeting-5-14-2024-annual-banquet-meeting/
LOCATION:Pond House Cafe at Elizabeth Park\, 1555 Asylum Ave.\, West Hartford\, CT\, 06117\, United States
CATEGORIES:Meeting
ORGANIZER;CN="Hartford Audubon Society":MAILTO:info@hartfordaudubon.org
END:VEVENT
END:VCALENDAR