BEGIN:VCALENDAR
VERSION:2.0
PRODID:-// - ECPv6.15.20//NONSGML v1.0//EN
CALSCALE:GREGORIAN
METHOD:PUBLISH
X-ORIGINAL-URL:https://www.hartfordaudubon.org
X-WR-CALDESC:Events for 
REFRESH-INTERVAL;VALUE=DURATION:PT1H
X-Robots-Tag:noindex
X-PUBLISHED-TTL:PT1H
BEGIN:VTIMEZONE
TZID:America/New_York
BEGIN:DAYLIGHT
TZOFFSETFROM:-0500
TZOFFSETTO:-0400
TZNAME:EDT
DTSTART:20230312T070000
END:DAYLIGHT
BEGIN:STANDARD
TZOFFSETFROM:-0400
TZOFFSETTO:-0500
TZNAME:EST
DTSTART:20231105T060000
END:STANDARD
BEGIN:DAYLIGHT
TZOFFSETFROM:-0500
TZOFFSETTO:-0400
TZNAME:EDT
DTSTART:20240310T070000
END:DAYLIGHT
BEGIN:STANDARD
TZOFFSETFROM:-0400
TZOFFSETTO:-0500
TZNAME:EST
DTSTART:20241103T060000
END:STANDARD
BEGIN:DAYLIGHT
TZOFFSETFROM:-0500
TZOFFSETTO:-0400
TZNAME:EDT
DTSTART:20250309T070000
END:DAYLIGHT
BEGIN:STANDARD
TZOFFSETFROM:-0400
TZOFFSETTO:-0500
TZNAME:EST
DTSTART:20251102T060000
END:STANDARD
END:VTIMEZONE
BEGIN:VEVENT
DTSTART;TZID=America/New_York:20240910T190000
DTEND;TZID=America/New_York:20240910T210000
DTSTAMP:20260425T142453
CREATED:20240804T152154Z
LAST-MODIFIED:20240912T192619Z
UID:15283-1725994800-1726002000@www.hartfordaudubon.org
SUMMARY:Monthly Meeting - Dark Sky International - September 10\, 2024
DESCRIPTION:Sep 10             ✪ Monthly Meeting ✪          Tue 7:30 pm \nSocial Time at 7:00pm \nSt James’s Episcopal Church\,1018 Farmington Ave\, WH \nSpeaker:  Leo Smith  \nDark Sky International \nLeo Smith is the Chair of the Connecticut Chapter of Dark Sky International. He was instrumental in the adoption of a light pollution control amendment to the Connecticut state building code in 2004.  This program will help us understand the adverse consequences of light pollution on birds\, bugs\, bats\, people\, climate change and energy usage. \nFrances D’Amico      frandamico525@yahoo.com  203-237-2734  T \nVideo of Presentation
URL:https://www.hartfordaudubon.org/trip-event/monthly-meeting-dark-sky-international-september-10-2024/
LOCATION:St. James’s Episcopal Church\, 1018 Farmington Ave.\, West Hartford\, CT\, 06127\, United States
CATEGORIES:Meeting
ORGANIZER;CN="Frances D%E2%80%99Amico":MAILTO:frandamico525@yahoo.com
END:VEVENT
END:VCALENDAR