BEGIN:VCALENDAR
VERSION:2.0
PRODID:-// - ECPv6.15.20//NONSGML v1.0//EN
CALSCALE:GREGORIAN
METHOD:PUBLISH
X-ORIGINAL-URL:https://www.hartfordaudubon.org
X-WR-CALDESC:Events for 
REFRESH-INTERVAL;VALUE=DURATION:PT1H
X-Robots-Tag:noindex
X-PUBLISHED-TTL:PT1H
BEGIN:VTIMEZONE
TZID:America/New_York
BEGIN:DAYLIGHT
TZOFFSETFROM:-0500
TZOFFSETTO:-0400
TZNAME:EDT
DTSTART:20230312T070000
END:DAYLIGHT
BEGIN:STANDARD
TZOFFSETFROM:-0400
TZOFFSETTO:-0500
TZNAME:EST
DTSTART:20231105T060000
END:STANDARD
BEGIN:DAYLIGHT
TZOFFSETFROM:-0500
TZOFFSETTO:-0400
TZNAME:EDT
DTSTART:20240310T070000
END:DAYLIGHT
BEGIN:STANDARD
TZOFFSETFROM:-0400
TZOFFSETTO:-0500
TZNAME:EST
DTSTART:20241103T060000
END:STANDARD
BEGIN:DAYLIGHT
TZOFFSETFROM:-0500
TZOFFSETTO:-0400
TZNAME:EDT
DTSTART:20250309T070000
END:DAYLIGHT
BEGIN:STANDARD
TZOFFSETFROM:-0400
TZOFFSETTO:-0500
TZNAME:EST
DTSTART:20251102T060000
END:STANDARD
END:VTIMEZONE
BEGIN:VEVENT
DTSTART;TZID=America/New_York:20241008T070000
DTEND;TZID=America/New_York:20241008T210000
DTSTAMP:20260425T125917
CREATED:20240804T152510Z
LAST-MODIFIED:20240804T152811Z
UID:15285-1728370800-1728421200@www.hartfordaudubon.org
SUMMARY:Monthly Meeting - October 8\, 2024
DESCRIPTION:Oct 8               ✪ Monthly Meeting ✪          Tue 7:30 pm \nSocial Time at 7:00 pm \nSt James’s Episcopal Church\,1018 Farmington Ave\, WH \nSpeaker: Sylvia Halkin\, Ph.D. \nChanges in Northern Cardinal Songs Over Time and Space \nA Northern Cardinal learns its songs from its neighbors during its first year of life. The same repertoire of 8-12 songs is sung by all the male and female cardinals in a local population\, but some songs are not sung by cardinals outside that population\, while other songs are much more widespread. To better understand how songs evolve\, in 2021 I recorded cardinals at the same location where I had recorded them intensively in the 1980s!  Some songs had added a new segment but were still recognizable after 40 years; others had been replaced by completely different songs. The long-lasting songs were also the most widespread: they were sung along much of the length of 100-mile N/S and E/W transects centered on the 1980s recording location.  Such widely shared songs may help cardinals to communicate with new neighbors if they settle away from the location where they learned their songs. \n  \nSylvia was a Professor in the Biology Department at CCSU for 30 years\, teaching Ornithology\, Animal Behavior\, Natural History of Connecticut\, Field Biology courses abroad (England\, Ireland\, Australia\, India)\, and other courses to undergraduate and graduate students. Her published research includes articles on how birds use their song repertoires\, nut-caching behavior of eastern gray squirrels (with CCSU student co-authors\, also included in an Animal Planet “Most Extreme Pirates” episode)\, and on foraging niches of Black-capped Chickadees and Tufted Titmice\, Sandy’s Point’s Least Tern colony\, and how strangler figs may help their host trees to weather storms (with CCSU student lead authors John Correia\, Jennifer Healy\, and Leora Richard\, respectively).  She is the lead author of the comprehensive Birds of the World species account for Northern Cardinals\, researched and written with a great team of co-authors. \nFrances D’Amico      frandamico525@yahoo.com      203-237-2734  
URL:https://www.hartfordaudubon.org/trip-event/monthly-meeting-october-8-2024/
LOCATION:St. James’s Episcopal Church\, 1018 Farmington Ave.\, West Hartford\, CT\, 06127\, United States
CATEGORIES:Meeting
ORGANIZER;CN="Frances D%E2%80%99Amico":MAILTO:frandamico525@yahoo.com
END:VEVENT
END:VCALENDAR