BEGIN:VCALENDAR
VERSION:2.0
PRODID:-// - ECPv6.15.20//NONSGML v1.0//EN
CALSCALE:GREGORIAN
METHOD:PUBLISH
X-ORIGINAL-URL:https://www.hartfordaudubon.org
X-WR-CALDESC:Events for 
REFRESH-INTERVAL;VALUE=DURATION:PT1H
X-Robots-Tag:noindex
X-PUBLISHED-TTL:PT1H
BEGIN:VTIMEZONE
TZID:America/New_York
BEGIN:DAYLIGHT
TZOFFSETFROM:-0500
TZOFFSETTO:-0400
TZNAME:EDT
DTSTART:20240310T070000
END:DAYLIGHT
BEGIN:STANDARD
TZOFFSETFROM:-0400
TZOFFSETTO:-0500
TZNAME:EST
DTSTART:20241103T060000
END:STANDARD
BEGIN:DAYLIGHT
TZOFFSETFROM:-0500
TZOFFSETTO:-0400
TZNAME:EDT
DTSTART:20250309T070000
END:DAYLIGHT
BEGIN:STANDARD
TZOFFSETFROM:-0400
TZOFFSETTO:-0500
TZNAME:EST
DTSTART:20251102T060000
END:STANDARD
BEGIN:DAYLIGHT
TZOFFSETFROM:-0500
TZOFFSETTO:-0400
TZNAME:EDT
DTSTART:20260308T070000
END:DAYLIGHT
BEGIN:STANDARD
TZOFFSETFROM:-0400
TZOFFSETTO:-0500
TZNAME:EST
DTSTART:20261101T060000
END:STANDARD
END:VTIMEZONE
BEGIN:VEVENT
DTSTART;TZID=America/New_York:20250211T070000
DTEND;TZID=America/New_York:20250211T210000
DTSTAMP:20260425T064509
CREATED:20240905T162849Z
LAST-MODIFIED:20250211T151633Z
UID:15385-1739257200-1739307600@www.hartfordaudubon.org
SUMMARY:Monthly Meeting - February 11\, 2025 - Doug Beach - Meadowood Really is For the Birds
DESCRIPTION:Feb 11 ✪ Monthly Meeting ✪ Tue 7:30 pmSocial Time at 7:00 pmSt James’s Episcopal Church\,1018 Farmington Ave\, WH \n\nDouglas Beach will be presenting ‘Meadowood Really is For the Birds‘. \n\nThe Meadowood property in Simsbury is a magnet for geese\, having hosted Ross’s\, Pink-footed\, and Greater White-fronted among others. Hear the riveting story of how the people of Simsbury battled city hall\, and how Meadowood\, once destined to become a 300-unit subdivision\, instead became an oasis for birds.\nContact Frances D’Amico frandamico525@yahoo.com 203–715–6313 T \n\nBelow is the Zoom link to the meeting. \n\nJoin Zoom Meeting\nhttps://us02web.zoom.us/j/84303142931 \nMeeting ID: 843 0314 2931 \nOne tap mobile\n+13052241968\,\,84303142931# US\n+13092053325\,\,84303142931# US \n— \nDial by your location\n• +1 305 224 1968 US\n• +1 309 205 3325 US\n• +1 312 626 6799 US (Chicago)\n• +1 646 931 3860 US\n• +1 929 205 6099 US (New York)\n• +1 301 715 8592 US (Washington DC)\n• +1 386 347 5053 US\n• +1 507 473 4847 US\n• +1 564 217 2000 US\n• +1 669 444 9171 US\n• +1 669 900 6833 US (San Jose)\n• +1 689 278 1000 US\n• +1 719 359 4580 US\n• +1 253 205 0468 US\n• +1 253 215 8782 US (Tacoma)\n• +1 346 248 7799 US (Houston)\n• +1 360 209 5623 US \nMeeting ID: 843 0314 2931 \nFind your local number: https://us02web.zoom.us/u/kbgxFnDjGy
URL:https://www.hartfordaudubon.org/trip-event/monthly-meeting-february-11-2025-speaker-tbd/
LOCATION:St. James’s Episcopal Church\, 1018 Farmington Ave.\, West Hartford\, CT\, 06127\, United States
CATEGORIES:Meeting
ORGANIZER;CN="Hartford Audubon Society":MAILTO:info@hartfordaudubon.org
END:VEVENT
END:VCALENDAR