BEGIN:VCALENDAR
VERSION:2.0
PRODID:-// - ECPv6.15.20//NONSGML v1.0//EN
CALSCALE:GREGORIAN
METHOD:PUBLISH
X-ORIGINAL-URL:https://www.hartfordaudubon.org
X-WR-CALDESC:Events for 
REFRESH-INTERVAL;VALUE=DURATION:PT1H
X-Robots-Tag:noindex
X-PUBLISHED-TTL:PT1H
BEGIN:VTIMEZONE
TZID:America/New_York
BEGIN:DAYLIGHT
TZOFFSETFROM:-0500
TZOFFSETTO:-0400
TZNAME:EDT
DTSTART:20240310T070000
END:DAYLIGHT
BEGIN:STANDARD
TZOFFSETFROM:-0400
TZOFFSETTO:-0500
TZNAME:EST
DTSTART:20241103T060000
END:STANDARD
BEGIN:DAYLIGHT
TZOFFSETFROM:-0500
TZOFFSETTO:-0400
TZNAME:EDT
DTSTART:20250309T070000
END:DAYLIGHT
BEGIN:STANDARD
TZOFFSETFROM:-0400
TZOFFSETTO:-0500
TZNAME:EST
DTSTART:20251102T060000
END:STANDARD
BEGIN:DAYLIGHT
TZOFFSETFROM:-0500
TZOFFSETTO:-0400
TZNAME:EDT
DTSTART:20260308T070000
END:DAYLIGHT
BEGIN:STANDARD
TZOFFSETFROM:-0400
TZOFFSETTO:-0500
TZNAME:EST
DTSTART:20261101T060000
END:STANDARD
END:VTIMEZONE
BEGIN:VEVENT
DTSTART;TZID=America/New_York:20250909T190000
DTEND;TZID=America/New_York:20250909T210000
DTSTAMP:20260424T201238
CREATED:20250728T162259Z
LAST-MODIFIED:20250728T162259Z
UID:15730-1757444400-1757451600@www.hartfordaudubon.org
SUMMARY:September 9 - Monthly Meeting - Birds I've Watched in India
DESCRIPTION:Sep 9 ✪ Monthly Meeting ✪ Tue 7:30 pmSocial Time at 7:00pmSt James’s Episcopal Church\,1018 Farmington Ave\, WH \nSpeaker: Sylvia Halkin: Professor Emeritus CCSUBirds I’ve Watched in India \nI’ll tell you about the behavior and ecology of some wonderfulIndian birds. Soaring groups of scavenging Black Kites\, PaintedStorks with day–glo pink feathers in their wings\, standing in theriver by the Taj Mahal\, Blue Whistling–Thrush a lapis jewel in adarjeeling tea plantation\, glimpses of huge Gray–headedSwamphens in water hyacinth beds in Kerala waterways\, callingKoels easier heard than seen\, and more. I’ll demonstrate fieldguide capacities of regional Merlin Bird Packs\, and when to guessa bird might have “magpie” in its name. \nAlison Wilcox Speakers@HartfordAudubon.org 860–707–5907 T
URL:https://www.hartfordaudubon.org/trip-event/september-9-monthly-meeting-birds-ive-watched-in-india/
LOCATION:St. James’s Episcopal Church\, 1018 Farmington Ave.\, West Hartford\, CT\, 06127\, United States
CATEGORIES:Meeting
ORGANIZER;CN="Hartford Audubon Society":MAILTO:info@hartfordaudubon.org
END:VEVENT
END:VCALENDAR