BEGIN:VCALENDAR
VERSION:2.0
PRODID:-// - ECPv6.15.20//NONSGML v1.0//EN
CALSCALE:GREGORIAN
METHOD:PUBLISH
X-ORIGINAL-URL:https://www.hartfordaudubon.org
X-WR-CALDESC:Events for 
REFRESH-INTERVAL;VALUE=DURATION:PT1H
X-Robots-Tag:noindex
X-PUBLISHED-TTL:PT1H
BEGIN:VTIMEZONE
TZID:America/New_York
BEGIN:DAYLIGHT
TZOFFSETFROM:-0500
TZOFFSETTO:-0400
TZNAME:EDT
DTSTART:20240310T070000
END:DAYLIGHT
BEGIN:STANDARD
TZOFFSETFROM:-0400
TZOFFSETTO:-0500
TZNAME:EST
DTSTART:20241103T060000
END:STANDARD
BEGIN:DAYLIGHT
TZOFFSETFROM:-0500
TZOFFSETTO:-0400
TZNAME:EDT
DTSTART:20250309T070000
END:DAYLIGHT
BEGIN:STANDARD
TZOFFSETFROM:-0400
TZOFFSETTO:-0500
TZNAME:EST
DTSTART:20251102T060000
END:STANDARD
BEGIN:DAYLIGHT
TZOFFSETFROM:-0500
TZOFFSETTO:-0400
TZNAME:EDT
DTSTART:20260308T070000
END:DAYLIGHT
BEGIN:STANDARD
TZOFFSETFROM:-0400
TZOFFSETTO:-0500
TZNAME:EST
DTSTART:20261101T060000
END:STANDARD
END:VTIMEZONE
BEGIN:VEVENT
DTSTART;TZID=America/New_York:20251014T190000
DTEND;TZID=America/New_York:20251014T210000
DTSTAMP:20260424T183425
CREATED:20250729T133903Z
LAST-MODIFIED:20251001T175801Z
UID:15761-1760468400-1760475600@www.hartfordaudubon.org
SUMMARY:October Meeting: The Plight of Our Birds\, A Call to Action - 10/14/2025
DESCRIPTION:Oct 14 ✪ Monthly Meeting ✪ Tue 7:30 pmSocial Time at 7:00pmSt James’s Episcopal Church\,1018 Farmington Ave\, WH \nSpeakers:  \n\nDr. Min Huang: Research Scientist UCONN\,Department of Natural Resources & the Environment\, MigratoryBird Program Leader; Wildlife Biologist DEEP\nCraig Repasz:  President of the Friends of Stewart B McKinney NWR\, Conservation Chair and past president of New Haven Bird Club.\n\nThe Plight of Our Birds\, A Call to Action \nJoin us to learn about the recently completed CT Bird Atlas and theoverall plight of birds in North America. Find out how we can workcollectively to change the trajectory of many of our cherished birds. \nAlison Wilcox Speakers@HartfordAudubon.org 860–707–5907 T
URL:https://www.hartfordaudubon.org/trip-event/october-monthly-meeting-the-plight-of-our-birds-october-14-2025/
LOCATION:St. James’s Episcopal Church\, 1018 Farmington Ave.\, West Hartford\, CT\, 06127\, United States
CATEGORIES:Meeting
ORGANIZER;CN="Hartford Audubon Society":MAILTO:info@hartfordaudubon.org
END:VEVENT
END:VCALENDAR