BEGIN:VCALENDAR
VERSION:2.0
PRODID:-// - ECPv6.15.20//NONSGML v1.0//EN
CALSCALE:GREGORIAN
METHOD:PUBLISH
X-ORIGINAL-URL:https://www.hartfordaudubon.org
X-WR-CALDESC:Events for 
REFRESH-INTERVAL;VALUE=DURATION:PT1H
X-Robots-Tag:noindex
X-PUBLISHED-TTL:PT1H
BEGIN:VTIMEZONE
TZID:America/New_York
BEGIN:DAYLIGHT
TZOFFSETFROM:-0500
TZOFFSETTO:-0400
TZNAME:EDT
DTSTART:20250309T070000
END:DAYLIGHT
BEGIN:STANDARD
TZOFFSETFROM:-0400
TZOFFSETTO:-0500
TZNAME:EST
DTSTART:20251102T060000
END:STANDARD
BEGIN:DAYLIGHT
TZOFFSETFROM:-0500
TZOFFSETTO:-0400
TZNAME:EDT
DTSTART:20260308T070000
END:DAYLIGHT
BEGIN:STANDARD
TZOFFSETFROM:-0400
TZOFFSETTO:-0500
TZNAME:EST
DTSTART:20261101T060000
END:STANDARD
BEGIN:DAYLIGHT
TZOFFSETFROM:-0500
TZOFFSETTO:-0400
TZNAME:EDT
DTSTART:20270314T070000
END:DAYLIGHT
BEGIN:STANDARD
TZOFFSETFROM:-0400
TZOFFSETTO:-0500
TZNAME:EST
DTSTART:20271107T060000
END:STANDARD
END:VTIMEZONE
BEGIN:VEVENT
DTSTART;TZID=America/New_York:20260512T163000
DTEND;TZID=America/New_York:20260512T213000
DTSTAMP:20260424T102506
CREATED:20250804T154230Z
LAST-MODIFIED:20260418T170551Z
UID:15860-1778603400-1778621400@www.hartfordaudubon.org
SUMMARY:Annual Meeting / Banquet - May 12\, 2026
DESCRIPTION:May 12 – Annual Meeting & Banquet-   Tue 5:30 pmPond House\, Elizabeth Park1555 Asylum Ave\, West Hartford \nYou are cordially invited to our Annual Meeting and Banquet to beheld at the Pond House Cafe\, 1555 Asylum Ave\, West Hartford\,CT\, on Tuesday\, May 12th. This event begins with a guided birdwalk through Elizabeth Park for those who wish to take part.Gather by the Pond House Cafe entrance at 4:30 and a walk leaderwill take you on your way. The meeting and awards ceremonybegin at 6:00\, followed by dinner.\nAudrey Staropoli Audrey@hartfordaudubon.org 860–961–6330 T
URL:https://www.hartfordaudubon.org/trip-event/annual-meeting-banquet-may-12-2026/
LOCATION:Pond House Cafe at Elizabeth Park\, 1555 Asylum Ave.\, West Hartford\, CT\, 06117\, United States
CATEGORIES:Meeting
ORGANIZER;CN="Hartford Audubon Society":MAILTO:info@hartfordaudubon.org
END:VEVENT
END:VCALENDAR