BEGIN:VCALENDAR
VERSION:2.0
PRODID:-// - ECPv6.15.20//NONSGML v1.0//EN
CALSCALE:GREGORIAN
METHOD:PUBLISH
X-ORIGINAL-URL:https://www.hartfordaudubon.org
X-WR-CALDESC:Events for 
REFRESH-INTERVAL;VALUE=DURATION:PT1H
X-Robots-Tag:noindex
X-PUBLISHED-TTL:PT1H
BEGIN:VTIMEZONE
TZID:America/New_York
BEGIN:DAYLIGHT
TZOFFSETFROM:-0500
TZOFFSETTO:-0400
TZNAME:EDT
DTSTART:20250309T070000
END:DAYLIGHT
BEGIN:STANDARD
TZOFFSETFROM:-0400
TZOFFSETTO:-0500
TZNAME:EST
DTSTART:20251102T060000
END:STANDARD
BEGIN:DAYLIGHT
TZOFFSETFROM:-0500
TZOFFSETTO:-0400
TZNAME:EDT
DTSTART:20260308T070000
END:DAYLIGHT
BEGIN:STANDARD
TZOFFSETFROM:-0400
TZOFFSETTO:-0500
TZNAME:EST
DTSTART:20261101T060000
END:STANDARD
BEGIN:DAYLIGHT
TZOFFSETFROM:-0500
TZOFFSETTO:-0400
TZNAME:EDT
DTSTART:20270314T070000
END:DAYLIGHT
BEGIN:STANDARD
TZOFFSETFROM:-0400
TZOFFSETTO:-0500
TZNAME:EST
DTSTART:20271107T060000
END:STANDARD
END:VTIMEZONE
BEGIN:VEVENT
DTSTART;TZID=America/New_York:20260113T190000
DTEND;TZID=America/New_York:20260113T210000
DTSTAMP:20260425T185733
CREATED:20250731T130922Z
LAST-MODIFIED:20250803T165144Z
UID:15785-1768330800-1768338000@www.hartfordaudubon.org
SUMMARY:Monthly Meeting - Senator George P. McLean and the Migratory Bird Treaty Act - January 13\, 2026
DESCRIPTION:Jan 13 ✪ Monthly Meeting ✪ Tue 7:30 pmSocial Time at 7:00pmSt James’s Episcopal Church\,1018 Farmington Ave\, WH \nSpeaker: Will Mclean Greenley\, AuthorBirdman of the Senate: Senator George P. McLeanand the Migratory Bird Treaty ActPresentation by ZOOM. Greeley\, McLean’s great–great nephewwill discuss his biography of Senator George P. McLean\, titled AConnecticut Yankee Goes to Washington: Senator George P.McLean\, Birdman of the Senate. Connecticut’s own SenatorMcLean helped establish legal protections for birds\, including thepassage of the 1918 Migratory Bird Treaty Act. \nAlison Wilcox Speakers@HartfordAudubon.org 860–707–5907
URL:https://www.hartfordaudubon.org/trip-event/monthly-meeting-senator-george-p-mclean-and-the-migratory-bird-treaty-act-january-13-2025/
LOCATION:St. James’s Episcopal Church\, 1018 Farmington Ave.\, West Hartford\, CT\, 06127\, United States
CATEGORIES:Meeting
ORGANIZER;CN="Hartford Audubon Society":MAILTO:info@hartfordaudubon.org
END:VEVENT
BEGIN:VEVENT
DTSTART;TZID=America/New_York:20260210T190000
DTEND;TZID=America/New_York:20260210T210000
DTSTAMP:20260425T185733
CREATED:20250731T133556Z
LAST-MODIFIED:20250731T133927Z
UID:15793-1770750000-1770757200@www.hartfordaudubon.org
SUMMARY:Monthly Meeting - Managing for Biodiversity - February 10\, 2026
DESCRIPTION:Feb 10 ✪ Monthly Meeting ✪ Tue 7:30 pmSocial Time at 7:00pmSt James’s Episcopal Church\,1018 Farmington Ave\, WH \nSpeaker: Connor Hogan: Director\, McLean Game RefugeMcLean Game Refuge: Managing For BiodiversityDiscover the McLean Game Refuge of today with Director ConnorHogan! Join us for a better understanding of what goes intomanaging for biodiversity on this special property whichencompasses ~4\,410 acres. \nAlison Wilcox Speakers@HartfordAudubon.org 860–707–5907 T
URL:https://www.hartfordaudubon.org/trip-event/monthly-meeting-managing-for-biodiversity-february-10-2026/
LOCATION:St. James’s Episcopal Church\, 1018 Farmington Ave.\, West Hartford\, CT\, 06127\, United States
CATEGORIES:Meeting
ORGANIZER;CN="Hartford Audubon Society":MAILTO:info@hartfordaudubon.org
END:VEVENT
BEGIN:VEVENT
DTSTART;TZID=America/New_York:20260310T190000
DTEND;TZID=America/New_York:20260310T210000
DTSTAMP:20260425T185733
CREATED:20250731T153521Z
LAST-MODIFIED:20260204T154456Z
UID:15815-1773169200-1773176400@www.hartfordaudubon.org
SUMMARY:Monthly Meeting - 30 years of dragonflies and damselflies in the Farmington River Valley - March 10\, 2026
DESCRIPTION:March 10 ✪ Monthly Meeting ✪ Tue 7:30 pmSocial Time at 7:00pmSt James’s Episcopal Church\,1018 Farmington Ave\, WHSpeaker: Jay Kaplan: Director of Roaring Brook Nature Center\nChasing Dragons: 30 years of dragonflies anddamselflies in the Farmington River Valley\nOdonata (dragonflies and damselflies) are indicator species ofhealthy ecosystems. Come learn about how the composition ofodonata has changed along the lower Farmington River andSalmon Brook over the last 30 years.\n\nAlison Wilcox Speakers@HartfordAudubon.org 860–707–5907 T
URL:https://www.hartfordaudubon.org/trip-event/monthly-meeting-30-years-of-dragonflies-and-damselflies-in-the-farmington-river-valley-april-14-2026/
LOCATION:St. James’s Episcopal Church\, 1018 Farmington Ave.\, West Hartford\, CT\, 06127\, United States
CATEGORIES:Meeting
ORGANIZER;CN="Hartford Audubon Society":MAILTO:info@hartfordaudubon.org
END:VEVENT
BEGIN:VEVENT
DTSTART;TZID=America/New_York:20260414T190000
DTEND;TZID=America/New_York:20260414T210000
DTSTAMP:20260425T185733
CREATED:20250731T135441Z
LAST-MODIFIED:20260204T154238Z
UID:15799-1776193200-1776200400@www.hartfordaudubon.org
SUMMARY:Monthly Meeting:  Madagascar- A Mysterious Island with Amazing Wildlife - April 14\, 2026
DESCRIPTION:April 14  ✪ Monthly Meeting ✪ Tue 7:30 pmSocial Time at 7:00pmSt James’s Episcopal Church\,1018 Farmington Ave\, WH \nSpeaker: Angela Dimmitt: President of the Western CT Bird ClubMadagascar– A Mysterious Island with Amazing Wildlife \nThe island of Madagascar is an ecological wonder with over 90%of its birds\, animals\, insects\, reptiles\, and plants found nowhereelse on Earth! The people of Madagascar too are very interesting\,with possible Indonesian origins although the island is off the eastcoast of Africa. Their language\, Malagasy\, is unlike any other. \nAlison Wilcox Speakers@HartfordAudubon.org 860–707–5907
URL:https://www.hartfordaudubon.org/trip-event/monthly-meeting-madagascar-a-mysterious-island-with-amazing-wildlife-march-10-2026/
LOCATION:St. James’s Episcopal Church\, 1018 Farmington Ave.\, West Hartford\, CT\, 06127\, United States
CATEGORIES:Meeting
END:VEVENT
BEGIN:VEVENT
DTSTART;TZID=America/New_York:20260512T163000
DTEND;TZID=America/New_York:20260512T213000
DTSTAMP:20260425T185733
CREATED:20250804T154230Z
LAST-MODIFIED:20260418T170551Z
UID:15860-1778603400-1778621400@www.hartfordaudubon.org
SUMMARY:Annual Meeting / Banquet - May 12\, 2026
DESCRIPTION:May 12 – Annual Meeting & Banquet-   Tue 5:30 pmPond House\, Elizabeth Park1555 Asylum Ave\, West Hartford \nYou are cordially invited to our Annual Meeting and Banquet to beheld at the Pond House Cafe\, 1555 Asylum Ave\, West Hartford\,CT\, on Tuesday\, May 12th. This event begins with a guided birdwalk through Elizabeth Park for those who wish to take part.Gather by the Pond House Cafe entrance at 4:30 and a walk leaderwill take you on your way. The meeting and awards ceremonybegin at 6:00\, followed by dinner.\nAudrey Staropoli Audrey@hartfordaudubon.org 860–961–6330 T
URL:https://www.hartfordaudubon.org/trip-event/annual-meeting-banquet-may-12-2026/
LOCATION:Pond House Cafe at Elizabeth Park\, 1555 Asylum Ave.\, West Hartford\, CT\, 06117\, United States
CATEGORIES:Meeting
ORGANIZER;CN="Hartford Audubon Society":MAILTO:info@hartfordaudubon.org
END:VEVENT
BEGIN:VEVENT
DTSTART;TZID=America/New_York:20260609T180000
DTEND;TZID=America/New_York:20260609T203000
DTSTAMP:20260425T185733
CREATED:20250807T165527Z
LAST-MODIFIED:20250807T165527Z
UID:15888-1781028000-1781037000@www.hartfordaudubon.org
SUMMARY:Annual Picnic and Bird walk - June 9\, 2026
DESCRIPTION:Jun 9 🍉 Annual Picnic and Birdwalk 🍉 Tue 6 pmNorthwest Park\, 145 Lang Rd\, WindsorPark in lot\, cross bridge to Warming Shed\nJoin us for a guided bird walk and socializing to kick off thesummer! The bird walk will start at 5:00 pm and species wetypically see include orioles\, indigo buntings\, and easternbluebirds. The picnic will begin at 6:00. BYO dinner\, utensils\, andplace setting. HAS will provide drinks and dessert. The picnic willconclude with a brief meeting.\nAudrey Staropoli Audrey@hartfordaudubon.org 860–961–6330 T
URL:https://www.hartfordaudubon.org/trip-event/annual-picnic-and-bird-walk-june-9-2026/
LOCATION:Northwest Park\, 145 Lang Rd.\, Windsor\, CT\, 06095\, United States
CATEGORIES:Meeting
ORGANIZER;CN="Hartford Audubon Society":MAILTO:info@hartfordaudubon.org
END:VEVENT
END:VCALENDAR