BEGIN:VCALENDAR
VERSION:2.0
PRODID:-// - ECPv6.15.20//NONSGML v1.0//EN
CALSCALE:GREGORIAN
METHOD:PUBLISH
X-ORIGINAL-URL:https://www.hartfordaudubon.org
X-WR-CALDESC:Events for 
REFRESH-INTERVAL;VALUE=DURATION:PT1H
X-Robots-Tag:noindex
X-PUBLISHED-TTL:PT1H
BEGIN:VTIMEZONE
TZID:America/New_York
BEGIN:DAYLIGHT
TZOFFSETFROM:-0500
TZOFFSETTO:-0400
TZNAME:EDT
DTSTART:20170312T070000
END:DAYLIGHT
BEGIN:STANDARD
TZOFFSETFROM:-0400
TZOFFSETTO:-0500
TZNAME:EST
DTSTART:20171105T060000
END:STANDARD
BEGIN:DAYLIGHT
TZOFFSETFROM:-0500
TZOFFSETTO:-0400
TZNAME:EDT
DTSTART:20180311T070000
END:DAYLIGHT
BEGIN:STANDARD
TZOFFSETFROM:-0400
TZOFFSETTO:-0500
TZNAME:EST
DTSTART:20181104T060000
END:STANDARD
BEGIN:DAYLIGHT
TZOFFSETFROM:-0500
TZOFFSETTO:-0400
TZNAME:EDT
DTSTART:20190310T070000
END:DAYLIGHT
BEGIN:STANDARD
TZOFFSETFROM:-0400
TZOFFSETTO:-0500
TZNAME:EST
DTSTART:20191103T060000
END:STANDARD
BEGIN:DAYLIGHT
TZOFFSETFROM:-0500
TZOFFSETTO:-0400
TZNAME:EDT
DTSTART:20200308T070000
END:DAYLIGHT
BEGIN:STANDARD
TZOFFSETFROM:-0400
TZOFFSETTO:-0500
TZNAME:EST
DTSTART:20201101T060000
END:STANDARD
BEGIN:DAYLIGHT
TZOFFSETFROM:-0500
TZOFFSETTO:-0400
TZNAME:EDT
DTSTART:20210314T070000
END:DAYLIGHT
BEGIN:STANDARD
TZOFFSETFROM:-0400
TZOFFSETTO:-0500
TZNAME:EST
DTSTART:20211107T060000
END:STANDARD
END:VTIMEZONE
BEGIN:VEVENT
DTSTART;TZID=America/New_York:20200609T180000
DTEND;TZID=America/New_York:20200609T210000
DTSTAMP:20260424T165348
CREATED:20190803T215615Z
LAST-MODIFIED:20200531T224109Z
UID:1389-1591725600-1591736400@www.hartfordaudubon.org
SUMMARY:Canceled -  June 9\, 2020 - Pot Luck Picnic and Bird Walk
DESCRIPTION:Dear Hartford Audubon Members\,\n\nWith sadness I’m writing to let you know that we’re canceling the June 9th Potluck Picnic we hold every year at Northwest Park.  The Park has canceled all events\, and although we considered relocating the picnic it seems premature for us to return to a social event.  So\, I wish you all a wonderful summer!\n\nThe new Program Book will be mailed in August.  I look forward to seeing you all while out birding — socially distanced\, of course!\n\nSarah Faulkner\nHAS President\n 
URL:https://www.hartfordaudubon.org/trip-event/june-9-2020-pot-luck-picnic-and-bird-walk/
CATEGORIES:Meeting
END:VEVENT
BEGIN:VEVENT
DTSTART;TZID=America/New_York:20200512T000000
DTEND;TZID=America/New_York:20200512T000000
DTSTAMP:20260424T165348
CREATED:20190803T214919Z
LAST-MODIFIED:20200508T211641Z
UID:1385-1589241600-1589241600@www.hartfordaudubon.org
SUMMARY:May 12\, 2020:  Annual Meeting Held Via Zoom for members:  Banquet postponed to October
DESCRIPTION:Tuesday\, May 12: Annual Meeting and Evening Program will be held virtually.  Members will be emailed login information for the meeting.  Questions?  email sffaulkner@comcast.net \nThe Annual Meeting features the election of Officers and Directors\, the Treasurer’s Report\, presentation of awards\, and the President’s update on the organization. \nThe annual banquet\, usually held in May\, will be postponed till October\, 2020 – More details will be shared\, when appropriate. \n  \n 
URL:https://www.hartfordaudubon.org/trip-event/may-12-2020-banquet-and-annual-meeting/
CATEGORIES:Meeting
END:VEVENT
BEGIN:VEVENT
DTSTART;TZID=America/New_York:20200414T193000
DTEND;TZID=America/New_York:20200414T210000
DTSTAMP:20260424T165348
CREATED:20190803T214556Z
LAST-MODIFIED:20200406T002908Z
UID:1383-1586892600-1586898000@www.hartfordaudubon.org
SUMMARY:Canceled - April 14\, 2020 - Magee Marsh - The Warbler Capital of the World
DESCRIPTION:Speaker: Matthew Bell \nMagee Marsh – The Warbler Capital of the World – Join Matt as he talks about his experiences at Magee Marsh and “The Biggest Week in American Birding\,” one of the largest birding festivals in the world. This spectacle of The Biggest Week is one all birders should have on their bucket list! Matt works for CT Audubon where he leads Day Trips and Overnight Tours. \nSt James’s Episcopal Church\, 1018 Farmington Ave\, W Hartford \nSocial Time – 7 pm \nMeeting – 7:30 pm
URL:https://www.hartfordaudubon.org/trip-event/april-14-2019-magee-marsh-the-warbler-capital-of-the-world/
CATEGORIES:Meeting
END:VEVENT
BEGIN:VEVENT
DTSTART;TZID=America/New_York:20200310T193000
DTEND;TZID=America/New_York:20200310T210000
DTSTAMP:20260424T165348
CREATED:20190803T214339Z
LAST-MODIFIED:20190824T235052Z
UID:1381-1583868600-1583874000@www.hartfordaudubon.org
SUMMARY:March 10\, 2020 - Our Forests and Their Birds
DESCRIPTION:Speaker: Connor Hogan \nOur Forests and Their Birds – This talk will examine the dynamic relationship between forests and birds within the McLean Game Refuge and explore how management activities can shift population trajectories for both. In 2017 Connor became the Director of McLean Game Refuge where he oversees research\, conservation\, education\, and recreation across the refuge’s 4\,400 acres of varied habitats. \nSt James’s Episcopal Church\, 1018 Farmington Ave\, W Hartford \nSocial Time – 7 pm \nMeeting – 7:30 pm
URL:https://www.hartfordaudubon.org/trip-event/march-10-2020-our-forests-and-their-birds/
CATEGORIES:Meeting
END:VEVENT
BEGIN:VEVENT
DTSTART;TZID=America/New_York:20200211T193000
DTEND;TZID=America/New_York:20200211T210000
DTSTAMP:20260424T165348
CREATED:20190803T213848Z
LAST-MODIFIED:20190824T235458Z
UID:1379-1581449400-1581454800@www.hartfordaudubon.org
SUMMARY:February 11\, 2020 - Birding Outer Cape Cod -
DESCRIPTION:Speaker: Steve Broker \nBirding Outer Cape Cod – From Monomoy National Wildlife Refuge in Chatham to Provincetown’s Race Point\, Herring Cove\, and Beach Forest\, the Outer Cape Cod is one of the great places in America to look for and identify a broad diversity of bird species. Steve will share with birders the many rich habitats. \nSt James’s Episcopal Church\, 1018 Farmington Ave\, W Hartford \nSocial Time – 7 pm \nMeeting – 7:30 pm
URL:https://www.hartfordaudubon.org/trip-event/february-11-2019-birding-outer-cape-cod/
CATEGORIES:Meeting
END:VEVENT
BEGIN:VEVENT
DTSTART;TZID=America/New_York:20200114T193000
DTEND;TZID=America/New_York:20200114T210000
DTSTAMP:20260424T165348
CREATED:20190803T213509Z
LAST-MODIFIED:20190824T235526Z
UID:1377-1579030200-1579035600@www.hartfordaudubon.org
SUMMARY:January 14\, 2020 - Butterfly Gardens Are for The Birds
DESCRIPTION:Speaker: Margery Winters \nButterfly Gardens Are for The Birds – Butterfly gardens may attract a host of beautiful winged creatures to your yard\, not just butterflies. Find out what makes a successful butterfly habitat. Margery is the Assistant Director and instructor at Roaring Brook Nature Center in Canton and manages their native plant gardens. \nSt James’s Episcopal Church\, 1018 Farmington Ave\, W Hartford \nSocial time – 7 pm \nMeeting – 7:30 pm
URL:https://www.hartfordaudubon.org/trip-event/january-14-2019-butterfly-gardens-are-for-the-birds/
CATEGORIES:Meeting
END:VEVENT
BEGIN:VEVENT
DTSTART;TZID=America/New_York:20191210T180000
DTEND;TZID=America/New_York:20191210T210000
DTSTAMP:20260424T165348
CREATED:20190803T213130Z
LAST-MODIFIED:20190824T234659Z
UID:1375-1576000800-1576011600@www.hartfordaudubon.org
SUMMARY:December 10\, 2019 - Holiday Pot Luck Supper
DESCRIPTION:Continuing a fun tradition\, please wear your favorite bird tee-shirt or hat\, with a holiday theme if you can! Following dinner we’ll have the annual photo sharing session from members and our tea cup auction. Bring silverware\, plate\, a dish to share and something for the tea cup auction. Contact Mona Cavallero for details on photos. \nFun begins at 6:30 pm \nSt James’s Episcopal Church\, 1018 Farmington Ave\, W Hartford \n 
URL:https://www.hartfordaudubon.org/trip-event/december-10-2019-holiday-pot-luck-supper/
CATEGORIES:Meeting
END:VEVENT
BEGIN:VEVENT
DTSTART;TZID=America/New_York:20191112T193000
DTEND;TZID=America/New_York:20191112T210000
DTSTAMP:20260424T165348
CREATED:20190803T211247Z
LAST-MODIFIED:20190824T235614Z
UID:1368-1573587000-1573592400@www.hartfordaudubon.org
SUMMARY:November 12\, 2019 - An Insider’s Look at the Rehabilitation of Native Birds
DESCRIPTION:Speaker: Katelyn Kaplan \nAn Insider’s Look at the Rehabilitation of Native Birds – Katelyn Kaplan\, Naturalist at the Roaring Brook Nature Center\, will give an inside look at the avian patients that arrive into the Center’s rehabilitation clinic each day. The program will discuss emerging threats to native species\, medical treatments the clinic provides\, and how wildlife rehabilitation impacts species conservation. Katelyn has a BS in environmental sciences\, is a federally and state certified wildlife rehabilitator\, and was the Center’s clinic manager and raptor care manager for over 8 years. \nSocial time – 7 pm \nMeeting – 7:30 pm
URL:https://www.hartfordaudubon.org/trip-event/november-12-2019-an-insiders-look-at-the-rehabilitation-of-native-birds/
CATEGORIES:Meeting
END:VEVENT
BEGIN:VEVENT
DTSTART;TZID=America/New_York:20191008T193000
DTEND;TZID=America/New_York:20191008T210000
DTSTAMP:20260424T165348
CREATED:20190803T210507Z
LAST-MODIFIED:20190824T235641Z
UID:1360-1570563000-1570568400@www.hartfordaudubon.org
SUMMARY:October 8\, 2019 - Connecticut Bird Atlas
DESCRIPTION:Speaker: Chris Elphick \nConnecticut Bird Atlas:  halfway done\, but a long way to go… \nFall of 2019 marks the mid-way point for the Connecticut Bird Atlas. Chris will summarize what has been learned during the first full year of field work and will lay out what still needs to completed. Chris\, an Associate Professor at UConn’s Dept of Ecology & Evolutionary Biology\, is a leader on the Bird Atlas Team. \nSt James’s Episcopal Church\, 1018 Farmington Ave\, W Hartford \nSocial time at 7 pm / Meeting:  7:30 pm
URL:https://www.hartfordaudubon.org/trip-event/october-8-2019-connecticut-bird-atlas/
CATEGORIES:Meeting
END:VEVENT
BEGIN:VEVENT
DTSTART;TZID=America/New_York:20190910T193000
DTEND;TZID=America/New_York:20190910T210000
DTSTAMP:20260424T165348
CREATED:20190803T210147Z
LAST-MODIFIED:20190824T235702Z
UID:1358-1568143800-1568149200@www.hartfordaudubon.org
SUMMARY:September 10\, 2019 - An Update on Ospreys
DESCRIPTION:Speaker: Julie Victoria \nOspreys 2019 – \nOspreys have been monitored in Connecticut since 1969. Julie will be updating us on the continuing research. After 32 years of working with birds as a DEEP Wildlife Biologist\, Julie has recently retired and continues to consult as a wildlife biologist. \nSt James’s Episcopal Church\, 1018 Farmington Ave\, W Hartford \nSocial time – 7 pm \nMeeting – 7:30 pm
URL:https://www.hartfordaudubon.org/trip-event/september-10-2019-meeting-ospreys-2019/
CATEGORIES:Meeting
END:VEVENT
BEGIN:VEVENT
DTSTART;TZID=America/New_York:20190611T180000
DTEND;TZID=America/New_York:20190611T210000
DTSTAMP:20260424T165348
CREATED:20180814T235513Z
LAST-MODIFIED:20190610T123827Z
UID:778-1560276000-1560286800@www.hartfordaudubon.org
SUMMARY:Picnic at Northwest Park - Tuesday\, June 11\, 2019  - Still on!
DESCRIPTION:Northwest Park Member Picnic:  We’re ON!!  The weather is a little iffy\, but at the moment we’re expecting the afternoon and early evening on Tuesday to be clear for our annual potluck picnic.  Please join us at 5:00 pm for an informal birdwalk in this wonderful park — we always see terrific birds.  Then\, join us for the potluck dinner at 6:00 pm.  Please bring a dish to share\, serving utensils\, your own table setting\, and something to drink.  The picnic concludes with a brief meeting. We’re looking forward to reports on our sanctuaries as well as a summary of the summer birdcount. \n Location: Warming Shed\, Northwest Park\, 145 Land Road\, Windsor \n Sarah Faulkner\, President of HAS
URL:https://www.hartfordaudubon.org/trip-event/picnic-at-northwest-park/
LOCATION:Northwest Park\, 145 Lang Rd.\, Windsor\, CT\, 06095\, United States
CATEGORIES:Meeting
ORGANIZER;CN="Hartford Audubon Society":MAILTO:info@hartfordaudubon.org
END:VEVENT
BEGIN:VEVENT
DTSTART;TZID=America/New_York:20190514T173000
DTEND;TZID=America/New_York:20190514T210000
DTSTAMP:20260424T165348
CREATED:20180814T235512Z
LAST-MODIFIED:20190412T135401Z
UID:768-1557855000-1557867600@www.hartfordaudubon.org
SUMMARY:Annual Meeting/Banquet
DESCRIPTION:The Annual Meeting features the election of new Officers and Directors\, the Treasurer’s report\, presentation of the Member of the Year award\, and the President’s address. Afterwards\, everyone is invited to play Connecticut Bird Bingo!  Please join us for all the festivities.  See details below. \nMay 14th schedule: \n(Part I) \n\n5:30 – 6:30 Hors D’oeuvres / cash bar\n6:30 – 7:15 Dinner\n\n(Part II) open to all members no cost \n\n7:15  Commemorative / historical picture will be taken in front of the 110th year banner – This picture will be displayed at Wood Memorial Library and later kept in our HAS historical archives.\n7:30 – 8:00 Business Meeting\, Awards\, Election of Board.\n8:00 Bird Bingo. Have Fun. Win Prizes\n\nFull bingo card wins the pileated woodpecker carving highlighted on this post. \nWe hope to see you at this event!
URL:https://www.hartfordaudubon.org/trip-event/annual-meeting-banquet/
LOCATION:Pond House Cafe at Elizabeth Park\, 1555 Asylum Ave.\, West Hartford\, CT\, 06117\, United States
CATEGORIES:Meeting
ATTACH;FMTTYPE=image/jpeg:https://www.hartfordaudubon.org/wp-content/uploads/2018/08/HAS-LOGO.jpeg
ORGANIZER;CN="Hartford Audubon Society":MAILTO:info@hartfordaudubon.org
END:VEVENT
BEGIN:VEVENT
DTSTART;TZID=America/New_York:20190409T193000
DTEND;TZID=America/New_York:20190409T210000
DTSTAMP:20260424T165348
CREATED:20180814T235510Z
LAST-MODIFIED:20190327T020058Z
UID:754-1554838200-1554843600@www.hartfordaudubon.org
SUMMARY:David Spector & Sam Peabody: A Look at Bird Song Interpretation
DESCRIPTION:Transliterations\, mnemonics\, transcriptions—whatever you call them—this program might help you “cheer up cheerily\,” as David and his mystery co-presenter discuss the history of some of the expressions that help us remember bird songs
URL:https://www.hartfordaudubon.org/trip-event/david-spector-sam-peabody-a-look-at-song-bird-interpretation/
LOCATION:St. James’s Episcopal Church\, 1018 Farmington Ave.\, West Hartford\, CT\, 06127\, United States
CATEGORIES:Meeting
ORGANIZER;CN="Hartford Audubon Society":MAILTO:info@hartfordaudubon.org
END:VEVENT
BEGIN:VEVENT
DTSTART;TZID=America/New_York:20190312T193000
DTEND;TZID=America/New_York:20190312T210000
DTSTAMP:20260424T165348
CREATED:20180814T235509Z
LAST-MODIFIED:20180815T210248Z
UID:749-1552419000-1552424400@www.hartfordaudubon.org
SUMMARY:Peter Picone: The Inextricable Link Between Songbirds and Plants
DESCRIPTION:Peter will describe the enhancing of bird habitats on state and private land and listeners will come away with ideas for creating and enhancing wildlife habitats in their own surroundings. Videos will demonstrate the cover and seasonal food value of CT’s native plants.
URL:https://www.hartfordaudubon.org/trip-event/peter-picone-the-inextricable-link-between-songbirds-and-plants/
LOCATION:St. James’s Episcopal Church\, 1018 Farmington Ave.\, West Hartford\, CT\, 06127\, United States
CATEGORIES:Meeting
ORGANIZER;CN="Hartford Audubon Society":MAILTO:info@hartfordaudubon.org
END:VEVENT
BEGIN:VEVENT
DTSTART;TZID=America/New_York:20190212T193000
DTEND;TZID=America/New_York:20190212T210000
DTSTAMP:20260424T165348
CREATED:20180814T235509Z
LAST-MODIFIED:20190212T031713Z
UID:747-1549999800-1550005200@www.hartfordaudubon.org
SUMMARY:Julie Victoria: Ospreys 2019  (Event cancelled due to inclement weather)
DESCRIPTION:Ospreys have been monitored in Connecticut since 1969. This research continues and there are volunteer opportunities to help monitor Osprey nesting success.
URL:https://www.hartfordaudubon.org/trip-event/julie-victoria-ospreys-2019/
LOCATION:St. James’s Episcopal Church\, 1018 Farmington Ave.\, West Hartford\, CT\, 06127\, United States
CATEGORIES:Meeting
ORGANIZER;CN="Hartford Audubon Society":MAILTO:info@hartfordaudubon.org
END:VEVENT
BEGIN:VEVENT
DTSTART;TZID=America/New_York:20190108T193000
DTEND;TZID=America/New_York:20190108T210000
DTSTAMP:20260424T165348
CREATED:20180814T235509Z
LAST-MODIFIED:20180815T210151Z
UID:743-1546975800-1546981200@www.hartfordaudubon.org
SUMMARY:Paul Cianfaglione: Hitchcock’s Primeval Birds
DESCRIPTION:Rev. Edward Hitchcock was one of America’s first dedicated dinosaur paleontologists. To him\, fossil tracks in the CT Valley were marks of prehistoric birds. Come hear his story.
URL:https://www.hartfordaudubon.org/trip-event/paul-cianfaglione-hitchcocks-primeval-birds/
LOCATION:St. James’s Episcopal Church\, 1018 Farmington Ave.\, West Hartford\, CT\, 06127\, United States
CATEGORIES:Meeting
ORGANIZER;CN="Hartford Audubon Society":MAILTO:info@hartfordaudubon.org
END:VEVENT
BEGIN:VEVENT
DTSTART;TZID=America/New_York:20181211T183000
DTEND;TZID=America/New_York:20181211T210000
DTSTAMP:20260424T165348
CREATED:20180814T235508Z
LAST-MODIFIED:20180815T205035Z
UID:740-1544553000-1544562000@www.hartfordaudubon.org
SUMMARY:Pot Luck Supper/Christmas Party
DESCRIPTION:Bring your favorite dish for sharing and your own table setting. Beverages will be provided. Bring a bird related $5.00 wrapped gift to place under the Christmas tree. Participants will randomly choose a gift to open after dinner. Also bring a birding treasure that you no longer need for the tea cup auction. You can bring up to a dozen bird-related photos to show. Contact Mona Cavallero at 860 523 0414 or mcavallero1@comcast.net.
URL:https://www.hartfordaudubon.org/trip-event/pot-luck-supper-christmas-party/
LOCATION:St. James’s Episcopal Church\, 1018 Farmington Ave.\, West Hartford\, CT\, 06127\, United States
CATEGORIES:Club Event,Meeting
ORGANIZER;CN="Hartford Audubon Society":MAILTO:info@hartfordaudubon.org
END:VEVENT
BEGIN:VEVENT
DTSTART;TZID=America/New_York:20181113T193000
DTEND;TZID=America/New_York:20181113T210000
DTSTAMP:20260424T165348
CREATED:20180814T235508Z
LAST-MODIFIED:20180815T210119Z
UID:737-1542137400-1542142800@www.hartfordaudubon.org
SUMMARY:Tom Robben: Seabirds and Changing Oceans
DESCRIPTION:This overview of seabirding includes: an introduction to pelagic trips\, the main groups of seabirds\, videos and identification tips\, and the life histories of a few amazing species.
URL:https://www.hartfordaudubon.org/trip-event/tom-robben-seabirds-and-changing-oceans/
LOCATION:St. James’s Episcopal Church\, 1018 Farmington Ave.\, West Hartford\, CT\, 06127\, United States
CATEGORIES:Meeting
ORGANIZER;CN="Hartford Audubon Society":MAILTO:info@hartfordaudubon.org
END:VEVENT
BEGIN:VEVENT
DTSTART;TZID=America/New_York:20181009T193000
DTEND;TZID=America/New_York:20181009T210000
DTSTAMP:20260424T165348
CREATED:20180814T235508Z
LAST-MODIFIED:20180815T210051Z
UID:732-1539113400-1539118800@www.hartfordaudubon.org
SUMMARY:Larry Fisher: Owls of Western Connecticut
DESCRIPTION:Larry will focus on owl behavior\, nesting habitat requirements\, and other interesting facts while including close-up photographs of the owls in our state
URL:https://www.hartfordaudubon.org/trip-event/larry-fisher-owls-of-western-connecticut/
LOCATION:St. James’s Episcopal Church\, 1018 Farmington Ave.\, West Hartford\, CT\, 06127\, United States
CATEGORIES:Meeting
ORGANIZER;CN="Hartford Audubon Society":MAILTO:info@hartfordaudubon.org
END:VEVENT
BEGIN:VEVENT
DTSTART;TZID=America/New_York:20180911T193000
DTEND;TZID=America/New_York:20180911T210000
DTSTAMP:20260424T165348
CREATED:20180814T235505Z
LAST-MODIFIED:20180815T210019Z
UID:723-1536694200-1536699600@www.hartfordaudubon.org
SUMMARY:Corrie Folsom-O'Keefe: A Bird in the Hand: Tales from the Bent of the River Bird Banding Station
DESCRIPTION:Corrie willl share how banding information collected on the sanctuary grounds is used to make informed management decisions regarding the sanctuary’s shrubland habitat.
URL:https://www.hartfordaudubon.org/trip-event/corrie-folsom-okeefe-a-bird-in-the-hand-tales-from-the-bent-of-the-river-bird-banding-station/
LOCATION:St. James’s Episcopal Church\, 1018 Farmington Ave.\, West Hartford\, CT\, 06127\, United States
CATEGORIES:Meeting
ORGANIZER;CN="Hartford Audubon Society":MAILTO:info@hartfordaudubon.org
END:VEVENT
END:VCALENDAR