BEGIN:VCALENDAR
VERSION:2.0
PRODID:-// - ECPv6.15.20//NONSGML v1.0//EN
CALSCALE:GREGORIAN
METHOD:PUBLISH
X-ORIGINAL-URL:https://www.hartfordaudubon.org
X-WR-CALDESC:Events for 
REFRESH-INTERVAL;VALUE=DURATION:PT1H
X-Robots-Tag:noindex
X-PUBLISHED-TTL:PT1H
BEGIN:VTIMEZONE
TZID:America/New_York
BEGIN:DAYLIGHT
TZOFFSETFROM:-0500
TZOFFSETTO:-0400
TZNAME:EDT
DTSTART:20240310T070000
END:DAYLIGHT
BEGIN:STANDARD
TZOFFSETFROM:-0400
TZOFFSETTO:-0500
TZNAME:EST
DTSTART:20241103T060000
END:STANDARD
BEGIN:DAYLIGHT
TZOFFSETFROM:-0500
TZOFFSETTO:-0400
TZNAME:EDT
DTSTART:20250309T070000
END:DAYLIGHT
BEGIN:STANDARD
TZOFFSETFROM:-0400
TZOFFSETTO:-0500
TZNAME:EST
DTSTART:20251102T060000
END:STANDARD
BEGIN:DAYLIGHT
TZOFFSETFROM:-0500
TZOFFSETTO:-0400
TZNAME:EDT
DTSTART:20260308T070000
END:DAYLIGHT
BEGIN:STANDARD
TZOFFSETFROM:-0400
TZOFFSETTO:-0500
TZNAME:EST
DTSTART:20261101T060000
END:STANDARD
END:VTIMEZONE
BEGIN:VEVENT
DTSTART;TZID=America/New_York:20250513T173000
DTEND;TZID=America/New_York:20250513T210000
DTSTAMP:20260421T182705
CREATED:20240906T185859Z
LAST-MODIFIED:20250430T123902Z
UID:15453-1747157400-1747170000@www.hartfordaudubon.org
SUMMARY:Annual Meeting & Banquet - May 13\, 2025
DESCRIPTION:Pond House\, Elizabeth Park1555 Asylum Ave\, West Hartford \nDear Hartford Audubon Members: \nOn behalf of Hartford Audubon\, you are cordially invited to our Annual Meeting and Banquet to be held at the Pond House Cafe\, 1555 Asylum Ave\, West Hartford\, CT\, on Tuesday\, May 13th. \nBefore dinner we will hold our annual meeting including the treasurer’s report\, awards and the election of officers and directors. Following dinner\, Brian Hess\, DEEP Wildlife Biologist will speak about the “Connecticut Wildlife Action Plan: State of the Birds Address”. \nThe event will begin with a guided bird walk through Elizabeth Park. This walk has been a successful addition to our annual meeting. There is no need to sign up for the walk. Gather by the Pond House Cafe entrance at 4:30 and the walk leader will take you on your way. \nYour cost for the buffet dinner is $35.00 per person. The balance of the cost is subsidized by Hartford Audubon. There will be a cash bar\, appetizers\, salad\, a buffet and dessert. The food has always been delicious\, so please bring your appetite! Doors will open at 5:30. \nThere is a CUT OFF DATE for registering for this event.  If you plan to attend\, you must register and pay for your ticket by Tuesday\, May 6. Therefore\, you are encouraged to make your reservations early. No tickets will be sold at the door.  The Pond House needs a firm number of attendees one week prior to the event. \nPlease consider paying online: \n\n  \nAlternatively\, you can mail your check to Donna Summers\, 6 Pond Side Lane\, West Simsbury\, CT 06092.  If you do plan to register by mail\, payment must be RECEIVED by Tuesday\, May 6. Checks should be made out to “Hartford Audubon Society”. \nI am looking forward to seeing each of you. \nAl Gatti\,\nPresident\, Hartford Audubon Society \n 
URL:https://www.hartfordaudubon.org/trip-event/annual-meeting-banquet-may-13-2025/
LOCATION:Pond House Cafe at Elizabeth Park\, 1555 Asylum Ave.\, West Hartford\, CT\, 06117\, United States
CATEGORIES:Club Event,Special Celebration
ORGANIZER;CN="Hartford Audubon Society":MAILTO:info@hartfordaudubon.org
END:VEVENT
END:VCALENDAR