BEGIN:VCALENDAR
VERSION:2.0
PRODID:-// - ECPv6.15.20//NONSGML v1.0//EN
CALSCALE:GREGORIAN
METHOD:PUBLISH
X-ORIGINAL-URL:https://www.hartfordaudubon.org
X-WR-CALDESC:Events for 
REFRESH-INTERVAL;VALUE=DURATION:PT1H
X-Robots-Tag:noindex
X-PUBLISHED-TTL:PT1H
BEGIN:VTIMEZONE
TZID:America/New_York
BEGIN:DAYLIGHT
TZOFFSETFROM:-0500
TZOFFSETTO:-0400
TZNAME:EDT
DTSTART:20230312T070000
END:DAYLIGHT
BEGIN:STANDARD
TZOFFSETFROM:-0400
TZOFFSETTO:-0500
TZNAME:EST
DTSTART:20231105T060000
END:STANDARD
BEGIN:DAYLIGHT
TZOFFSETFROM:-0500
TZOFFSETTO:-0400
TZNAME:EDT
DTSTART:20240310T070000
END:DAYLIGHT
BEGIN:STANDARD
TZOFFSETFROM:-0400
TZOFFSETTO:-0500
TZNAME:EST
DTSTART:20241103T060000
END:STANDARD
BEGIN:DAYLIGHT
TZOFFSETFROM:-0500
TZOFFSETTO:-0400
TZNAME:EDT
DTSTART:20250309T070000
END:DAYLIGHT
BEGIN:STANDARD
TZOFFSETFROM:-0400
TZOFFSETTO:-0500
TZNAME:EST
DTSTART:20251102T060000
END:STANDARD
END:VTIMEZONE
BEGIN:VEVENT
DTSTART;TZID=America/New_York:20241015T193000
DTEND;TZID=America/New_York:20241015T213000
DTSTAMP:20260424T205040
CREATED:20240804T153045Z
LAST-MODIFIED:20240804T153502Z
UID:15287-1729020600-1729027800@www.hartfordaudubon.org
SUMMARY:Wildlife Series #1 - October 15\, 2024
DESCRIPTION:Oct 15    Wildlife Series           Tue 7:30 pm \nThe McAuley Residence Audutorium \n275 Steele Rd\, West Hartford \nSpeaker – Gina Nichol \nFLOCKOLOGY!: Unraveling the Mysteries of Bird Flocks \nAs birders and wildlife enthusiasts\, we can’t help but marvel at large gatherings of birds. Flocks can range in size from just a few birds to tens of thousands\, even millions. Whether they be in the air or on the ground\, they can offer a magnificent spectacle. This presentation asks the question\, why do birds form flocks? And it explores the phenomenon of bird gatherings with vivid photographs\, anecdotes and video clips. The advantages and disadvantages of flocking are discussed and collective names used to identify groups of birds are presented.  Naturalist and tour leader Gina Nichol\, the founder of Sunrise Birding\, has previously shared her outstanding photography in many previous Wildlife Series programs. \nFrances D’Amico      frandamico525@yahoo.com      203-237-2734
URL:https://www.hartfordaudubon.org/trip-event/wildlife-series-1-october-15-2024/
LOCATION:McAuley Residence Auditorium\, 275 Steele Rd.\, West Hartford\, CT\, 06117\, United States
CATEGORIES:Wildlife Series
ORGANIZER;CN="Frances D%E2%80%99Amico":MAILTO:frandamico525@yahoo.com
END:VEVENT
END:VCALENDAR