BEGIN:VCALENDAR
VERSION:2.0
PRODID:-// - ECPv6.15.20//NONSGML v1.0//EN
CALSCALE:GREGORIAN
METHOD:PUBLISH
X-ORIGINAL-URL:https://www.hartfordaudubon.org
X-WR-CALDESC:Events for 
REFRESH-INTERVAL;VALUE=DURATION:PT1H
X-Robots-Tag:noindex
X-PUBLISHED-TTL:PT1H
BEGIN:VTIMEZONE
TZID:America/New_York
BEGIN:DAYLIGHT
TZOFFSETFROM:-0500
TZOFFSETTO:-0400
TZNAME:EDT
DTSTART:20240310T070000
END:DAYLIGHT
BEGIN:STANDARD
TZOFFSETFROM:-0400
TZOFFSETTO:-0500
TZNAME:EST
DTSTART:20241103T060000
END:STANDARD
BEGIN:DAYLIGHT
TZOFFSETFROM:-0500
TZOFFSETTO:-0400
TZNAME:EDT
DTSTART:20250309T070000
END:DAYLIGHT
BEGIN:STANDARD
TZOFFSETFROM:-0400
TZOFFSETTO:-0500
TZNAME:EST
DTSTART:20251102T060000
END:STANDARD
BEGIN:DAYLIGHT
TZOFFSETFROM:-0500
TZOFFSETTO:-0400
TZNAME:EDT
DTSTART:20260308T070000
END:DAYLIGHT
BEGIN:STANDARD
TZOFFSETFROM:-0400
TZOFFSETTO:-0500
TZNAME:EST
DTSTART:20261101T060000
END:STANDARD
END:VTIMEZONE
BEGIN:VEVENT
DTSTART;TZID=America/New_York:20250318T190000
DTEND;TZID=America/New_York:20250318T210000
DTSTAMP:20260424T131148
CREATED:20240905T171748Z
LAST-MODIFIED:20250110T161659Z
UID:15395-1742324400-1742331600@www.hartfordaudubon.org
SUMMARY:Wildlife Series - March 18\, 2025: A Birder’s Journal of Brazil’s Lower Amazon\, Pantanal\, and Cerrado
DESCRIPTION:Mar 18 🦋 Wildlife Series 🦆 Tue 7:30 pmThe McAuley Residence Auditorium275 Steele Rd\, West Hartford \nA Birder’s Journal of Brazil’s Lower Amazon\, Pantanal\, and Cerrado. \nDave Tripp will take you through a photographic journey filled with birds and wildlife from these incredible biomes. \nDave has been birding seriously since the age of 12. He serves on the ARCC and has done so for the last 24 years. He leads annual regional trips to Cape May\, NJ and Northeastern Massachusetts for the Litchfield Hills Audubon where he serves as the Treasurer.  Dave has traveled to many countries birding including South Africa and England but prefers the tropical Americas. Brazil has become his newest infatuation. \nContact Frances D’Amico frandamico525@yahoo.com 203–715–631
URL:https://www.hartfordaudubon.org/trip-event/wildlife-series-march-18-2025-speaker-tbd/
LOCATION:McAuley Residence Auditorium\, 275 Steele Rd.\, West Hartford\, CT\, 06117\, United States
CATEGORIES:Wildlife Series
ORGANIZER;CN="Hartford Audubon Society":MAILTO:info@hartfordaudubon.org
END:VEVENT
END:VCALENDAR