BEGIN:VCALENDAR
VERSION:2.0
PRODID:-// - ECPv6.15.20//NONSGML v1.0//EN
CALSCALE:GREGORIAN
METHOD:PUBLISH
X-ORIGINAL-URL:https://www.hartfordaudubon.org
X-WR-CALDESC:Events for 
REFRESH-INTERVAL;VALUE=DURATION:PT1H
X-Robots-Tag:noindex
X-PUBLISHED-TTL:PT1H
BEGIN:VTIMEZONE
TZID:America/New_York
BEGIN:DAYLIGHT
TZOFFSETFROM:-0500
TZOFFSETTO:-0400
TZNAME:EDT
DTSTART:20240310T070000
END:DAYLIGHT
BEGIN:STANDARD
TZOFFSETFROM:-0400
TZOFFSETTO:-0500
TZNAME:EST
DTSTART:20241103T060000
END:STANDARD
BEGIN:DAYLIGHT
TZOFFSETFROM:-0500
TZOFFSETTO:-0400
TZNAME:EDT
DTSTART:20250309T070000
END:DAYLIGHT
BEGIN:STANDARD
TZOFFSETFROM:-0400
TZOFFSETTO:-0500
TZNAME:EST
DTSTART:20251102T060000
END:STANDARD
BEGIN:DAYLIGHT
TZOFFSETFROM:-0500
TZOFFSETTO:-0400
TZNAME:EDT
DTSTART:20260308T070000
END:DAYLIGHT
BEGIN:STANDARD
TZOFFSETFROM:-0400
TZOFFSETTO:-0500
TZNAME:EST
DTSTART:20261101T060000
END:STANDARD
END:VTIMEZONE
BEGIN:VEVENT
DTSTART;TZID=America/New_York:20251118T190000
DTEND;TZID=America/New_York:20251118T210000
DTSTAMP:20260421T232809
CREATED:20250729T135735Z
LAST-MODIFIED:20250808T123505Z
UID:15772-1763492400-1763499600@www.hartfordaudubon.org
SUMMARY:Wildlife Series: Bobcats in CT - November 18\, 2025
DESCRIPTION:Nov 18 🦋 Wildlife Series 🦆 Tue 7:30 pmSocial Time at 7:00pm \nThe McAuley Residence auditorium\n275 Steele Rd\, West Hartford\nSpeaker: Jason Hawley: DEEP Wildlife BiologistTale of the Cat: Bobcats in Connecticut \nDEEP Wildlife biologist\, Jason Hawley will educate us aboutbobcat natural history in Connecticut\, bobcat biology\, the resultsof the recent research\, and the future of bobcat conservation.Alison Wilcox Speakers@HartfordAudubon.org 860–707–5907 T
URL:https://www.hartfordaudubon.org/trip-event/wildlife-series-bobcats-in-ct-november-18-2025/
LOCATION:McAuley Residence Auditorium\, 275 Steele Rd.\, West Hartford\, CT\, 06117\, United States
CATEGORIES:Wildlife Series
ORGANIZER;CN="Hartford Audubon Society":MAILTO:info@hartfordaudubon.org
END:VEVENT
END:VCALENDAR