BEGIN:VCALENDAR
VERSION:2.0
PRODID:-// - ECPv6.15.20//NONSGML v1.0//EN
CALSCALE:GREGORIAN
METHOD:PUBLISH
X-ORIGINAL-URL:https://www.hartfordaudubon.org
X-WR-CALDESC:Events for 
REFRESH-INTERVAL;VALUE=DURATION:PT1H
X-Robots-Tag:noindex
X-PUBLISHED-TTL:PT1H
BEGIN:VTIMEZONE
TZID:America/New_York
BEGIN:DAYLIGHT
TZOFFSETFROM:-0500
TZOFFSETTO:-0400
TZNAME:EDT
DTSTART:20250309T070000
END:DAYLIGHT
BEGIN:STANDARD
TZOFFSETFROM:-0400
TZOFFSETTO:-0500
TZNAME:EST
DTSTART:20251102T060000
END:STANDARD
BEGIN:DAYLIGHT
TZOFFSETFROM:-0500
TZOFFSETTO:-0400
TZNAME:EDT
DTSTART:20260308T070000
END:DAYLIGHT
BEGIN:STANDARD
TZOFFSETFROM:-0400
TZOFFSETTO:-0500
TZNAME:EST
DTSTART:20261101T060000
END:STANDARD
BEGIN:DAYLIGHT
TZOFFSETFROM:-0500
TZOFFSETTO:-0400
TZNAME:EDT
DTSTART:20270314T070000
END:DAYLIGHT
BEGIN:STANDARD
TZOFFSETFROM:-0400
TZOFFSETTO:-0500
TZNAME:EST
DTSTART:20271107T060000
END:STANDARD
END:VTIMEZONE
BEGIN:VEVENT
DTSTART;TZID=America/New_York:20260317T190000
DTEND;TZID=America/New_York:20260317T210000
DTSTAMP:20260421T163856
CREATED:20250731T135721Z
LAST-MODIFIED:20250808T123631Z
UID:15801-1773774000-1773781200@www.hartfordaudubon.org
SUMMARY:Wildlife Series - Celebrating 50 Years of Project Puffin - March 17\, 2026
DESCRIPTION:Mar 17 🦋 Wildlife Series 🦆 Tue 7:30 pm\n\n\nThe McAuley Residence auditorium\n275 Steele Rd\, West Hartford\n\nSpeaker: “Seabird Sue” Schubel: Seabird Biologist\, EducatorCelebrating 50 Years of Project Puffin —from Maine to the World!In the late 1800s\, puffins were almost eliminated from the Mainecoast. In 1973 an experiment to bring them back to their formernesting island of Eastern Egg Rock was begun. Learn about thissuccess story and how years of effort resulted in a thriving colonyoff of Maine.\nAlison Wilcox Speakers@HartfordAudubon.org 860–707–5907 T
URL:https://www.hartfordaudubon.org/trip-event/wildlife-series-celebrating-50-years-of-project-puffin-march-17-2026/
LOCATION:McAuley Residence Auditorium\, 275 Steele Rd.\, West Hartford\, CT\, 06117\, United States
CATEGORIES:Wildlife Series
ORGANIZER;CN="Hartford Audubon Society":MAILTO:info@hartfordaudubon.org
END:VEVENT
END:VCALENDAR