BEGIN:VCALENDAR
VERSION:2.0
PRODID:-// - ECPv6.15.20//NONSGML v1.0//EN
CALSCALE:GREGORIAN
METHOD:PUBLISH
X-ORIGINAL-URL:https://www.hartfordaudubon.org
X-WR-CALDESC:Events for 
REFRESH-INTERVAL;VALUE=DURATION:PT1H
X-Robots-Tag:noindex
X-PUBLISHED-TTL:PT1H
BEGIN:VTIMEZONE
TZID:America/New_York
BEGIN:DAYLIGHT
TZOFFSETFROM:-0500
TZOFFSETTO:-0400
TZNAME:EDT
DTSTART:20170312T070000
END:DAYLIGHT
BEGIN:STANDARD
TZOFFSETFROM:-0400
TZOFFSETTO:-0500
TZNAME:EST
DTSTART:20171105T060000
END:STANDARD
BEGIN:DAYLIGHT
TZOFFSETFROM:-0500
TZOFFSETTO:-0400
TZNAME:EDT
DTSTART:20180311T070000
END:DAYLIGHT
BEGIN:STANDARD
TZOFFSETFROM:-0400
TZOFFSETTO:-0500
TZNAME:EST
DTSTART:20181104T060000
END:STANDARD
BEGIN:DAYLIGHT
TZOFFSETFROM:-0500
TZOFFSETTO:-0400
TZNAME:EDT
DTSTART:20190310T070000
END:DAYLIGHT
BEGIN:STANDARD
TZOFFSETFROM:-0400
TZOFFSETTO:-0500
TZNAME:EST
DTSTART:20191103T060000
END:STANDARD
BEGIN:DAYLIGHT
TZOFFSETFROM:-0500
TZOFFSETTO:-0400
TZNAME:EDT
DTSTART:20200308T070000
END:DAYLIGHT
BEGIN:STANDARD
TZOFFSETFROM:-0400
TZOFFSETTO:-0500
TZNAME:EST
DTSTART:20201101T060000
END:STANDARD
BEGIN:DAYLIGHT
TZOFFSETFROM:-0500
TZOFFSETTO:-0400
TZNAME:EDT
DTSTART:20210314T070000
END:DAYLIGHT
BEGIN:STANDARD
TZOFFSETFROM:-0400
TZOFFSETTO:-0500
TZNAME:EST
DTSTART:20211107T060000
END:STANDARD
BEGIN:DAYLIGHT
TZOFFSETFROM:-0500
TZOFFSETTO:-0400
TZNAME:EDT
DTSTART:20220313T070000
END:DAYLIGHT
BEGIN:STANDARD
TZOFFSETFROM:-0400
TZOFFSETTO:-0500
TZNAME:EST
DTSTART:20221106T060000
END:STANDARD
BEGIN:DAYLIGHT
TZOFFSETFROM:-0500
TZOFFSETTO:-0400
TZNAME:EDT
DTSTART:20230312T070000
END:DAYLIGHT
BEGIN:STANDARD
TZOFFSETFROM:-0400
TZOFFSETTO:-0500
TZNAME:EST
DTSTART:20231105T060000
END:STANDARD
BEGIN:DAYLIGHT
TZOFFSETFROM:-0500
TZOFFSETTO:-0400
TZNAME:EDT
DTSTART:20240310T070000
END:DAYLIGHT
BEGIN:STANDARD
TZOFFSETFROM:-0400
TZOFFSETTO:-0500
TZNAME:EST
DTSTART:20241103T060000
END:STANDARD
END:VTIMEZONE
BEGIN:VEVENT
DTSTART;TZID=America/New_York:20230418T190000
DTEND;TZID=America/New_York:20230418T210000
DTSTAMP:20260421T164036
CREATED:20220806T132628Z
LAST-MODIFIED:20230412T122913Z
UID:13804-1681844400-1681851600@www.hartfordaudubon.org
SUMMARY:Saving Jemima - 4/18/2023 (Via Zoom Meeting)
DESCRIPTION:Tuesday\, April 18\, 2023 via Zoom \nPlease Note: You will receive an email to be sent by April 16 which will have the Zoom meeting link if you wish to attend. \nSpeaker: Julie Zickefoose \nNaturalist/artist/writer Julie Zickefoose thinks of herself as an unsung\, minor\, rather dirty superhero. Her superpower: saving small\, economically worthless wildlife that would otherwise die. An orphaned jay named Jemima was one such foundling. Spending nearly a year healing\, studying and raising the young blue jay for release into the wild opened the door to their world for Julie. More than a wildlife rehab story\, it’s the story of life\, love and dealing with great loss; of finding grace and redemption in bonding with a wild bird. \nBiography:\nJulie Zickefoose lives and works on an 80-acre wildlife sanctuary in Whipple\, Ohio. Her illustrated work\, The Bluebird Effect\, was an Oprah’s Book Club pick in 2012.  Julie recently became Advising Editor to the updated Bird Watcher’s Digest Magazine. Her newest book is Saving Jemima: Life and Love With a Hard-Luck Jay\, the intimate story of how an orphaned bird can save a soul. (See Julie and Jemima below) \n \nPlease call or preferably email Frances with any questions. \nWhen emailing please use Wildlife Series in the subject line. \nFrances D’Amico      frandamico525@yahoo.com      203-237-2734
URL:https://www.hartfordaudubon.org/trip-event/hummingbirds-rule/
LOCATION:CT
CATEGORIES:Wildlife Series
ORGANIZER;CN="Frances D%E2%80%99Amico":MAILTO:frandamico525@yahoo.com
END:VEVENT
BEGIN:VEVENT
DTSTART;TZID=America/New_York:20230321T193000
DTEND;TZID=America/New_York:20230321T210000
DTSTAMP:20260421T164036
CREATED:20220806T132348Z
LAST-MODIFIED:20220814T145325Z
UID:13802-1679427000-1679432400@www.hartfordaudubon.org
SUMMARY:Effects of Climate Change on Migratory Patterns of Birds - 3/21/2023
DESCRIPTION:Tuesday\, 3/21/2023 \nSpeaker:  Matthew Kamm \nMatthew Kamm has been birding since the age of eight and has followed his passion for nature (especially birds) throughout his schooling and professional work. After five years working for Mass Audubon’s Bird Conservation Department\, he went back to school at Tufts University to get his Ph.D studying how the life histories of birds contribute to their vulnerability to decline and extinction. His analysis of long-term data from Manomet Bird Observatory demonstrates the complex responses of migratory birds to a changing climate – a few are prospering\, some are adapting\, but many are suffering greatly. Now\, as Conservation Outreach Coordinator for Zoo New England\, Matt loves nothing more than sharing the wonders of the natural world with the interested public.  Please call Frances with any questions. \nFrances D’Amico      frandamico525@yahoo.com      203-237-2734 \n 
URL:https://www.hartfordaudubon.org/trip-event/effects-of-climate-change-on-migratory-patterns-of-birds/
LOCATION:McAuley Residence Auditorium\, 275 Steele Rd.\, West Hartford\, CT\, 06117\, United States
CATEGORIES:Wildlife Series
ORGANIZER;CN="Frances D%E2%80%99Amico":MAILTO:frandamico525@yahoo.com
END:VEVENT
BEGIN:VEVENT
DTSTART;TZID=America/New_York:20221115T190000
DTEND;TZID=America/New_York:20221115T210000
DTSTAMP:20260421T164036
CREATED:20220806T130855Z
LAST-MODIFIED:20220806T133250Z
UID:13796-1668538800-1668546000@www.hartfordaudubon.org
SUMMARY:The Fascinating World of Owls - 11/15/2022
DESCRIPTION:Zoom Program at 7:00 PM / ZOOM MEETING – Link will be mailed to AllHAS \n Speaker:  Denver Holt \nDenver Holt is the founder and president of the Owl Research Institute and a leading expert on owls.  He has been featured in articles from National Geographic to the New York Times as well as many TV programs.  ORI believes in long-term research on owls\, their prey species\, and their relationship to the habitat in which they live. These data help maintain viable populations. Denver will be with us via Zoom to talk about what research is currently being done and why ORI conducts long-term studies. \nFrances D’Amico      frandamico525@yahoo.com      203-237-2734
URL:https://www.hartfordaudubon.org/trip-event/the-fascinating-world-of-owls/
LOCATION:CT
CATEGORIES:Wildlife Series
ORGANIZER;CN="Fran D%E2%80%99Amico":MAILTO:frandamico525@yahoo.com
END:VEVENT
BEGIN:VEVENT
DTSTART;TZID=America/New_York:20221018T193000
DTEND;TZID=America/New_York:20221018T210000
DTSTAMP:20260421T164036
CREATED:20220806T125346Z
LAST-MODIFIED:20220808T125650Z
UID:13790-1666121400-1666126800@www.hartfordaudubon.org
SUMMARY:Birding the Andes - 10/18/2022
DESCRIPTION:Join past President Sam Fried for his 41st program for HAS. He’ll be taking us on a roller coaster of a trip birding the Colombian Andes. Traveling from mountain valleys to mountaintops at 14\,000 feet\, from cloud forest to tropical lowlands\, we had the pleasure of encountering 40 species of hummingbirds and my target bird for the trip – Andean Cock of the Rock! Going up and down 25\,000 feet in one day can be dizzying\, but the birds were more than worth it.   Please contact Frances below if you have any questions. \nFrances D’Amico      frandamico525@yahoo.com      203-237-2734
URL:https://www.hartfordaudubon.org/trip-event/birding-the-andes/
LOCATION:McAuley Residence Auditorium\, 275 Steele Rd.\, West Hartford\, CT\, 06117\, United States
CATEGORIES:Wildlife Series
ORGANIZER;CN="Frances D%E2%80%99Amico":MAILTO:frandamico525@yahoo.com
END:VEVENT
BEGIN:VEVENT
DTSTART;TZID=America/New_York:20220419T193000
DTEND;TZID=America/New_York:20220419T213000
DTSTAMP:20260421T164036
CREATED:20210806T191324Z
LAST-MODIFIED:20220418T125940Z
UID:13274-1650396600-1650403800@www.hartfordaudubon.org
SUMMARY:Springtime in Western Canada - 4/19/2022
DESCRIPTION:This will be an in-person event. Location: McAuley Residence Auditorium \nSpeaker: Chris Fisher \nSpringtime in Western Canada \nJoin Chris & Diane Fisher in the first part of their 4-month trip to Alaska and back. In this multi-media presentation\, Chris will take us across the Canadian Prairies and explore the Canadian Rockies up to the start of the Alaskan Highway. Chris\, a Hartford Audubon member\, has previously given us programs on Africa\, Galapagos Islands\, birding the Yucatan Peninsula and birding in Costa Rica. \nShown below is a map that may assist you in finding the location and entrance to the auditorium. It may be helpful to select it and print it out if you are not familiar with the area: \n \nPlease contact Frances D’Amico with questions:  frandamico525@yahoo.com or 203-237-2734
URL:https://www.hartfordaudubon.org/trip-event/springtime-in-western-canada/
LOCATION:McAuley Residence Auditorium\, 275 Steele Rd.\, West Hartford\, CT\, 06117\, United States
CATEGORIES:Wildlife Series
ORGANIZER;CN="Chris / Diane Fisher":MAILTO:chrisf001@aol.com
END:VEVENT
BEGIN:VEVENT
DTSTART;TZID=America/New_York:20220322T190000
DTEND;TZID=America/New_York:20220322T210000
DTSTAMP:20260421T164036
CREATED:20210806T191141Z
LAST-MODIFIED:20220315T192811Z
UID:13272-1647975600-1647982800@www.hartfordaudubon.org
SUMMARY:Myths and Misconceptions of Black Bears - 3/22/2022
DESCRIPTION:Zoom Program – March 22 – 7 pm \nSpeaker:  Spencer Peter \nWatch for e-mail with Zoom link \nMyths and Misconceptions of Black Bears \nThe North American Bear Center (NABC) in Ely\, Wisconsin\, is dedicated to advancing the long-term survival of bears worldwide by replacing misconceptions with scientific facts about bears\, their role in ecosystems\, and their relations with humans. During this presentation you will learn about many of the common myths about black bears\, their natural behaviors\, and the role humans play in their future. Spencer Peter is the biologist and internship program director at the NABC\, where he has worked for 4 years. \nPlease contact Frances D’Amico with any questions:    frandamico525@yahoo.com 203-237-2734
URL:https://www.hartfordaudubon.org/trip-event/myths-and-misconceptions-of-black-bears/
LOCATION:CT
CATEGORIES:Wildlife Series
ORGANIZER;CN="Fran D%E2%80%99Amico":MAILTO:frandamico525@yahoo.com
END:VEVENT
BEGIN:VEVENT
DTSTART;TZID=America/New_York:20211116T190000
DTEND;TZID=America/New_York:20211116T210000
DTSTAMP:20260421T164036
CREATED:20210806T190954Z
LAST-MODIFIED:20211021T214021Z
UID:13270-1637089200-1637096400@www.hartfordaudubon.org
SUMMARY:Audubon Bird Mural Project: A Virtual Walking Tour - 11/16/2021
DESCRIPTION:Zoom Program \nNovember 16\, 2021 at 7 pm \nSpeaker:  Leigh Hallingby \nWatch for e-mail with Zoom link \nAudubon Bird Mural Project: A Virtual Walking Tour \nThe Audubon Mural Project is an impressive effort to create murals of over 300 North American birds. Most of the murals are in the Harlem neighborhoods of Hamilton Heights and Washington Heights\, where John James Audubon lived the last ten years of his life. Since all of the birds painted are threatened by climate change\, the Project is designed\, not only to display the birds’ beauty\, but also to make us aware of the challenges that they face. Leigh Hallingby\, a retired librarian\, is a licensed NYC tour guide. \nContact Frances D’Amico if you have any questions:    frandamico525@yahoo.com 203-237-2734
URL:https://www.hartfordaudubon.org/trip-event/audubon-bird-mural-project-a-virtual-walking-tour/
LOCATION:CT
CATEGORIES:Wildlife Series
END:VEVENT
BEGIN:VEVENT
DTSTART;TZID=America/New_York:20211019T190000
DTEND;TZID=America/New_York:20211019T210000
DTSTAMP:20260421T164036
CREATED:20210806T190648Z
LAST-MODIFIED:20211017T155625Z
UID:13268-1634670000-1634677200@www.hartfordaudubon.org
SUMMARY:Northeast Connecticut American Kestrel Box Project - 10/19/2021
DESCRIPTION:Tom’s work with the American Kestrel in Connecticut was recognized in the Exploring the Natural World YouTube series episode “A Wing and a Care.” Tom has demonstrated what a difference one person can make in bird conservation by devoting time and energy year after year. Over a 10-year period his boxes have fledged an amazing 1\,068 American Kestrels. Tom and his wife Janet live in Tolland. He began this project on his own\, starting from the ground up. \nContact Frances D’Amico  if you have any questions:    frandamico525@yahoo.com  / 203-237-2734
URL:https://www.hartfordaudubon.org/trip-event/northeast-connecticut-american-kestrel-box-project/
LOCATION:CT
CATEGORIES:Wildlife Series
END:VEVENT
BEGIN:VEVENT
DTSTART;TZID=America/New_York:20210420T190000
DTEND;TZID=America/New_York:20210420T200000
DTSTAMP:20260421T164036
CREATED:20200808T140411Z
LAST-MODIFIED:20210124T145735Z
UID:12705-1618945200-1618948800@www.hartfordaudubon.org
SUMMARY:ZOOM Meeting - April 20\, 2021 - Birding in Costa Rica - 7 pm
DESCRIPTION:This program will be held via a virtual ZOOM Meeting due to COVID 19.  Tuesday. 4/20/2021;   7:00 –  8  pm\nSpeaker: Chris Fisher \nBirding in Costa Rica \nCosta Rica has an area only slightly more than Vermont & New Hampshire put together.  Yet it is home to over 850 different bird species – More than all of Mexico\, the United States and Canada put together!  It’s climate is equally amazing covering 8 different climatic zones from Tropical Rainforest to Polar Tundra.  This program combines photographs of many of the colorful bird species and scenery from two different trips to Costa Rica\, the first in 2009 and the second in 2014 and has been designed specifically for a zoom meeting. \nPlease contact Frances D’Amico if you have any questions:\nfrandamico525@yahoo.com    203-237-2734 T \nPlease send your request for a ticket to:\nFrances D’Amico\n508 Preston Ave\nMeriden\, CT 06450 \nif you wish to attend via ZOOM: \n please email Sarah Faulkner at:  sffaulkner@comcast.net for more information or contact Fran above.
URL:https://www.hartfordaudubon.org/trip-event/april-20-2020-wildlife-series-springtime-in-western-canada/
LOCATION:CT
CATEGORIES:Wildlife Series
END:VEVENT
BEGIN:VEVENT
DTSTART;TZID=America/New_York:20210323T190000
DTEND;TZID=America/New_York:20210323T200000
DTSTAMP:20260421T164036
CREATED:20200808T140050Z
LAST-MODIFIED:20210227T144309Z
UID:12703-1616526000-1616529600@www.hartfordaudubon.org
SUMMARY:ZOOM Meeting - March 23\, 2021 - Wildlife Series - Weather’s Impact on Migration - 7 pm
DESCRIPTION:This program will be held via a virtual ZOOM Meeting due to COVID 19 on 3/23/2021 – Tuesday  7:00 –  8  pm \nWeather’s Impact on Migration \nSpeaker: Patrick Comins \nWeather’s Impact on Migration – Ever hear about morning “fallouts in spring? Ever wonder how to anticipate rare birds that may show up during fall migration? In tonight’s program\, Patrick will take the mystery out of these phenomena. Welcome to weather for birding 101. Patrick is the Executive Director of The Connecticut Audubon Society and a Life Member of Hartford Audubon. \nPlease contact Frances D’Amico if you have any questions:\nfrandamico525@yahoo.com    203-237-2734 T \nPlease send your request for a ticket to:\nFrances D’Amico\n508 Preston Ave\nMeriden\, CT 06450 \nif you wish to attend via ZOOM: \n please email Sarah Faulkner at:  sffaulkner@comcast.net for more information or contact Fran above.
URL:https://www.hartfordaudubon.org/trip-event/march-16-2020-wildlife-series-weathers-impact-on-migration/
LOCATION:CT
CATEGORIES:Wildlife Series
END:VEVENT
BEGIN:VEVENT
DTSTART;TZID=America/New_York:20210119T190000
DTEND;TZID=America/New_York:20210119T200000
DTSTAMP:20260421T164036
CREATED:20200808T135514Z
LAST-MODIFIED:20210114T130837Z
UID:12698-1611082800-1611086400@www.hartfordaudubon.org
SUMMARY:ZOOM Meeting - January 19\, 2021: Wildlife Series -Following Peregrine Falcon Recovery - 7 pm
DESCRIPTION:This program will be held via a virtual ZOOM Meeting due to COVID 19.\nTuesday  7:00 –  8  pm \nSpeaker: Tom French  \n30 Years Following Peregrine Falcons to Recovery and Beyond – Tom’s work with Peregrine Falcons in Massachusetts\, chronicles the loss of nesting Peregrines in the state in 1955 through their current recovery to over 30 nesting pairs. Tom provides many photos and stories of their nesting throughout the state. Their population is now limited by nesting sites. Since 1987\, over 500 have been wild born in Massachusetts. \nAll are invited to attend the Wildlife Series. If you have not yet paid for a ticket and wish to attend\, you can send $4.00 for a single program to Frances D’Amico\, 508 Preston Ave.\, Meriden\, CT  06450. Checks should be made out to Hartford Audubon Society. Please write Wildlife Series on the note line.  If you need more information\, please call Fran at 203-237-2734.  The Zoom link will be send a few days before the program.  \nPlease contact Frances D’Amico if you have any questions:\nfrandamico525@yahoo.com /  203-237-2734 T \nif you wish to attend via ZOOM: \n please email Sarah Faulkner at:  sffaulkner@comcast.net for more information or contact Fran above. \n 
URL:https://www.hartfordaudubon.org/trip-event/october-20-2020-wildlife-series-peregrine-falcons-to-recovery-beyond/
LOCATION:CT
CATEGORIES:Wildlife Series
END:VEVENT
BEGIN:VEVENT
DTSTART;TZID=America/New_York:20201117T190000
DTEND;TZID=America/New_York:20201117T200000
DTSTAMP:20260421T164036
CREATED:20200808T135854Z
LAST-MODIFIED:20201107T213903Z
UID:12701-1605639600-1605643200@www.hartfordaudubon.org
SUMMARY:November 17\, 2020 - Wildlife Series - Looking for Owls
DESCRIPTION:November 17\, 2020 – Wildlife Series –   Tuesday 7:00  –  8 pm \nSpeaker:  Gina Nichol \nMeeting will be held via Zoom due to  Covid restrictions and a link will be provided to members.  Please reach out to Fran D’Amico for more information if you wish to attend.   information provided below. \nLooking for Owls \nLooking for Owls – Owls are much loved in the bird world and seeing one is a thrill. These secretive birds can be difficult to find in the wild. Tonight’s program explores how to look for owls through field experiences and knowledge about their life histories of owls. We will embark on an expedition in search of owls and reveal strategies to find them in your backyard and beyond. Gina has presented a wide variety of informative and entertaining programs for HAS over the years. She is a naturalist and the founder of Sunrise Birding LLC as well as a tour leader. \nPlease contact Frances D’Amico if you have any questions:\nfrandamico525@yahoo.com    203-237-2734 T \n 
URL:https://www.hartfordaudubon.org/trip-event/november-17-2020-wildlife-series-looking-for-owls/
LOCATION:CT
CATEGORIES:Wildlife Series
END:VEVENT
BEGIN:VEVENT
DTSTART;TZID=America/New_York:20200421T193000
DTEND;TZID=America/New_York:20200421T210000
DTSTAMP:20260421T164036
CREATED:20190803T220748Z
LAST-MODIFIED:20200406T002943Z
UID:1399-1587497400-1587502800@www.hartfordaudubon.org
SUMMARY:Canceled - April 21\, 2020 - Mystery Program
DESCRIPTION:Speaker: Chris Fisher \nMystery Program– Chris Fisher\, who has previously given us programs on Africa\, Galapagos Islands and Birding the Yucatan Peninsula has agreed to create a new program for this date. It does not yet exist and may be on his and Diane’s travels to Costa Rica\, Alaska or New Zealand. We’ll have to let you know which direction we will be taken as we get closer to the date. It’s going to be magical. Stay tuned! \nMcAuley Residence Auditorium\, 275 Steele Rd\, W Hartford \nMeeting – 7:30 pm \n 
URL:https://www.hartfordaudubon.org/trip-event/april-21-2020-mystery-program/
LOCATION:CT
CATEGORIES:Wildlife Series
END:VEVENT
BEGIN:VEVENT
DTSTART;TZID=America/New_York:20200317T193000
DTEND;TZID=America/New_York:20200317T210000
DTSTAMP:20260421T164036
CREATED:20190803T220558Z
LAST-MODIFIED:20200313T005812Z
UID:1397-1584473400-1584478800@www.hartfordaudubon.org
SUMMARY:EVENT CANCELED:  March 17\, 2020 - 30 Years Following Peregrine Falcons to Recovery and Beyond
DESCRIPTION:In accordance with the Governor’s recommendation that all non-essential gatherings be canceled to slow the spread of Covid-19\, the Hartford Audubon Society is canceling our March 17th Wildlife Series program with Tom French about peregrine falcons.  We hope we can reschedule Tom for a future date.  In the meantime\, we wish everyone good health\, lots of good birdwatching\, and relaxing time to read as we avoid each other!  May this crisis pass quickly.\n\nSarah Faulkner\nHAS President\n————————————————————————————————————- \nSpeaker: Tom French \n30 Years Following Peregrine Falcons to Recovery and Beyond – Tom’s work with Peregrine Falcons in Massachusetts\, chronicles the loss of nesting Peregrines in the state in 1955 through their current recovery to over 30 nesting pairs. Tom provides many photos and stories of their nesting throughout the state. Their population is now limited by nesting sites. Since 1987\, over 500 have been wild born in Massachusetts. \nMcAuley Residence Auditorium\, 275 Steele Rd\, W Hartford  \nMeeting – 7:30 pm
URL:https://www.hartfordaudubon.org/trip-event/march-17-2020-30-years-following-peregrine-falcons-to-recovery-and-beyond/
LOCATION:CT
CATEGORIES:Wildlife Series
END:VEVENT
BEGIN:VEVENT
DTSTART;TZID=America/New_York:20191119T193000
DTEND;TZID=America/New_York:20191119T210000
DTSTAMP:20260421T164036
CREATED:20190803T220415Z
LAST-MODIFIED:20190824T235329Z
UID:1395-1574191800-1574197200@www.hartfordaudubon.org
SUMMARY:November 19\, 2019 - Shorebirds: A Profile Incredible
DESCRIPTION:Speaker: Wayne Petersen \nShorebirds: A Profile Incredible – This presentation will examine the natural history of shorebirds and will specifically consider shorebird classification\, adaptations\, nesting ecology\, migration\, and conservation all within an ecological context. Specific reference will be made to the importance of local regional sites to international shorebird conservation. Wayne is Mass Audubon’s Director of the Massachusetts Important Bird Areas (IBA) program. He has led tours\, lectured\, and conducted birding workshops across North America for more than 40 years. \nMcAuley Residence Auditorium\, 275 Steele Rd\, W Hartford \nMeeting – 7:30 pm
URL:https://www.hartfordaudubon.org/trip-event/november-19-2019-shorebirds-a-profile-incredible/
LOCATION:CT
CATEGORIES:Wildlife Series
END:VEVENT
BEGIN:VEVENT
DTSTART;TZID=America/New_York:20191015T193000
DTEND;TZID=America/New_York:20191015T210000
DTSTAMP:20260421T164036
CREATED:20190803T220242Z
LAST-MODIFIED:20190824T235144Z
UID:1393-1571167800-1571173200@www.hartfordaudubon.org
SUMMARY:October 15\, 2019 - Winter Birding in Connecticut
DESCRIPTION:Speaker: Frank Gallo \nWinter Birding in Connecticut – Join Frank Gallo\, author of the new book\, Birding in Connecticut\, for a virtual journey to a variety of Connecticut’s best winter birding locales\, from hot spots to lesser-known gems. Frank is a leading expert on finding birds in Connecticut and has led birding expeditions all over the world. He will have copies of his book for sale and will sign them after the talk. \nMcAuley Residence Auditorium\, 275 Steele Rd\, W Hartford \nMeeting – 7:30 pm
URL:https://www.hartfordaudubon.org/trip-event/october-15-2019-winter-birding-in-connecticut/
LOCATION:CT
CATEGORIES:Wildlife Series
END:VEVENT
BEGIN:VEVENT
DTSTART;TZID=America/New_York:20190416T193000
DTEND;TZID=America/New_York:20190416T210000
DTSTAMP:20260421T164036
CREATED:20180814T235510Z
LAST-MODIFIED:20180815T211130Z
UID:756-1555443000-1555448400@www.hartfordaudubon.org
SUMMARY:Sam Fried: Continental Drift
DESCRIPTION:Enjoy the tales and bird photos from a 5-month RV trip around North America\, from Florida to the Pribilof Islands of Alaska.
URL:https://www.hartfordaudubon.org/trip-event/sam-fried-continental-drift/
LOCATION:McAuley Residence Auditorium\, 275 Steele Rd.\, West Hartford\, CT\, 06117\, United States
CATEGORIES:Wildlife Series
ATTACH;FMTTYPE=image/jpeg:https://www.hartfordaudubon.org/wp-content/uploads/2018/08/Sam-Fried-e1534368002518.jpg
ORGANIZER;CN="Hartford Audubon Society":MAILTO:info@hartfordaudubon.org
END:VEVENT
BEGIN:VEVENT
DTSTART;TZID=America/New_York:20190319T193000
DTEND;TZID=America/New_York:20190319T210000
DTSTAMP:20260421T164036
CREATED:20180814T235510Z
LAST-MODIFIED:20180815T211152Z
UID:750-1553023800-1553029200@www.hartfordaudubon.org
SUMMARY:Gina Nichol: Lesvos: European Spring Migration Magic
DESCRIPTION:The Greek Island of Lesvos has become known by birders as one of the best locations in Europe to witness spring migration. In late Apriland early May\, a continual stream of migrating birds passes over the island as they move from Africa to their breeding grounds in Europe
URL:https://www.hartfordaudubon.org/trip-event/gina-nichol-lesvos-european-spring-migration-magic/
LOCATION:McAuley Residence Auditorium\, 275 Steele Rd.\, West Hartford\, CT\, 06117\, United States
CATEGORIES:Wildlife Series
ATTACH;FMTTYPE=image/jpeg:https://www.hartfordaudubon.org/wp-content/uploads/2018/08/Gina-Nichol-e1534367949146.jpg
ORGANIZER;CN="Hartford Audubon Society":MAILTO:info@hartfordaudubon.org
END:VEVENT
BEGIN:VEVENT
DTSTART;TZID=America/New_York:20181127T193000
DTEND;TZID=America/New_York:20181127T210000
DTSTAMP:20260421T164036
CREATED:20180814T235508Z
LAST-MODIFIED:20180815T211218Z
UID:738-1543347000-1543352400@www.hartfordaudubon.org
SUMMARY:Norman Smith: Snowy Owl Project and Saw-whet Owl Migration
DESCRIPTION:Since 1981\, Norman Smith has spent countless hours relocating Snowy Owls at Logan Airport and collecting data from them. Find out what has been learned to date\, what questions remain\, and hothis project broadened to include research on Saw-whet Owls.
URL:https://www.hartfordaudubon.org/trip-event/norman-smith-snowy-owl-project-and-saw-whet-owl-migration/
LOCATION:McAuley Residence Auditorium\, 275 Steele Rd.\, West Hartford\, CT\, 06117\, United States
CATEGORIES:Wildlife Series
ATTACH;FMTTYPE=image/jpeg:https://www.hartfordaudubon.org/wp-content/uploads/2018/08/Norman-Smith-e1534367909550.jpg
ORGANIZER;CN="Hartford Audubon Society":MAILTO:info@hartfordaudubon.org
END:VEVENT
BEGIN:VEVENT
DTSTART;TZID=America/New_York:20181016T193000
DTEND;TZID=America/New_York:20181016T210000
DTSTAMP:20260421T164036
CREATED:20180814T235508Z
LAST-MODIFIED:20180815T211235Z
UID:735-1539718200-1539723600@www.hartfordaudubon.org
SUMMARY:Peter Paton: Minimizing the Environmental Impacts of Offshore Wind Energy on Birds: Planning for the Future
DESCRIPTION:As Connecticut begins offshore wind farms\, there may be much to learn about the proactive research that Rhode Island conducted to make the best decisions in planning for their wind energy location.
URL:https://www.hartfordaudubon.org/trip-event/peter-paton-minimizing-the-environmental-impacts-of-offshore-wind-energy-on-birds-planning-for-the-future/
LOCATION:McAuley Residence Auditorium\, 275 Steele Rd.\, West Hartford\, CT\, 06117\, United States
CATEGORIES:Wildlife Series
ATTACH;FMTTYPE=image/jpeg:https://www.hartfordaudubon.org/wp-content/uploads/2018/08/Peter-Paton-e1534367982182.jpg
ORGANIZER;CN="Hartford Audubon Society":MAILTO:info@hartfordaudubon.org
END:VEVENT
END:VCALENDAR