BEGIN:VCALENDAR
VERSION:2.0
PRODID:-// - ECPv6.15.20//NONSGML v1.0//EN
CALSCALE:GREGORIAN
METHOD:PUBLISH
X-ORIGINAL-URL:https://www.hartfordaudubon.org
X-WR-CALDESC:Events for 
REFRESH-INTERVAL;VALUE=DURATION:PT1H
X-Robots-Tag:noindex
X-PUBLISHED-TTL:PT1H
BEGIN:VTIMEZONE
TZID:America/New_York
BEGIN:DAYLIGHT
TZOFFSETFROM:-0500
TZOFFSETTO:-0400
TZNAME:EDT
DTSTART:20180311T070000
END:DAYLIGHT
BEGIN:STANDARD
TZOFFSETFROM:-0400
TZOFFSETTO:-0500
TZNAME:EST
DTSTART:20181104T060000
END:STANDARD
BEGIN:DAYLIGHT
TZOFFSETFROM:-0500
TZOFFSETTO:-0400
TZNAME:EDT
DTSTART:20190310T070000
END:DAYLIGHT
BEGIN:STANDARD
TZOFFSETFROM:-0400
TZOFFSETTO:-0500
TZNAME:EST
DTSTART:20191103T060000
END:STANDARD
BEGIN:DAYLIGHT
TZOFFSETFROM:-0500
TZOFFSETTO:-0400
TZNAME:EDT
DTSTART:20200308T070000
END:DAYLIGHT
BEGIN:STANDARD
TZOFFSETFROM:-0400
TZOFFSETTO:-0500
TZNAME:EST
DTSTART:20201101T060000
END:STANDARD
BEGIN:DAYLIGHT
TZOFFSETFROM:-0500
TZOFFSETTO:-0400
TZNAME:EDT
DTSTART:20210314T070000
END:DAYLIGHT
BEGIN:STANDARD
TZOFFSETFROM:-0400
TZOFFSETTO:-0500
TZNAME:EST
DTSTART:20211107T060000
END:STANDARD
END:VTIMEZONE
BEGIN:VEVENT
DTSTART;TZID=America/New_York:20191216T080000
DTEND;TZID=America/New_York:20200131T170000
DTSTAMP:20260424T152359
CREATED:20191217T025646Z
LAST-MODIFIED:20191217T025650Z
UID:1585-1576483200-1580490000@www.hartfordaudubon.org
SUMMARY:“Two For One” membership - Now through January 31\, 2020
DESCRIPTION:A Special Invitation to Give the Gift of Birding! \nTo celebrate the turning of another decade\, The Hartford Audubon Society is offering a “Two For One” membership now through January 31\, 2020 \nPlease considering giving a membership as a gift to a friend\, family member\, or a neighbor who enjoys the birds (or even yourself!).  And\, for each new member\, you can give a second membership at no charge.   \nMembership entitles the holder to the following: \n\nAnnual program booklets detailing meetings\, trips\, and membership\nEmail correspondence with the membership about programs\, trips\, and sightings\nThe Crest\, the Society’s quarterly newsletter\nFree participation in a host of field trips\nInstructional beginner bird walks led by knowledgeable Society members\nSpecial season rates for the four presentations in the Wildlife Series\nBird and Nature presentations given during the monthly meetings\n\nMembership is open to everyone interested in the activities and mission of the Society. We are an organization dedicated to assisting our members in growing in their birding and wildlife experiences. We pride ourselves on our friendly and welcoming atmosphere\, which includes skills from novice to professional levels. \nPlease consider giving a membership gift to those who care about protecting birds and wildlife\, and most of all\, share the love of birding!
URL:https://www.hartfordaudubon.org/trip-event/two-for-one-membership-now-through-january-31-2020/
LOCATION:CT
CATEGORIES:Club Event
END:VEVENT
BEGIN:VEVENT
DTSTART;TZID=America/New_York:20200101T080000
DTEND;TZID=America/New_York:20200131T170000
DTSTAMP:20260424T152359
CREATED:20190804T223204Z
LAST-MODIFIED:20191217T195438Z
UID:1441-1577865600-1580490000@www.hartfordaudubon.org
SUMMARY:January 1 - 31\, 2020 - January Big/Birding Event - all month!
DESCRIPTION:The Hartford Audubon Society (HAS) is pleased to announce our fourth annual Hartford County Big January of Birding bird watching challenge.  The purpose of the activity is to encourage folks to get outside during the month of January and see as many species of wild birds in Hartford County as possible!  The competition is free to people of all ages. \nBird watching is a delightful\, free activity that can be enjoyed by people of all ages\, in any setting.  Birds can be seen anywhere – you can watch pigeons\, peregrine falcons and snowy owls in Hartford; count the birds on your feeders from your windows; identify ducks and geese on a local river; or seek rare woodland birds on land trust reserves.  Anywhere you go\, birding is just plain fun.  Thus far\, in early December\, we still have some summer migrants lingering\, and some rare visitors – a Pacific loon on the shore\, catbirds in Canton\, a Western tanager in Torrington.   January\, 2020 may be a very interesting month. \nTo participate\, birders should enter their daily or periodic observations onto ebird.org\, the free bird watching site maintained by the Cornell University of Ornithology. At the end of the month\, please create a month-long record of your observations in ebird and share this list with HAS President\, Sarah Faulkner. \nTo enter\, there are four categories: \n\nYouth (ages 4-10) who must see at least 25 species to enter;\nTeen (ages 11-17) who must see at least 35 species to enter;\nWeekend Warrior (adults ages 18 -? who can’t get outdoors during the week) who must see at least 50 species to enter;\nAdults (ages 18 – ? who can get outdoors during the week) who must see at least 60 species to enter.\n\nAll entries that meet the minimum number of species for each challenge group will receive a certificate of achievement.  A special prize will be awarded for the highest species count for each challenge group. \nFor more information – contact Sarah Faulkner at 860-543-1280 or sffaulkner@comcast.net \n 
URL:https://www.hartfordaudubon.org/trip-event/january-1-31-2020-january-big-birding-event-all-month/
LOCATION:CT
CATEGORIES:Club Event,Field Trip
END:VEVENT
BEGIN:VEVENT
DTSTART;TZID=America/New_York:20200104T090000
DTEND;TZID=America/New_York:20200104T150000
DTSTAMP:20260424T152359
CREATED:20190804T223628Z
LAST-MODIFIED:20190804T223633Z
UID:1445-1578128400-1578150000@www.hartfordaudubon.org
SUMMARY:January 4\, 2020 - Station 43 Beginners Bird Walk 2 - Saturday - 9 am
DESCRIPTION:Trip Leader – Jon Ward \nThis will be a cold one\, but don’t let that discourage you from coming. \nMeet at the corner of Newberry Rd and Main St\, S Windsor. \nFor more information\, contact Jon at 860-416-3598 or jward88787@aol.com
URL:https://www.hartfordaudubon.org/trip-event/january-4-2020-station-43-beginners-bird-walk-2-saturday-9-am/
LOCATION:CT
CATEGORIES:Field Trip
END:VEVENT
BEGIN:VEVENT
DTSTART;TZID=America/New_York:20200114T193000
DTEND;TZID=America/New_York:20200114T210000
DTSTAMP:20260424T152359
CREATED:20190803T213509Z
LAST-MODIFIED:20190824T235526Z
UID:1377-1579030200-1579035600@www.hartfordaudubon.org
SUMMARY:January 14\, 2020 - Butterfly Gardens Are for The Birds
DESCRIPTION:Speaker: Margery Winters \nButterfly Gardens Are for The Birds – Butterfly gardens may attract a host of beautiful winged creatures to your yard\, not just butterflies. Find out what makes a successful butterfly habitat. Margery is the Assistant Director and instructor at Roaring Brook Nature Center in Canton and manages their native plant gardens. \nSt James’s Episcopal Church\, 1018 Farmington Ave\, W Hartford \nSocial time – 7 pm \nMeeting – 7:30 pm
URL:https://www.hartfordaudubon.org/trip-event/january-14-2019-butterfly-gardens-are-for-the-birds/
LOCATION:CT
CATEGORIES:Meeting
END:VEVENT
BEGIN:VEVENT
DTSTART;TZID=America/New_York:20200118T080000
DTEND;TZID=America/New_York:20200119T170000
DTSTAMP:20260424T152359
CREATED:20190804T224041Z
LAST-MODIFIED:20190824T233948Z
UID:1447-1579334400-1579453200@www.hartfordaudubon.org
SUMMARY:January 18\, 2020 - Cape Cod Tour\, MA - 2 days
DESCRIPTION:Trip Leader – Peter Stephan \nThis is New England late winter birding at its finest. We should see Scoters and Gannets. \nStay and meet at The Cove in Orleans – \nCall Peter for reservations and details – 860 729-8374 or stephraf@aol.com
URL:https://www.hartfordaudubon.org/trip-event/january-18-2020-cape-cod-tour-ma-2-days/
LOCATION:CT
CATEGORIES:Field Trip
END:VEVENT
END:VCALENDAR