BEGIN:VCALENDAR
VERSION:2.0
PRODID:-// - ECPv6.15.20//NONSGML v1.0//EN
CALSCALE:GREGORIAN
METHOD:PUBLISH
X-ORIGINAL-URL:https://www.hartfordaudubon.org
X-WR-CALDESC:Events for 
REFRESH-INTERVAL;VALUE=DURATION:PT1H
X-Robots-Tag:noindex
X-PUBLISHED-TTL:PT1H
BEGIN:VTIMEZONE
TZID:America/New_York
BEGIN:DAYLIGHT
TZOFFSETFROM:-0500
TZOFFSETTO:-0400
TZNAME:EDT
DTSTART:20190310T070000
END:DAYLIGHT
BEGIN:STANDARD
TZOFFSETFROM:-0400
TZOFFSETTO:-0500
TZNAME:EST
DTSTART:20191103T060000
END:STANDARD
BEGIN:DAYLIGHT
TZOFFSETFROM:-0500
TZOFFSETTO:-0400
TZNAME:EDT
DTSTART:20200308T070000
END:DAYLIGHT
BEGIN:STANDARD
TZOFFSETFROM:-0400
TZOFFSETTO:-0500
TZNAME:EST
DTSTART:20201101T060000
END:STANDARD
BEGIN:DAYLIGHT
TZOFFSETFROM:-0500
TZOFFSETTO:-0400
TZNAME:EDT
DTSTART:20210314T070000
END:DAYLIGHT
BEGIN:STANDARD
TZOFFSETFROM:-0400
TZOFFSETTO:-0500
TZNAME:EST
DTSTART:20211107T060000
END:STANDARD
END:VTIMEZONE
BEGIN:VEVENT
DTSTART;VALUE=DATE:20200425
DTEND;VALUE=DATE:20200525
DTSTAMP:20260424T084058
CREATED:20190804T235207Z
LAST-MODIFIED:20200501T202759Z
UID:1469-1587772800-1590364799@www.hartfordaudubon.org
SUMMARY:Apr 25 – May 24\, 2020  Annual Spring Census
DESCRIPTION:Event Coordinator – Jamie Meyers \nContact Jamie for more information at 860-693-4497 or sunnyctredbird@gmail.com \nThe HAS Spring Bird Census is On!  Our Census leader\, Jamie Meyers\, has extended the dates to run from Saturday\, April 25 and run through Sunday\, May 24.  Everyone is invited to participate while observing social distancing.  We’re following the ABA guidelines for respectful birding and will be doing this individually instead of teams as in “normal” years.  If you’d like to participate\, please contact your town captains below.  Please report your sightings to the captains\, who then compile the results for their town and submit them to Jamie.    Please review details below and stay safe! \nAvon: Brian Toal\nBarkhamsted: open\nBloomfield: Linda Clancy\nBolton: open\nBristol: David Zomick\nBurlington: Margaret Schuster\nCanton: Jay Kaplan\nE Hartford: Debi Wheeler\nEllington: open\nEnfield: Jim Deschamps\nFarmington: Jim Moore\nGlastonbury:  Bill Asteriades\nGranby: John Weeks\nHartford: Open\nManchester:  Open\nNew Britain: Open\nNewington : Roy Zatarian\nPortland: Open\nRocky Hill: Open\nSimsbury: Doug Beach\nSomers: Jan Collins\nSouth Windsor:  Paul Desjardins\nSuffield: Arthur Sikes\nWest Hartford: Helen Rubino Turco\nWethersfield:  Steve Kotchko\nWindsor: Mike and Judy Whittlesey \nFor those new to the census\, it is a tally of species seen during the period on a town by town basis.  Each species counts as one; there is no effort to count total numbers of birds\, as in a Christmas Count.  Each participating town has a captain; they are listed on the HAS website and in the program book.  Please report your sightings to the captains\, who then compile the results for their town and submit them to me. \nI have gone birding frequently during this ordeal and seen that responsible birding and social distancing are not mutually exclusive ideas.  But\, I have found in order to achieve that\, it is necessary to do things differently.  Most importantly\, the most popular recreation areas are currently even busier with people trying to get some fresh air than usual.  I strongly recommend avoiding those places except in the early morning.  The good thing here is that early morning is when you would want to go anyway\, as that is when bird activity is at its best.  Access to state parks is also limited.  The same approach applies to those places.  I am favoring locations with wide walking paths or other very open spaces\, where it is more possible to safely share your space with others.  I recommend avoiding busier places which have narrow walking paths.  Birding in groups is highly discouraged.\n\nI hope that many of you who do the census every year will get out enjoy the season to whatever extent you feel comfortable. Under no circumstances am I suggesting you go out into the field if you don’t feel comfortable or safe doing so.  You have to do what’s right for you.\n\nThe American Birding Association recently published excellent guidelines for birding during these times\, which I am posting below.  Please be safe and smart!\n\n–Jamie Meyers\nAmerican Birding Association Guidelines on Birding and Social Distancing. \nThe basic principles of “quarantine” birding are already well covered in the  ABA Code of Birding Ethics: \n\n        3a. Respect and promote the law and the rights of others; and\n\n        3b. Familiarize yourself with and follow all laws\, rules\, and regulations governing activities at your birding location.\n\nEven so\, there are gray areas and places where reasonable\, caring birders will differ. Here are a few thoughts to help guide your birding as we all get through these challenging\, rapidly changing times together:\n\n\nBirding is a GREAT thing to do right now\, whether you’re a lifelong birder or someone who has just started noticing birds out your window. Keeping a connection with birds and nature is a valuable way to improve mood\, lower stress\, and gain perspective on our current troubles. As such\, birding should be strongly supported and encouraged.\nSome types of birding and birding locales are specifically to be avoided now\, particularly any situation or location that would encourage or require people to violate physical distancing guidelines or travel away from one’s local area. These should be scrupulously avoided.\nThere is no “one size fits all” prescription for how to accomplish this. People are in many different types of living situations\, from high-density urban dwellings to very lightly populated\, rural landscapes. Exactly what is appropriate will vary significantly from place to place.\nPlease remember that every time you hike into the wilds or get on the road to drive to go birding\, you have the potential to require emergency services. This could put pressure on an already strained group of emergency personnel at this challenging time. As such\, work to stay as close to home as possible.\nPeople’s judgement of what is safe will vary. There is little to be gained from birders attacking each other on social media and elsewhere about perceived lapses in physical distancing. However\, thoughtful discussion\, promotion\, and modeling of one’s own “quarantine” birding practices are welcome and appropriate.\n\nIn short\, bird as you are able\, close to home\, and without exposing yourself or anyone else to risk.
URL:https://www.hartfordaudubon.org/trip-event/apr-25-may-17-2020-annual-spring-census-3-weeks/
LOCATION:CT
CATEGORIES:Club Event
END:VEVENT
BEGIN:VEVENT
DTSTART;TZID=America/New_York:20200502T070000
DTEND;TZID=America/New_York:20200502T150000
DTSTAMP:20260424T084058
CREATED:20190805T000204Z
LAST-MODIFIED:20200405T235824Z
UID:1475-1588402800-1588431600@www.hartfordaudubon.org
SUMMARY:Canceled - May 2\, 2020 - Quarry Park - Saturday - 7 am
DESCRIPTION:Trip Leader: Larry Lunden \nEnjoy a morning trip exploring Quarry Park and the Connecticut River floodplain in the Rocky Hill area. Wear sturdy shoes\, and if the spring has been wet\, bring waterproof boots. \nCorner of Old Main St and Marshall Rd\, Rocky Hill – meet at small dirt parking lot\, GPS 270 Old Main St \nFor more information\, contact Larry at 860-232-2416 or killdeer431@comcast.net
URL:https://www.hartfordaudubon.org/trip-event/may-2-2020-quarry-park-saturday-7-am/
LOCATION:CT
CATEGORIES:Field Trip
END:VEVENT
BEGIN:VEVENT
DTSTART;TZID=America/New_York:20200502T073000
DTEND;TZID=America/New_York:20200502T120000
DTSTAMP:20260424T084058
CREATED:20190805T000429Z
LAST-MODIFIED:20200406T003047Z
UID:1477-1588404600-1588420800@www.hartfordaudubon.org
SUMMARY:Canceled - May 2\, 2020 - Lower Greenwoods - Boneyard - Saturday - 7:30 am
DESCRIPTION:Trip Leader: TBD \nSpend the morning on an easy walk looking for migrants on MDC property along the West Branch of the Farmington River. \nRte 44 to Rte 181\, Barkhamsted – Kiosk on first dirt road on right \n  \n  \n 
URL:https://www.hartfordaudubon.org/trip-event/may-2-2020-lower-greenwoods-boneyard-saturday-730-am/
LOCATION:CT
CATEGORIES:Field Trip
END:VEVENT
BEGIN:VEVENT
DTSTART;TZID=America/New_York:20200503T070000
DTEND;TZID=America/New_York:20200503T150000
DTSTAMP:20260424T084058
CREATED:20190805T000735Z
LAST-MODIFIED:20200405T235849Z
UID:1479-1588489200-1588518000@www.hartfordaudubon.org
SUMMARY:Canceled - May 3\, 2020 - Gay City State Park - Sunday - 7:00 am
DESCRIPTION:Trip Leader – Ernie Harris \nLook for migrants and other birds in a variety of habitats. Gay City has tall trees\, wetland ponds and an interesting history. \nGay City State Park main entrance\, Route 85\, Hebron – First parking lot on right \nFor more information\, contact Ernie at 860-603-2655 or pdlqlt@mac.com \n 
URL:https://www.hartfordaudubon.org/trip-event/may-3-2020-gay-city-state-park-sunday-700-am/
LOCATION:CT
CATEGORIES:Field Trip
END:VEVENT
BEGIN:VEVENT
DTSTART;TZID=America/New_York:20200503T070000
DTEND;TZID=America/New_York:20200503T150000
DTSTAMP:20260424T084058
CREATED:20190805T001104Z
LAST-MODIFIED:20200405T235916Z
UID:1481-1588489200-1588518000@www.hartfordaudubon.org
SUMMARY:Canceled - May 3\, 2020 - Werner's Woods - Sunday - 7 am
DESCRIPTION:Trip Leader – Jay Kaplan \nThis is a one-mile walk through the diverse habitats of Werner’s Woods\, a state owned wildlife sanctuary adjacent to the Center. On a good morning\, more than fifty species can be seen or heard. \nPark at Roaring Brook Nature Center\, Canton \nFor more information\, contact Jay at 860-693-0157 or jaybrd49@aol.com \n 
URL:https://www.hartfordaudubon.org/trip-event/may-3-2020-werners-woods-sunday-7-am/
LOCATION:CT
CATEGORIES:Field Trip
END:VEVENT
BEGIN:VEVENT
DTSTART;TZID=America/New_York:20200505T080000
DTEND;TZID=America/New_York:20200511T170000
DTSTAMP:20260424T084058
CREATED:20190805T001347Z
LAST-MODIFIED:20200406T003114Z
UID:1483-1588665600-1589216400@www.hartfordaudubon.org
SUMMARY:Canceled:  May 5\, 2020 - Magee Marsh\, Ohio - 7 days
DESCRIPTION:Trip Coordinator:  Roberta Gowing \nMagee Marsh is on the southern shore of Lake Erie\, near Toledo. Warbler viewing from the mile-long boardwalk is fantastic: many birds\, many species\, great low and close views. \nTell Roberta of your possible interest.  You may contact her at 860-644-1151 or robertagowing@sbcglobal.net \n  \n 
URL:https://www.hartfordaudubon.org/trip-event/may-5-2020-magee-marsh-ohio-7-days/
LOCATION:CT
CATEGORIES:Field Trip
END:VEVENT
BEGIN:VEVENT
DTSTART;TZID=America/New_York:20200507T074500
DTEND;TZID=America/New_York:20200507T150000
DTSTAMP:20260424T084058
CREATED:20190805T001832Z
LAST-MODIFIED:20200405T235944Z
UID:1485-1588837500-1588863600@www.hartfordaudubon.org
SUMMARY:Canceled - May 7\, 2020 -Tanager Hill - Thursday - 7:45 am
DESCRIPTION:Trip Leaders:  Doug Beach\, Jon Ward and John Weeks \nTanager Hill and the adjacent Owen-Mortimer property provide over 100 acres of spectacular birding habitat on Talcott Mountain. This morning two-mile walk ascends over 200 feet. \nEast Weatogue Street\, Simsbury – Parking lot is 0.3 mile south of Terry’s Plain Rd \nFor more information\, contact Doug Beach at 860-878-1364 or beachgolfdesign@att.net \nor Jon Ward at 860-416-3958 or jward88787@aol.com \nor John Weeks at 860-844-8965 or aerie.john@cox.net \n  \n 
URL:https://www.hartfordaudubon.org/trip-event/may-7-2020-tanager-hill-thursday-745-am/
LOCATION:Tanager Hill\, Old Bridge Rd.\, Simsbury\, CT\, 06070\, United States
CATEGORIES:Field Trip
ORGANIZER;CN="Doug Beach":MAILTO:beachgolfdesign@att.net
END:VEVENT
BEGIN:VEVENT
DTSTART;TZID=America/New_York:20200509T070000
DTEND;TZID=America/New_York:20200509T150000
DTSTAMP:20260424T084058
CREATED:20190805T002121Z
LAST-MODIFIED:20200406T000017Z
UID:1487-1589007600-1589036400@www.hartfordaudubon.org
SUMMARY:Canceled - May 9\, 2020 - East Rock Park - Saturday - 7 am
DESCRIPTION:Trip Leader – Paul Desjardins \nThis is one of the best spots to find migrating warblers\, as it is the first large land mass birds see after crossing Long Island Sound. \n915 Whitney Ave\, Hamden – meet at Eli Whitney Museum parking lot. \nFor more information\, contact Paul at 860-623-3696 or paul.desjardins2@gmail.com \n 
URL:https://www.hartfordaudubon.org/trip-event/may-9-2020-east-rock-park-saturday-7-am/
LOCATION:East Rock\, 915 Whitney Ave.\, Hamden\, CT\, United States
CATEGORIES:Field Trip
ORGANIZER;CN="Paul Desjardins":MAILTO:paul.desjardins2@gmail.com
END:VEVENT
BEGIN:VEVENT
DTSTART;TZID=America/New_York:20200509T070000
DTEND;TZID=America/New_York:20200509T150000
DTSTAMP:20260424T084058
CREATED:20190805T002339Z
LAST-MODIFIED:20200406T000050Z
UID:1489-1589007600-1589036400@www.hartfordaudubon.org
SUMMARY:Canceled - May 9\, 2020 - Freja and Bolton Notch - Saturday - 7 am
DESCRIPTION:Trip Leader – Ernie Harris \nThis walk in Bolton visits two beautiful parks that border the Hop River Trail in Bolton Notch. Bring insect repellent. \nHead east on I-384\, bear left onto Rte 44 where Rte 44 and Rte 6 separate. Take a quick left after passing under the bridge to head west on I-384. Watch carefully for a sharp right turn to lot. \nFor more information\, contact Ernie at 860-603-2655 or pdlqlt@mac.com \n 
URL:https://www.hartfordaudubon.org/trip-event/may-9-2020-freja-and-bolton-notch-saturday-7-am/
LOCATION:CT
CATEGORIES:Field Trip
END:VEVENT
BEGIN:VEVENT
DTSTART;VALUE=DATE:20200511
DTEND;VALUE=DATE:20200512
DTSTAMP:20260424T084058
CREATED:20200511T181859Z
LAST-MODIFIED:20200511T184954Z
UID:12651-1589155200-1589241599@www.hartfordaudubon.org
SUMMARY:Greenstone Hollow Update from Chris Fisher - 5/9/2020
DESCRIPTION:Greenstone Hollow Update from Chris Fisher: \nHi Everyone – I wanted to give you an update on work that’s been going on at our Greenstone Hollow Nature Preserve in East Granby. \nThe Butterfly Garden has beautiful bulbs blooming that Roberta Gowing and friends planted last year. \nCathy Delasco placed two bluebird houses at the corners of the garden and at least one of them has a Tree Swallow family in residence.  Cathy\, Drew Smith and Michelle Clifford and I have been spreading 8 truckloads of mulch given to us by the town of East Granby. \nWe have almost finished spreading it on the entire Wood Thrush trail on the south side of Ridge Road. This trail goes through a lot of nice habitat\, but was hard walking because it tended to be muddy and have a lot of above ground roots to trip on. \nNow it is really pleasant walking – come give it a try. \nAs we were working we heard Blue-winged Warblers\, Black-and-White Warblers\, Common Yellowthroats and Northern Parulas. \nLarry Lunden heard and saw several of those and more as he did his bird survey to report to E-bird. \nFinally\, Diane and I have put in 3 new benches and may get a couple more in today.  There’s one at the Butterfly Garden\, one at Yellowthroat Overlook and one at Bluebird Hollow. \nSo come out and explore this lovely spot.  It’s a nice\, uncrowded place to get outdoors.
URL:https://www.hartfordaudubon.org/trip-event/greenstone-hollow-update-from-chris-fisher-5-9-2020/
LOCATION:CT
CATEGORIES:Club Event
END:VEVENT
BEGIN:VEVENT
DTSTART;TZID=America/New_York:20200511T000000
DTEND;TZID=America/New_York:20200531T000000
DTSTAMP:20260424T084058
CREATED:20200511T182648Z
LAST-MODIFIED:20200511T185143Z
UID:12653-1589155200-1590883200@www.hartfordaudubon.org
SUMMARY:E Media Volunteer Wanted!
DESCRIPTION:E Media Volunteer Wanted! \nHAS needs a  volunteer to do our membership emails and write press and social media announcements!  If you are a strong writer\, enjoy using the computer for social media\, and can coordinate press releases\, we need you! \nPlease email Sarah Faulkner to explore further.  Sarah Faulkner (sffaulkner@comcast.net)
URL:https://www.hartfordaudubon.org/trip-event/e-media-volunteer-wanted/
LOCATION:CT
CATEGORIES:Club Event
END:VEVENT
BEGIN:VEVENT
DTSTART;TZID=America/New_York:20200512T000000
DTEND;TZID=America/New_York:20200512T000000
DTSTAMP:20260424T084058
CREATED:20190803T214919Z
LAST-MODIFIED:20200508T211641Z
UID:1385-1589241600-1589241600@www.hartfordaudubon.org
SUMMARY:May 12\, 2020:  Annual Meeting Held Via Zoom for members:  Banquet postponed to October
DESCRIPTION:Tuesday\, May 12: Annual Meeting and Evening Program will be held virtually.  Members will be emailed login information for the meeting.  Questions?  email sffaulkner@comcast.net \nThe Annual Meeting features the election of Officers and Directors\, the Treasurer’s Report\, presentation of awards\, and the President’s update on the organization. \nThe annual banquet\, usually held in May\, will be postponed till October\, 2020 – More details will be shared\, when appropriate. \n  \n 
URL:https://www.hartfordaudubon.org/trip-event/may-12-2020-banquet-and-annual-meeting/
LOCATION:CT
CATEGORIES:Meeting
END:VEVENT
BEGIN:VEVENT
DTSTART;TZID=America/New_York:20200516T073000
DTEND;TZID=America/New_York:20200516T150000
DTSTAMP:20260424T084058
CREATED:20190805T002601Z
LAST-MODIFIED:20200508T210737Z
UID:1491-1589614200-1589641200@www.hartfordaudubon.org
SUMMARY:Canceled - May 16\, 2020 - Mt Auburn & Plum Island\, MA - Saturday - 7:30 am
DESCRIPTION:Trip Leader – Jon Ward \nThe cemetery is a famous warbler hotspot and has beautiful park-like grounds. Plum Island is one of the best year-round birding locations on the east coast. Bring lunch. Enjoy dinner in Newburyport before leaving for home. \nMeet at Mount Auburn Cemetery entrance\, Cambridge\, MA. \nFor more information\, contact Jon at 860-416-3958 or jward88787@aol.com
URL:https://www.hartfordaudubon.org/trip-event/may-16-2020-mt-auburn-plum-island-ma-saturday-730-am/
LOCATION:CT
CATEGORIES:Field Trip
END:VEVENT
BEGIN:VEVENT
DTSTART;TZID=America/New_York:20200516T073000
DTEND;TZID=America/New_York:20200516T150000
DTSTAMP:20260424T084058
CREATED:20190805T002848Z
LAST-MODIFIED:20200508T210810Z
UID:1493-1589614200-1589641200@www.hartfordaudubon.org
SUMMARY:Canceled - May 16\, 2020 -Machimoodus State Park - Saturday - 7:30 am
DESCRIPTION:Trip Leaders – Alberta & Rob Mirer \nThis state park is an area new for most HAS members. It has woods\, a hemlock ravine\, grassy fields\, and early successional habitat along the Salmon River. Kayak rentals are available after the trip. \nParking lot on the west side of Rte.151 (Leesville Road) \nFor more information\, contact them at 860-891-8364 or twomirers@comcast.net \n 
URL:https://www.hartfordaudubon.org/trip-event/may-16-2020-machimoodus-state-park-saturday-730-am/
LOCATION:CT
CATEGORIES:Field Trip
END:VEVENT
BEGIN:VEVENT
DTSTART;TZID=America/New_York:20200517T073000
DTEND;TZID=America/New_York:20200517T150000
DTSTAMP:20260424T084058
CREATED:20190805T003137Z
LAST-MODIFIED:20200508T210850Z
UID:1495-1589700600-1589727600@www.hartfordaudubon.org
SUMMARY:Canceled - May 17\, 2020 - Nepaug  - Sunday - 7:30 am
DESCRIPTION:Trip Leader – Jamie Meyers \nThis roving trip to an excellent area always produces interesting migrants. Come see Nepaug at its best. \nCommuter parking lot\, Route 179\, Canton;  Just north of the intersection of Route 202 and Route 44. \nFor more information\, contact Jamie at 860-693-4497 or sunnyctredbird@gmail.com \n 
URL:https://www.hartfordaudubon.org/trip-event/may-17-2020-nepaug-sunday-730-am/
LOCATION:CT
CATEGORIES:Field Trip
END:VEVENT
BEGIN:VEVENT
DTSTART;TZID=America/New_York:20200523T070000
DTEND;TZID=America/New_York:20200523T150000
DTSTAMP:20260424T084058
CREATED:20190805T003438Z
LAST-MODIFIED:20200508T210930Z
UID:1497-1590217200-1590246000@www.hartfordaudubon.org
SUMMARY:Canceled - May 23\, 2020 - Fisher Meadows - Saturday - 7 am
DESCRIPTION:Trip Leader:  Brian Toal \nTake an easy morning stroll\, suitable for all levels of birders\, around the pond. Habitats include fields\, woodlands\, and shrub land. \nOld Farms Rd\, Avon – Fisher Meadows parking lot at main entrance \nFor more information\, contact Brian at 860-677-7156 or brian.toal@sbcglobal.net \n 
URL:https://www.hartfordaudubon.org/trip-event/may-23-2020-fisher-meadows-saturday-7-am/
LOCATION:CT
CATEGORIES:Field Trip
END:VEVENT
BEGIN:VEVENT
DTSTART;TZID=America/New_York:20200523T080000
DTEND;TZID=America/New_York:20200523T150000
DTSTAMP:20260424T084058
CREATED:20190805T003659Z
LAST-MODIFIED:20200508T211004Z
UID:1499-1590220800-1590246000@www.hartfordaudubon.org
SUMMARY:Canceled -May 23\, 2020 - Greenstone Hollow - Saturday - 8 am
DESCRIPTION:Trip Leader – Larry Lunden \nEnjoy a morning walk at a Hartford Audubon sanctuary with shrub\, swamp\, marsh\, wet meadow\, pond and wooded habitats. \nRidge Blvd\, E Granby – Main entrance at the end of the guard rail. \nFor more information\, contact Larry at 860-232-2416 or killdeer431@comcast.net
URL:https://www.hartfordaudubon.org/trip-event/may-23-2020-greenstone-hollow-saturday-8-am/
LOCATION:CT
CATEGORIES:Field Trip
END:VEVENT
BEGIN:VEVENT
DTSTART;TZID=America/New_York:20200523T080000
DTEND;TZID=America/New_York:20200525T170000
DTSTAMP:20260424T084058
CREATED:20190805T003900Z
LAST-MODIFIED:20200508T211245Z
UID:1501-1590220800-1590426000@www.hartfordaudubon.org
SUMMARY:STILL PLANNED and dependent on hotel availability: May 23\, 2020 - Watertown\, NY - 3 days
DESCRIPTION:STILL PLANNED and dependent on hotel availability: May 23\, 2020 – Watertown\, NY – 3 days \nTrip Leader – Peter Stephan \nVisit Perch River Marsh\, Cape Vincent\, Fort Drum\, Ferd’s Bog and Moose River Plains with stops along the way when Peter hears birds. \nCall Peter for arrangements at 860-729-8374 or stephraf@aol.com \n 
URL:https://www.hartfordaudubon.org/trip-event/may-23-2020-watertown-ny-3-days/
LOCATION:CT
CATEGORIES:Field Trip
END:VEVENT
BEGIN:VEVENT
DTSTART;TZID=America/New_York:20200531T073000
DTEND;TZID=America/New_York:20200531T150000
DTSTAMP:20260424T084058
CREATED:20190805T004326Z
LAST-MODIFIED:20200508T211050Z
UID:1503-1590910200-1590937200@www.hartfordaudubon.org
SUMMARY:Canceled - May 31\, 2020 - Station 43 - Sunday - 7:30 am
DESCRIPTION:Trip Leader – Paul Cianfaglione \nThe trip focuses on finding wetland birds such as Virginia Rail\, Sora\, Marsh Wren\, Least Bittern\, Swamp Sparrow and Wood Duck.  Boots and insect repellant are advised. \nMeet at corner of Newberry Rd and Main St\, S Windsor \nFor more information – contact Paul at 860-836-3443 or pgcianfaglione@gmail.com \n  \n 
URL:https://www.hartfordaudubon.org/trip-event/may-31-2020-station-43-sunday-730-am/
LOCATION:CT
CATEGORIES:Field Trip
END:VEVENT
END:VCALENDAR