BEGIN:VCALENDAR
VERSION:2.0
PRODID:-// - ECPv6.15.20//NONSGML v1.0//EN
CALSCALE:GREGORIAN
METHOD:PUBLISH
X-ORIGINAL-URL:https://www.hartfordaudubon.org
X-WR-CALDESC:Events for 
REFRESH-INTERVAL;VALUE=DURATION:PT1H
X-Robots-Tag:noindex
X-PUBLISHED-TTL:PT1H
BEGIN:VTIMEZONE
TZID:America/New_York
BEGIN:DAYLIGHT
TZOFFSETFROM:-0500
TZOFFSETTO:-0400
TZNAME:EDT
DTSTART:20190310T070000
END:DAYLIGHT
BEGIN:STANDARD
TZOFFSETFROM:-0400
TZOFFSETTO:-0500
TZNAME:EST
DTSTART:20191103T060000
END:STANDARD
BEGIN:DAYLIGHT
TZOFFSETFROM:-0500
TZOFFSETTO:-0400
TZNAME:EDT
DTSTART:20200308T070000
END:DAYLIGHT
BEGIN:STANDARD
TZOFFSETFROM:-0400
TZOFFSETTO:-0500
TZNAME:EST
DTSTART:20201101T060000
END:STANDARD
BEGIN:DAYLIGHT
TZOFFSETFROM:-0500
TZOFFSETTO:-0400
TZNAME:EDT
DTSTART:20210314T070000
END:DAYLIGHT
BEGIN:STANDARD
TZOFFSETFROM:-0400
TZOFFSETTO:-0500
TZNAME:EST
DTSTART:20211107T060000
END:STANDARD
END:VTIMEZONE
BEGIN:VEVENT
DTSTART;TZID=America/New_York:20201107T080000
DTEND;TZID=America/New_York:20201109T170000
DTSTAMP:20260424T133614
CREATED:20200808T152100Z
LAST-MODIFIED:20201106T133345Z
UID:12745-1604736000-1604941200@www.hartfordaudubon.org
SUMMARY:CANCELED - November 7\, 2020 - DelMarva Peninsula - Saturday 2-3 days
DESCRIPTION:Because all the states are on the no-travel list…  this trip has been cancelled. \nBecause Nov 7\, 2020 –      DelMarva Peninsula   –    Saturday 2-3 days \nDelaware\, Maryland and Virginia \nContact Peter for arrangements \nVisit Bombay Hook\, Chincoteague and Blackwater National Wildlife Refuges as well as Ocean City\, Elliot’s Pond\, Indian River Inlet and possibly Prime Hook NWR. These are all top birding spots in this area. \nPeter Stephan             stephraf@aol.com          860-729-8374 T \n 
URL:https://www.hartfordaudubon.org/trip-event/november-7-2020-delmarva-peninsula-saturday-2-3-days/
LOCATION:CT
CATEGORIES:Field Trip
ORGANIZER;CN="Peter Stephan":MAILTO:stephraf@aol.com
END:VEVENT
BEGIN:VEVENT
DTSTART;TZID=America/New_York:20201110T190000
DTEND;TZID=America/New_York:20201110T203000
DTSTAMP:20260424T133614
CREATED:20200808T133128Z
LAST-MODIFIED:20201106T135953Z
UID:12674-1605034800-1605040200@www.hartfordaudubon.org
SUMMARY:UPDATE!   November 10\, 2020 - Monthly Meeting:   Black Bears in Connecticut 
DESCRIPTION:Nov 10\, 2020 – Monthly Meeting  –  Tuesday 7 pm  –  this meeting will be held virtually via ZOOM. \nSpeaker: Paul Colburn \n\n\n\n\n\n\nBlack Bears in Connecticut \nPaul Colburn\, a certified Master Wildlife Conservationist\, will present  the habitat\, diet\, behavior\, and reproduction of the Black Bear. He will also share an overview of current local research efforts on this species. Based on this information\, practical recommendations for optimum coexistence with the Connecticut Black Bear population will be shared.\n\n\n\n\n\n\n\n\n\nFor all Zoom programs\, the program link is emailed to members\, but we welcome the public.\nInterested nonmembers can email Sarah Faulkner (HAS President) at the address shown below and request the link.\nSarah Faulkner\, President – sffaulkner@comcast.net \n\n\n\n 
URL:https://www.hartfordaudubon.org/trip-event/november-10-2020-monthly-meeting-connecticut-wild-turkey-restoration-and-management/
LOCATION:CT
CATEGORIES:Meeting
END:VEVENT
BEGIN:VEVENT
DTSTART;TZID=America/New_York:20201117T190000
DTEND;TZID=America/New_York:20201117T200000
DTSTAMP:20260424T133614
CREATED:20200808T135854Z
LAST-MODIFIED:20201107T213903Z
UID:12701-1605639600-1605643200@www.hartfordaudubon.org
SUMMARY:November 17\, 2020 - Wildlife Series - Looking for Owls
DESCRIPTION:November 17\, 2020 – Wildlife Series –   Tuesday 7:00  –  8 pm \nSpeaker:  Gina Nichol \nMeeting will be held via Zoom due to  Covid restrictions and a link will be provided to members.  Please reach out to Fran D’Amico for more information if you wish to attend.   information provided below. \nLooking for Owls \nLooking for Owls – Owls are much loved in the bird world and seeing one is a thrill. These secretive birds can be difficult to find in the wild. Tonight’s program explores how to look for owls through field experiences and knowledge about their life histories of owls. We will embark on an expedition in search of owls and reveal strategies to find them in your backyard and beyond. Gina has presented a wide variety of informative and entertaining programs for HAS over the years. She is a naturalist and the founder of Sunrise Birding LLC as well as a tour leader. \nPlease contact Frances D’Amico if you have any questions:\nfrandamico525@yahoo.com    203-237-2734 T \n 
URL:https://www.hartfordaudubon.org/trip-event/november-17-2020-wildlife-series-looking-for-owls/
LOCATION:CT
CATEGORIES:Wildlife Series
END:VEVENT
END:VCALENDAR