BEGIN:VCALENDAR
VERSION:2.0
PRODID:-// - ECPv6.15.20//NONSGML v1.0//EN
CALSCALE:GREGORIAN
METHOD:PUBLISH
X-ORIGINAL-URL:https://www.hartfordaudubon.org
X-WR-CALDESC:Events for 
REFRESH-INTERVAL;VALUE=DURATION:PT1H
X-Robots-Tag:noindex
X-PUBLISHED-TTL:PT1H
BEGIN:VTIMEZONE
TZID:America/New_York
BEGIN:DAYLIGHT
TZOFFSETFROM:-0500
TZOFFSETTO:-0400
TZNAME:EDT
DTSTART:20190310T070000
END:DAYLIGHT
BEGIN:STANDARD
TZOFFSETFROM:-0400
TZOFFSETTO:-0500
TZNAME:EST
DTSTART:20191103T060000
END:STANDARD
BEGIN:DAYLIGHT
TZOFFSETFROM:-0500
TZOFFSETTO:-0400
TZNAME:EDT
DTSTART:20200308T070000
END:DAYLIGHT
BEGIN:STANDARD
TZOFFSETFROM:-0400
TZOFFSETTO:-0500
TZNAME:EST
DTSTART:20201101T060000
END:STANDARD
BEGIN:DAYLIGHT
TZOFFSETFROM:-0500
TZOFFSETTO:-0400
TZNAME:EDT
DTSTART:20210314T070000
END:DAYLIGHT
BEGIN:STANDARD
TZOFFSETFROM:-0400
TZOFFSETTO:-0500
TZNAME:EST
DTSTART:20211107T060000
END:STANDARD
END:VTIMEZONE
BEGIN:VEVENT
DTSTART;TZID=America/New_York:20201208T190000
DTEND;TZID=America/New_York:20201208T203000
DTSTAMP:20260424T145705
CREATED:20200808T133816Z
LAST-MODIFIED:20201207T135208Z
UID:12680-1607454000-1607459400@www.hartfordaudubon.org
SUMMARY:UPDATE!:    December 8\, 2020 - Holiday VIRTUAL Slideshow/Meeting  (7-8:30 PM)
DESCRIPTION:UPDATE!: \n\n\n\nDecember “Pot Luck” Photograph Show Will Go On!  12/8/2020     7 PM to 8/8:30 PM\n​\n\nThe December potluck and silent auction\, always a favorite activity\, is unfortunately canceled this year\n\n\n\n\n\ndue to COVID-19 concerns. However\, we’re still going to hold the photography sharing program!\n\n\nWe have a wonderful Holiday Photography Program on Tuesday night\, December 8th starting promptly at 7:00 pm.  The Zoom link was emailed to members. \nIf you did not receive it\, or would like to join us from the public\, please email Sarah Faulkner at sffaulkner@comcast.net. \n\nHAS Year of Birding Summary\nMona Cavallero\nBen and Barbara Skaught\nJay Kaplan\nDoug Beach\nDeb Wheeler\nChris Fisher\nJoan Heffernan\nDavid Zomick\nSarah Faulkner\nDavid Funke\nMaggie Peretto\nMike Berzenski\n\n\n\n\n 
URL:https://www.hartfordaudubon.org/trip-event/december-8-2020-holiday-potluck-slideshow-and-meeting/
LOCATION:CT
CATEGORIES:Meeting
END:VEVENT
BEGIN:VEVENT
DTSTART;VALUE=DATE:20201220
DTEND;VALUE=DATE:20201221
DTSTAMP:20260424T145705
CREATED:20200808T152349Z
LAST-MODIFIED:20201203T195909Z
UID:12747-1608422400-1608508799@www.hartfordaudubon.org
SUMMARY:UPDATED: December 20\, 2020 - Christmas Bird Counts - Sunday - All Day
DESCRIPTION:TO ALL HARTFORD AREA BIRDERS: \nThe 2020 Hartford Christmas Bird Count (CBC) will be held on Sunday\, December 20th. \nOur Count is now scheduled on a Sunday to allow for better (and safer) access to numerous areas along the Connecticut River because hunting takes place on Saturdays\, but not on Sundays in those areas.  December 20 th is now less than three weeks away! \nWe continue to remain in the grip of the COVID-19 pandemic.  Fortunately\, birding is an activity that is easily done with social distancing and safety protocols in mind.  Our 2019 Hartford Summer Bird Count saw record participation in terms of numbers of participants in the field.  If the weather cooperates\, I hope that we will also see a strong effort on December 20 th. \nThere are safety protocols that we recommend you follow if you plan to participate in this year’s Count.  Please do not carpool unless you are traveling with members of your own family.  In the field\, please maintain proper social distancing and we ask that group sizes be limited to five or fewer people in the same immediate area.  Masks are encouraged if there are others around. \nFinally\, we will not be holding a captains’ meeting this year.  Captains will be emailing their reports to the Compiler\, who will then total the observations from each of the Count’s twelve areas. \nFYI:   For those new to birding or to the Christmas Bird Count\, this is the longest running of all citizen-science surveys.  The Count was begun in 1900 as an alternative to the Christmas hunt during which thousands of birds were shot for dinner or merely for sport.  Christmas Bird Counts provide valuable information on trends in bird populations over time.  The objective of the Count is to census all birds within a seven and one-half mile radius of Hartford’s Old State House on a single day.  As such\, all of Hartford\, West Hartford and East Hartford are within the Count circle\, as well as portions of Windsor\, Bloomfield\, Avon\, Farmington\, Newington\, Wethersfield\, New Britain\, Rocky Hill\, Glastonbury\, Manchester and South Windsor.  Participants may count birds for an hour in their own yard if they live within the Count circle.  Or\, they may join a small team that may venture into the field for part or all of the day\, scouring reservoir lands\, agricultural fields or parks and woodland areas.  Some birders even go out at night in an attempt to call in owls.  Birds that are seen or heard may be counted.  All individual birds rather than just species of birds are counted.  Three days prior to and three days following the Count Day make up what is known as Count Week.  Birds seen during the Count Week\, but not on Count Day\, are considered “Count Week” birds and are noted as to species\, but are not added to the total. \nThe Harford Count is divided into 12 areas\, each with a captain.  Captains and their email addresses are as follows: \nArea #1 South Windsor (Station 43 and surrounding area) – Paul Desjardins  –  paul.desjardins2@gmail.com\, \nArea # South Windsor (upland areas) – Patrice Favreau  –    kestrel.pf@gmail.com \nArea #3 Manchester – Maggie Peretto  –  wings.mp@gmail.com \nArea #4 Glastonbury – Andrew Dasinger  –   amdasinger@gmail.com \nArea #5 Wethersfield/Rocky Hill – Steve Kotchko –  smkbard@cox.net \nArea #6 Hartford – Jay Kaplan –   Jaybrd49@aol.com \nArea #7 Newington – Sylvia Halkin –  halkin@ccsu.edu \nArea #8 Avon/Farmington – Sarah Faulkner –   sffaulkner@comcast.net   \nArea #9 West Hartford – Brian Toal –     briantoal@sbcglobal.net \nArea #10 Bloomfield – Jim Watso –    jcwphotos@cox.net \nArea #11 Windsor – Mike & Judy Whittlesey –  mwhitt15@gmail.com \nArea #12 East Hartford – Blair Wlochowski – wlochowski@sbcglobal.net \nPlease contact the captain of the area in which you might be able to help well in advance of the Count.  Captains are responsible for making certain areas are covered.  We ask that you do not cover an area without letting the captain know so as to make certain areas are not doubly covered or to make certain they are within the Count circle. \nPlease do not hesitate to contact me should there be any questions concerning the Count.  It can be great fun and you might be surprised at what can be found during a day of December birding in the Greater Hartford area. \nJay Kaplan\, Compiler\, Hartford Christmas Bird Count \nJaybrd49@aol.com
URL:https://www.hartfordaudubon.org/trip-event/december-20-2020-christmas-bird-counts-sunday-all-day/
LOCATION:CT
CATEGORIES:Club Event
ORGANIZER;CN="Jay Kaplan":MAILTO:jaybrd49@aol.com
END:VEVENT
END:VCALENDAR