BEGIN:VCALENDAR
VERSION:2.0
PRODID:-// - ECPv6.15.20//NONSGML v1.0//EN
CALSCALE:GREGORIAN
METHOD:PUBLISH
X-ORIGINAL-URL:https://www.hartfordaudubon.org
X-WR-CALDESC:Events for 
REFRESH-INTERVAL;VALUE=DURATION:PT1H
X-Robots-Tag:noindex
X-PUBLISHED-TTL:PT1H
BEGIN:VTIMEZONE
TZID:America/New_York
BEGIN:DAYLIGHT
TZOFFSETFROM:-0500
TZOFFSETTO:-0400
TZNAME:EDT
DTSTART:20200308T070000
END:DAYLIGHT
BEGIN:STANDARD
TZOFFSETFROM:-0400
TZOFFSETTO:-0500
TZNAME:EST
DTSTART:20201101T060000
END:STANDARD
BEGIN:DAYLIGHT
TZOFFSETFROM:-0500
TZOFFSETTO:-0400
TZNAME:EDT
DTSTART:20210314T070000
END:DAYLIGHT
BEGIN:STANDARD
TZOFFSETFROM:-0400
TZOFFSETTO:-0500
TZNAME:EST
DTSTART:20211107T060000
END:STANDARD
BEGIN:DAYLIGHT
TZOFFSETFROM:-0500
TZOFFSETTO:-0400
TZNAME:EDT
DTSTART:20220313T070000
END:DAYLIGHT
BEGIN:STANDARD
TZOFFSETFROM:-0400
TZOFFSETTO:-0500
TZNAME:EST
DTSTART:20221106T060000
END:STANDARD
END:VTIMEZONE
BEGIN:VEVENT
DTSTART;TZID=America/New_York:20210605T080000
DTEND;TZID=America/New_York:20210605T120000
DTSTAMP:20260425T001204
CREATED:20200808T171621Z
LAST-MODIFIED:20210423T131919Z
UID:12812-1622880000-1622894400@www.hartfordaudubon.org
SUMMARY:CANCELED - Jun 5\, 2021 - Greenstone Hollow - Saturday\, 8 am
DESCRIPTION:CANCELED \nJun 5                 Greenstone Hollow            Sat 8 am \nCelebrate CT Trails Day \n31 Ridge Blvd\, East Granby \nPark on north side of road \nCelebrate CT Trails Day with a leisurely bird walk on trails through mixed woodlands and fields\, across wetlands and near ponds.  This is held in conjunction with CFPA’s Trails Day when there are hundreds of events across the state.  Park along the right (north) side of the road. Flat easy walking.  About one mile.  Expect mud\, and water if it has been raining recently.  Many habitat types:  woods\, marsh\, shrub field\, beaver pond\, cedar woods.  Should be very good for spring warblers.   E-Bird Hotspot. \nLarry Lunden        Killdeer431@comcast.net      860-232-2416 \nSarah Faulkner     sffaulkner@comcast.net      860-543-1280 T \n Trip may be subject to Covid restrictions – contact the trip leader for any updates.
URL:https://www.hartfordaudubon.org/trip-event/jun-5-2021-greenstone-hollow-saturday-8-am/
LOCATION:CT
CATEGORIES:Field Trip
ORGANIZER;CN="Larry Lunden":MAILTO:killdeer431@comcast.net
END:VEVENT
BEGIN:VEVENT
DTSTART;TZID=America/New_York:20210608T180000
DTEND;TZID=America/New_York:20210608T200000
DTSTAMP:20260425T001204
CREATED:20200808T171847Z
LAST-MODIFIED:20210521T142351Z
UID:12815-1623175200-1623182400@www.hartfordaudubon.org
SUMMARY:Jun 8\,  2021 -  Annual Potluck Picnic -  Tuesday 6 - 8 pm
DESCRIPTION:Jun 8\,  2021 –  Annual Potluck Picnic –  Tuesday 6 pm \nNorthwest Park\, 145 Lang Rd\, Windsor \nPark in lot\, cross bridge to Warming Shed \nJoin us for a bird walk and the company of our members to kick off the summer! A bird walk will be led at 5:00 when we hope to see orchard orioles\, indigo buntings\, and bluebirds. Bring a dish of your choice\, serving utensils\, your place setting\, and something to drink. The picnic will conclude with a brief meeting. \nAnnette Pasek              annettepasek@hartfordaudubon.org        860-490-8357 T \n Trip may be subject to Covid restrictions – contact the trip leader for any updates.
URL:https://www.hartfordaudubon.org/trip-event/jun-8-2021-annual-potluck-picnic-tuesday-6-pm/
LOCATION:CT
CATEGORIES:Meeting
END:VEVENT
BEGIN:VEVENT
DTSTART;TZID=America/New_York:20210612T080000
DTEND;TZID=America/New_York:20210613T170000
DTSTAMP:20260425T001204
CREATED:20200808T172112Z
LAST-MODIFIED:20210521T142324Z
UID:12818-1623484800-1623603600@www.hartfordaudubon.org
SUMMARY:Jun 12\, 2021 - Annual Summer Bird Count  - Sat & Sun
DESCRIPTION:Jun 12\, 2021 – Annual Summer Bird Count  –  Sat & Sun \nBird Count Circle \n7.5 mile radius from Old State House \nJoin Hartford Audubon members as we participate in the  annual Summer Bird Count. Species and numbers are counted on this two-day tally within our Christmas Count circle. Bird one day or both and help collect breeding bird data and track species trends for Connecticut. Bird for an hour or bird all weekend. \nJay Kaplan                  jaybrd49@aol.com            860-693-0157 /     860-693-0263                                                                             \n 
URL:https://www.hartfordaudubon.org/trip-event/jun-12-2021-annual-summer-bird-count-sat-sun/
LOCATION:CT
CATEGORIES:Club Event
ORGANIZER;CN="Jay Kaplan":MAILTO:jaybrd49@aol.com
END:VEVENT
END:VCALENDAR