BEGIN:VCALENDAR
VERSION:2.0
PRODID:-// - ECPv6.15.20//NONSGML v1.0//EN
CALSCALE:GREGORIAN
METHOD:PUBLISH
X-ORIGINAL-URL:https://www.hartfordaudubon.org
X-WR-CALDESC:Events for 
REFRESH-INTERVAL;VALUE=DURATION:PT1H
X-Robots-Tag:noindex
X-PUBLISHED-TTL:PT1H
BEGIN:VTIMEZONE
TZID:America/New_York
BEGIN:DAYLIGHT
TZOFFSETFROM:-0500
TZOFFSETTO:-0400
TZNAME:EDT
DTSTART:20210314T070000
END:DAYLIGHT
BEGIN:STANDARD
TZOFFSETFROM:-0400
TZOFFSETTO:-0500
TZNAME:EST
DTSTART:20211107T060000
END:STANDARD
BEGIN:DAYLIGHT
TZOFFSETFROM:-0500
TZOFFSETTO:-0400
TZNAME:EDT
DTSTART:20220313T070000
END:DAYLIGHT
BEGIN:STANDARD
TZOFFSETFROM:-0400
TZOFFSETTO:-0500
TZNAME:EST
DTSTART:20221106T060000
END:STANDARD
BEGIN:DAYLIGHT
TZOFFSETFROM:-0500
TZOFFSETTO:-0400
TZNAME:EDT
DTSTART:20230312T070000
END:DAYLIGHT
BEGIN:STANDARD
TZOFFSETFROM:-0400
TZOFFSETTO:-0500
TZNAME:EST
DTSTART:20231105T060000
END:STANDARD
END:VTIMEZONE
BEGIN:VEVENT
DTSTART;VALUE=DATE:20220101
DTEND;VALUE=DATE:20220201
DTSTAMP:20260425T101331
CREATED:20210807T160012Z
LAST-MODIFIED:20241225T141720Z
UID:13292-1640995200-1643673599@www.hartfordaudubon.org
SUMMARY:Big January starting Saturday - 1/1/2025 -  All Month
DESCRIPTION:Jan 1\, 2022       Big January  – All Month \nAll of Hartford County \nIt’s that time again!  The Hartford Audubon Society (HAS) is pleased to announce our eighth annual Hartford County Big January of Birding birdwatching challenge. \nThe goal of the activity is to encourage folks to get outside during the month of January and see as many species of wild birds in Hartford County as possible. The competition is free to people of all ages.  You do not need to be a HAS member or reside in Hartford County to enter. \nGive yourself something to look forward to in January! Everyone is encouraged to join with other HAS members for a friendly competition to find the most bird species in Hartford County this month. \nTo participate\, birders should enter their daily or periodic observations onto ebird.org\, the free birdwatching site maintained by the Cornell University of Ornithology. \nIf you don’t use eBird\, you can list your species\, date seen\, location\, and brief description\, and send it via email to the address below by the end of January; it must be received by Friday\, February 4. \nAt the end of the month\, HAS will retrieve all the data for the county for the month and award prizes. \nTo enter\, there are four categories: \n\nYouth (ages 4-10) who must see at least 25 species to enter\nTeen (ages 11-17) who must see at least 35 species to enter\nWeekend Warrior (adults ages 18 -? who can’t get outdoors during the week) who must see at least 50 species to enter\nAdults (ages 18 – ? who can get outdoors during the week) who must see at least 60 species to enter\n\nAll entries that meet the minimum number of species for each challenge group will receive a certificate of achievement. A special prize will be awarded for the highest species count for each challenge group\, and we award the Golden Grebe trophy to the person who first sees the most unusual or rare species. \nPlease feel free to share this email with all your bird-loving friends. We’d like nothing more than handing out dozens of certificates! \nContact Sarah Faulkner     sffaulkner@comcast.net    860-543-1280 Cell phone
URL:https://www.hartfordaudubon.org/trip-event/big-january-starting-saturday-1-1-2022-all-month/
LOCATION:CT
CATEGORIES:Club Event,Field Trip
END:VEVENT
BEGIN:VEVENT
DTSTART;TZID=America/New_York:20220108T090000
DTEND;TZID=America/New_York:20220108T120000
DTSTAMP:20260425T101331
CREATED:20210808T165743Z
LAST-MODIFIED:20210808T170010Z
UID:13332-1641632400-1641643200@www.hartfordaudubon.org
SUMMARY:Station 43 Beginners Bird Walk #2 - 1/8/2022 - Sat 9 am
DESCRIPTION:Jan 8\, 2022    Station 43 Beginners Bird Walk #2  – Saturday –  9 am \n990 Main St\, South Windsor \nCorner of Newberry Rd and Main St   \nPark in front of stucco house. \nThe second of four morning walks designed for beginners at Hartford Audubon’s oldest sanctuary. Station 43 is an excellent birding area year ‘round and on each walk we will look for seasonal birds. The walk is roughly 2.5 miles (3 hours) long over flat terrain but we may encounter areas with water/ice covering parts of the path. Waterproof boots suggested. \nhttps://www.hartfordaudubon.org/sanctuaries/station-43-wildlife-sanctuary/ \nPlease contact  Jon Ward with any questions: \nJon Ward   jward88787@aol.com      860-416-3958 T \n 
URL:https://www.hartfordaudubon.org/trip-event/station-43-beginners-bird-walk-2-1-8-2022-sat-9-am/
LOCATION:CT
CATEGORIES:Field Trip
ORGANIZER;CN="Jon Ward":MAILTO:jward88787@aol.com
END:VEVENT
BEGIN:VEVENT
DTSTART;TZID=America/New_York:20220111T190000
DTEND;TZID=America/New_York:20220111T210000
DTSTAMP:20260425T101331
CREATED:20210806T184406Z
LAST-MODIFIED:20220103T125944Z
UID:13256-1641927600-1641934800@www.hartfordaudubon.org
SUMMARY:ZOOM MEETING:  CT DEEP Midwinter Eagle Survey - 1/11/2022
DESCRIPTION:CT DEEP Midwinter Eagle Survey \nBY ZOOM MEETING ONLY \nSpeaker:  Ginny Apple \nBald eagles were once so endangered that many considered whether to replace them as America’s national symbol. The ongoing story of their recovery as a species\, and CT’s healthy eagle population\, is a comeback story worth hearing. Join Ginny Apple for a talk about these magnificent birds of prey and their valuable contributions to our ecosystem. Ginny is a Master Wildlife Conservationist (MWC) with the State Department of Energy and Environmental Protection (DEEP)\, for which she gives almost 100 talks yearly. As an MWC\, she also serves as a Bald Eagle interpreter for the Shepaug Dam Eagle Viewing area and the Essex Steam Train’s Eagle Flyer. \nAs the date gets closer\, a ZOOM Meeting link will be sent out. \nPlease contact Annette with any questions: \nAnnette Pasek             apasek@cox.net            860-490-8357 T
URL:https://www.hartfordaudubon.org/trip-event/ct-deep-midwinter-eagle-survey/
LOCATION:CT
CATEGORIES:Meeting
END:VEVENT
BEGIN:VEVENT
DTSTART;TZID=America/New_York:20220115T080000
DTEND;TZID=America/New_York:20220116T170000
DTSTAMP:20260425T101331
CREATED:20210808T170216Z
LAST-MODIFIED:20220108T201644Z
UID:13334-1642233600-1642352400@www.hartfordaudubon.org
SUMMARY:Canceled: Cape Ann & Newburyport\, MA  1/15/2022 - 2 days
DESCRIPTION:This trip has been canceled due to COVID. \nJan 15\,2022     Cape Ann & Newburyport\, MA Sat 2 days \nContact Fran at least one week in advance for details \nBarrow’s Goldeneye\, Snowy Owl\, alcids\,  sea ducks\, and Northern rarities are the targets of this perennial favorite trip. Be prepared for severe cold and windy weather and hope for moderate temps. Contact leader for motel (to get the reduced rate) and meeting time at least one week in advance. \nIf you have any questions\, please contact:\nFrances D’Amico    frandamico525@yahoo.com 203-237-2734
URL:https://www.hartfordaudubon.org/trip-event/cape-ann-newburyport-ma-1-15-2022-2-days/
LOCATION:CT
CATEGORIES:Field Trip
ORGANIZER;CN="Fran D%E2%80%99Amico":MAILTO:frandamico525@yahoo.com
END:VEVENT
END:VCALENDAR