BEGIN:VCALENDAR
VERSION:2.0
PRODID:-// - ECPv6.15.20//NONSGML v1.0//EN
CALSCALE:GREGORIAN
METHOD:PUBLISH
X-ORIGINAL-URL:https://www.hartfordaudubon.org
X-WR-CALDESC:Events for 
REFRESH-INTERVAL;VALUE=DURATION:PT1H
X-Robots-Tag:noindex
X-PUBLISHED-TTL:PT1H
BEGIN:VTIMEZONE
TZID:America/New_York
BEGIN:DAYLIGHT
TZOFFSETFROM:-0500
TZOFFSETTO:-0400
TZNAME:EDT
DTSTART:20210314T070000
END:DAYLIGHT
BEGIN:STANDARD
TZOFFSETFROM:-0400
TZOFFSETTO:-0500
TZNAME:EST
DTSTART:20211107T060000
END:STANDARD
BEGIN:DAYLIGHT
TZOFFSETFROM:-0500
TZOFFSETTO:-0400
TZNAME:EDT
DTSTART:20220313T070000
END:DAYLIGHT
BEGIN:STANDARD
TZOFFSETFROM:-0400
TZOFFSETTO:-0500
TZNAME:EST
DTSTART:20221106T060000
END:STANDARD
BEGIN:DAYLIGHT
TZOFFSETFROM:-0500
TZOFFSETTO:-0400
TZNAME:EDT
DTSTART:20230312T070000
END:DAYLIGHT
BEGIN:STANDARD
TZOFFSETFROM:-0400
TZOFFSETTO:-0500
TZNAME:EST
DTSTART:20231105T060000
END:STANDARD
END:VTIMEZONE
BEGIN:VEVENT
DTSTART;VALUE=DATE:20220205
DTEND;VALUE=DATE:20220207
DTSTAMP:20260425T114704
CREATED:20210808T170509Z
LAST-MODIFIED:20210808T170519Z
UID:13336-1644019200-1644191999@www.hartfordaudubon.org
SUMMARY:Cape Cod Tour\, MA    2/5/2022 - 2 days
DESCRIPTION:Feb 5\, 2022      Cape Cod Tour\, MA        Sat -Sunday – 2 days \nMeet and stay at The Cove\, Orleans\, Massachusetts \nContact Peter for reservations and details \nThis is New England late winter birding at its finest. We shoud see Alcids and Waterfowl. Call Peter for information and reservations. \nPlease contact Peter if you have any questions:   Peter Stephan   stephraf@aol.com    860-729-8374 T
URL:https://www.hartfordaudubon.org/trip-event/cape-cod-tour-ma-2-5-2022-2-days/
LOCATION:Cape Cod\, Cape Cod\, MA\, United States
CATEGORIES:Field Trip
ORGANIZER;CN="Peter Stephan":MAILTO:stephraf@aol.com
END:VEVENT
BEGIN:VEVENT
DTSTART;TZID=America/New_York:20220206T080000
DTEND;TZID=America/New_York:20220206T110000
DTSTAMP:20260425T114704
CREATED:20210808T170849Z
LAST-MODIFIED:20220131T142308Z
UID:13338-1644134400-1644145200@www.hartfordaudubon.org
SUMMARY:Canceled:  Feb 6\, 2022   Hartford County Boat Launch Tour  - Sunday 8 am
DESCRIPTION:Canceled: \nFeb 6\, 2022  Hartford County Boat Launch Tour  – Sunday –  8 am \n12 South River St\, Enfield \nDonald Barnes Boat Launch \nThis is a  morning tour of eight area boat launches\, from Enfield to Rocky Hill. Dress warmly and bring your scope. \nPlease contact Paul if you have any questions:\nPaul Cianfaglione   pgcianfaglione@gmail.com  860-836-3443
URL:https://www.hartfordaudubon.org/trip-event/feb-6-2022-hartford-county-boat-launch-tour-sunday-8-am/
LOCATION:CT
CATEGORIES:Field Trip
ORGANIZER;CN="Paul Cianfaglione":MAILTO:pgcianfaglione@gmail.com
END:VEVENT
BEGIN:VEVENT
DTSTART;TZID=America/New_York:20220208T190000
DTEND;TZID=America/New_York:20220208T210000
DTSTAMP:20260425T114704
CREATED:20210806T184634Z
LAST-MODIFIED:20220103T130457Z
UID:13258-1644346800-1644354000@www.hartfordaudubon.org
SUMMARY:ZOOM MEETING:  A Self-Found BIG YEAR - 2/8/2022
DESCRIPTION:ZOOM MEETING ONLY: \nA Self-Found BIG YEAR \nSpeaker: Nick Bonomo \nOne of Connecticut’s top birders\, Nick Bonomo set out to find as many different birds as he could in Connecticut. He will take you through this challenging task and will share strategy\, bird-finding tips\, and some surprises he found along the way. Nick is an Orthopedic Surgery Physician Assistant who has been birding southern New England since his early teens. He enjoys global travel and guides internationally for Connecticut Audubon Society. \nA link to the zoom meeting will be sent out shortly before this event. \nPlease contact Fran D’Amico with any questions: \nfrandamico525@yahoo.com  / 203-237-2734 T \n  \n 
URL:https://www.hartfordaudubon.org/trip-event/a-self-found-big-year/
LOCATION:CT
CATEGORIES:Meeting
END:VEVENT
BEGIN:VEVENT
DTSTART;TZID=America/New_York:20220226T080000
DTEND;TZID=America/New_York:20220226T110000
DTSTAMP:20260425T114704
CREATED:20210808T171102Z
LAST-MODIFIED:20210808T171102Z
UID:13340-1645862400-1645873200@www.hartfordaudubon.org
SUMMARY:2/26/2022 - Station 43 Beginners Bird Walk #3 Saturday - 8 am
DESCRIPTION:Feb 26\, 2022 –  Station 43 Beginners Bird Walk #3  – Saturday –  8 am \n990 Main St\, South Windsor \nCorner of Newberry Rd and Main St   \nPark in front of stucco house \nThe third of four morning walks designed for beginners at Hartford Audubon’s oldest sanctuary. Station 43 is an excellent birding area year ‘round and on each walk we will look for seasonal birds. The walk is roughly 2.5 miles (3 hours) long over flat terrain but we may encounter areas with water/ice covering parts of the path. \nPlease contact Jon with any questions: \nJon Ward                 jward88787@aol.com      860-416-3958 T \nhttps://www.hartfordaudubon.org/sanctuaries/station-43-wildlife-sanctuary/
URL:https://www.hartfordaudubon.org/trip-event/2-26-2022-station-43-beginners-bird-walk-3-saturday-8-am/
LOCATION:CT
CATEGORIES:Field Trip
ORGANIZER;CN="Jon Ward":MAILTO:jward88787@aol.com
END:VEVENT
BEGIN:VEVENT
DTSTART;TZID=America/New_York:20220226T080000
DTEND;TZID=America/New_York:20220226T170000
DTSTAMP:20260425T114704
CREATED:20220319T122046Z
LAST-MODIFIED:20220322T143500Z
UID:13671-1645862400-1645894800@www.hartfordaudubon.org
SUMMARY:Birding With Your Phone Workshop -  2/26/2022 Report
DESCRIPTION:2/26/2022 Birding with Your Phone Workshop – Report \nEver go birding and see someone bent over their phone\, doing something about birds but you can’t tell what it is?  You’re not alone – many birders are using many apps to improve our skills and log our observations.  This was the impetus for creating our Birding With Your Phone workshop\, presented in February for our third year in a row\, and the second time to be held virtually over Zoom. \nKen Elkins of Audubon Connecticut once again expertly led our attendees through a variety of apps designed for smart phones.  He showed screenshots and provided navigating advice for a number of apps including the Audubon Field Guide\, Merlin\, iNaturalist\, BirdNet\, and the Warbler Guide\, among others.  He ended the program by giving tips about using eBird.   Shown below is a link to a you tube recording of the session. \nhttps://youtu.be/0gubQ9jh2Zc \nIf you could share any feedback from the evaluations you sent after the workshop\, that would be appreciated. All in all\, it was another helpful\, informative workshop – thank you\, Ken!   Sarah Faulkner
URL:https://www.hartfordaudubon.org/trip-event/birding-with-your-phone-workshop-2-26-2022-report/
LOCATION:CT
CATEGORIES:Club Event
END:VEVENT
BEGIN:VEVENT
DTSTART;TZID=America/New_York:20220226T103000
DTEND;TZID=America/New_York:20220226T123000
DTSTAMP:20260425T114704
CREATED:20210808T171315Z
LAST-MODIFIED:20220208T123649Z
UID:13342-1645871400-1645878600@www.hartfordaudubon.org
SUMMARY:Feb 26\, 2022  Birding With Your Phone - Saturday 10:30 am VIA ZOOM
DESCRIPTION:Feb 26\, 2022          Birding With Your Phone  – Saturday – 10:30 am \nVIA ZOOM MEETING \nJoin Audubon Connecticut’s Ken Elkins for a two-hour workshop to learn how to use a number of birding apps on your smart phone. Apps will include eBird\, popular field guide apps\, “birding by ear” apps\, iNaturalist\, and “what am I seeing” apps.  Participants will be sent a list of apps to download before the workshop.  Registration is limited: please email leader at  sffaulkner@comcast.net to reserve a seat. \nPlease reach out to Sarah below for any questions or an invite to the Zoom meeting \nSarah Faulkner     sffaulkner@comcast.net    860-543-1280 T
URL:https://www.hartfordaudubon.org/trip-event/feb-26-2022-birding-with-your-phone-saturday-1030-am/
LOCATION:CT
CATEGORIES:Field Trip
END:VEVENT
BEGIN:VEVENT
DTSTART;TZID=America/New_York:20220227T000000
DTEND;TZID=America/New_York:20220227T235900
DTSTAMP:20260425T114704
CREATED:20220227T200332Z
LAST-MODIFIED:20220320T165153Z
UID:13650-1645920000-1646006340@www.hartfordaudubon.org
SUMMARY:Birding with Your Phone Workshop Report: 2-26-2022
DESCRIPTION:Birding with Your Phone Workshop\, 2-26-2022 \nEver go birding and see someone bent over their phone\, doing something about birds but you can’t tell what it is?  You’re not alone – many birders are using many apps to improve our skills and log our observations.  This was the impetus for creating our Birding With Your Phone workshop\, presented in February for our third year in a row\, and the second time to be held virtually over Zoom.  Ken Elkins of Audubon Connecticut once again expertly led our attendees through a variety of apps designed for smart phones.  He showed screenshots and provided navigating advice for a number of apps including the Audubon Field Guide\, Merlin\, iNaturalist\, BirdNet\, and the Warbler Guide\, among others.  He ended the program by giving tips about using eBird.  All in all\, it was another helpful\, informative workshop – thank you\, Ken! \nFor those of you who were not able to attend the workshop\, below is a link to a video to review: \nBirding With Your Phone workshop: \nhttps://youtu.be/0gubQ9jh2Zc \nSarah Faulkner
URL:https://www.hartfordaudubon.org/trip-event/birding-with-your-phone-workshop-report-2-26-2022/
LOCATION:CT
CATEGORIES:Club Event
END:VEVENT
END:VCALENDAR