BEGIN:VCALENDAR
VERSION:2.0
PRODID:-// - ECPv6.15.20//NONSGML v1.0//EN
CALSCALE:GREGORIAN
METHOD:PUBLISH
X-ORIGINAL-URL:https://www.hartfordaudubon.org
X-WR-CALDESC:Events for 
REFRESH-INTERVAL;VALUE=DURATION:PT1H
X-Robots-Tag:noindex
X-PUBLISHED-TTL:PT1H
BEGIN:VTIMEZONE
TZID:America/New_York
BEGIN:DAYLIGHT
TZOFFSETFROM:-0500
TZOFFSETTO:-0400
TZNAME:EDT
DTSTART:20210314T070000
END:DAYLIGHT
BEGIN:STANDARD
TZOFFSETFROM:-0400
TZOFFSETTO:-0500
TZNAME:EST
DTSTART:20211107T060000
END:STANDARD
BEGIN:DAYLIGHT
TZOFFSETFROM:-0500
TZOFFSETTO:-0400
TZNAME:EDT
DTSTART:20220313T070000
END:DAYLIGHT
BEGIN:STANDARD
TZOFFSETFROM:-0400
TZOFFSETTO:-0500
TZNAME:EST
DTSTART:20221106T060000
END:STANDARD
BEGIN:DAYLIGHT
TZOFFSETFROM:-0500
TZOFFSETTO:-0400
TZNAME:EDT
DTSTART:20230312T070000
END:DAYLIGHT
BEGIN:STANDARD
TZOFFSETFROM:-0400
TZOFFSETTO:-0500
TZNAME:EST
DTSTART:20231105T060000
END:STANDARD
END:VTIMEZONE
BEGIN:VEVENT
DTSTART;TZID=America/New_York:20220308T190000
DTEND;TZID=America/New_York:20220308T210000
DTSTAMP:20260425T130928
CREATED:20210806T184933Z
LAST-MODIFIED:20220306T132835Z
UID:13260-1646766000-1646773200@www.hartfordaudubon.org
SUMMARY:Hybrid (in person) and Zoom Meeting:  Recovery Road: A Photographer's History of Ospreys in Connecticut - 3/8/2022
DESCRIPTION:PLEASE NOTE:  Hybrid (in person) and Zoom Meeting: \nRecovery Road – A Photographer’s History of Ospreys in Connecticut \nSocial Time at 7:00 pm \nSt James’s Episcopal Church\,1018 Farmington Ave\, West Hartford\, CT. \nSpeaker:  Bob MacDonnell \nA fateful bike ride crossed paths with the Osprey’s road to recovery and sparked Bob’s 30-year passion for photographing birds. This photo-essay is his documentation of the Osprey’s remarkable success story in Connecticut and some of the people who helped make it happen. It will include an illustrated life history of this unique raptor\, and its connection with the overall health of the state’s ecology. Bob MacDonnell is a photojournalist who spent more than 20 years covering the state for several newspapers\, including a decade as staff photographer at the Hartford Courant. \nPlease contact Annette with any questions: \nAnnette Pasek             apasek@cox.net            860-490-8357 T \nPlease reach out to Annette if you wish to have a ZOOM link sent to you for this meeting. \n 
URL:https://www.hartfordaudubon.org/trip-event/recovery-road-a-photographers-history-of-ospreys-in-connecticut/
LOCATION:CT
CATEGORIES:Meeting
END:VEVENT
BEGIN:VEVENT
DTSTART;VALUE=DATE:20220313
DTEND;VALUE=DATE:20220314
DTSTAMP:20260425T130928
CREATED:20210808T171617Z
LAST-MODIFIED:20210808T171653Z
UID:13344-1647129600-1647215999@www.hartfordaudubon.org
SUMMARY:March 13\,2022 Daylight Savings Bird-a-Thon Sunday - All Day
DESCRIPTION:Mar 13 \, 2022   Daylight Savings Bird-a-Thon Sun All Day \nAll of Hartford County \nJoin Hartford Audubon  for a fun one day birding competition to celebrate the return of Daylight Savings Time!   Form teams of 2-4 people\, dress up and name them with a smile in mind.   Compete and report results.  1 point for every species\, 2 points for every species found on a HAS sanctuary and 10 bonus points if you have a new birder on the team.  At the end of the day we’ll get together for a potluck dinner.  Maggie will send out an informational e-mail the week before. \nPlease contact Maggie with any questions> \nMaggie Peretto        wings.mp@gmail.com      860-604-4903 T
URL:https://www.hartfordaudubon.org/trip-event/march-132022-daylight-savings-bird-a-thon-sunday-all-day/
LOCATION:CT
CATEGORIES:Field Trip
ORGANIZER;CN="Maggie Peretto":MAILTO:wings.mp@gmail.com
END:VEVENT
BEGIN:VEVENT
DTSTART;TZID=America/New_York:20220319T190000
DTEND;TZID=America/New_York:20220319T203000
DTSTAMP:20260425T130928
CREATED:20210808T172102Z
LAST-MODIFIED:20210814T160216Z
UID:13346-1647716400-1647721800@www.hartfordaudubon.org
SUMMARY:March 19\, 2022- Woodcocks at Nod Brook - Saturday - 7pm
DESCRIPTION:Mar 19\, 2022   Woodcocks at Nod Brook       Saturday 7 pm \n82 Hopmeadow St (Rt 10)\, Simsbury \nBack of the first parking lot of the Tower Office Park \nSee the unique mating display or “sky dance” of the American Woodcock on a relatively short evening trip. Short distance (0.25 mile).  Lasts about 1 hour after dusk. Must stand still/quiet while waiting for birds. Dress and layer for cold. \nPlease contact Brian with any questions:\nBrian Toal           BrianToal@SBCGlobal.net    860-677-7156
URL:https://www.hartfordaudubon.org/trip-event/march-19-2022-woodcocks-at-nod-brook-saturday-7pm/
LOCATION:CT
CATEGORIES:Field Trip
ORGANIZER;CN="Brian Toal":MAILTO:briantoal@sbcglobal.net
END:VEVENT
BEGIN:VEVENT
DTSTART;TZID=America/New_York:20220320T080000
DTEND;TZID=America/New_York:20220320T110000
DTSTAMP:20260425T130928
CREATED:20210808T172410Z
LAST-MODIFIED:20210808T172416Z
UID:13349-1647763200-1647774000@www.hartfordaudubon.org
SUMMARY:March 20\, 2022  Silver Sands-  Sunday 8 am
DESCRIPTION:Mar 20\, 2022   Silver Sands  Sunday –  8 am \nSilver Sands State Park\, 1 Silver Sands Pkwy\, Milford \nMeet in main parking lot \nContact Maggie to verify this date.  This is a good trip to try for sea ducks and sparrows while hoping for a Rough-Legged Hawk. Dress warmly. Flat shoreline walk approximately 2 miles for about 3 hours. \n“https://portal.ct.gov/DEEP/State-Parks/Parks/Silver-Sands-State-Park \nSandy beaches\, boardwalks\, seashells\, and shore birds dominate the attraction to Silver Sands’ beaches in Milford.  Over a half mile of shoreline and three quarters of a mile of all-weather boardwalk make this a popular four-season waterfront destination. \nPlease contact Maggie with any questions: \nMaggie Peretto        wings.mp@gmail.com      860-604-4903 T
URL:https://www.hartfordaudubon.org/trip-event/march-20-2022-silver-sands-sunday-8-am/
LOCATION:CT
CATEGORIES:Field Trip
ORGANIZER;CN="Maggie Peretto":MAILTO:wings.mp@gmail.com
END:VEVENT
BEGIN:VEVENT
DTSTART;TZID=America/New_York:20220322T190000
DTEND;TZID=America/New_York:20220322T210000
DTSTAMP:20260425T130928
CREATED:20210806T191141Z
LAST-MODIFIED:20220315T192811Z
UID:13272-1647975600-1647982800@www.hartfordaudubon.org
SUMMARY:Myths and Misconceptions of Black Bears - 3/22/2022
DESCRIPTION:Zoom Program – March 22 – 7 pm \nSpeaker:  Spencer Peter \nWatch for e-mail with Zoom link \nMyths and Misconceptions of Black Bears \nThe North American Bear Center (NABC) in Ely\, Wisconsin\, is dedicated to advancing the long-term survival of bears worldwide by replacing misconceptions with scientific facts about bears\, their role in ecosystems\, and their relations with humans. During this presentation you will learn about many of the common myths about black bears\, their natural behaviors\, and the role humans play in their future. Spencer Peter is the biologist and internship program director at the NABC\, where he has worked for 4 years. \nPlease contact Frances D’Amico with any questions:    frandamico525@yahoo.com 203-237-2734
URL:https://www.hartfordaudubon.org/trip-event/myths-and-misconceptions-of-black-bears/
LOCATION:CT
CATEGORIES:Wildlife Series
ORGANIZER;CN="Fran D%E2%80%99Amico":MAILTO:frandamico525@yahoo.com
END:VEVENT
BEGIN:VEVENT
DTSTART;TZID=America/New_York:20220326T083000
DTEND;TZID=America/New_York:20220326T130000
DTSTAMP:20260425T130928
CREATED:20210808T172704Z
LAST-MODIFIED:20210808T172704Z
UID:13351-1648283400-1648299600@www.hartfordaudubon.org
SUMMARY:Mar 26\, 2022 - Sachuest Point\, RI Saturday - 8:30 am
DESCRIPTION:Mar 26      Sachuest Point\, Rhode Island Sat 8:30 am \n769 Sachuest Point Rd\, Middletown\, RI  \nSachuest Point Visitor Center parking lot \nGPS Coordinates 41.479909\, -71.243489 \nIf you are looking for colorful\, easy to see birds\, then Sachuest Point National Wildlife Refuge is the place to be. The refuge is home to the second largest wintering population of harlequin ducks on the Atlantic coast. The harlequins\, named after the clowns they resemble\, can be seen along the refuge’s rocky shoreline between November and March each year. By scanning the coastline\, visitors may also see loons\, eiders\, and gannets. More than 200 bird species visit the refuge seasonally\, and other occasional migrating travelers include the peregrine falcon\, northern harrier\, as well as snowy and short-eared owls. Walking the nearly 3 miles of trails around Sachuest Point offers visitors the opportunity to experience several habitats where interesting animals and plants can be observed and photographed. The refuge includes 40 acres of salt marsh lands and steep rocky shorelines around the perimeter. Most visitors enjoy year-round birdwatching\, and elevated observation platforms along the trails provide unobstructed views of the refuge. A short distance away at Third Beach is our recently restored salt marsh habitat\, a new birding “hotspot” and a favorite of birders and non-birders alike.  Dress Warmly and bring a lunch. \nPlease contact Paul with any questions:   Paul.Desjardins2@gmail.com / 860-623-3696
URL:https://www.hartfordaudubon.org/trip-event/mar-26-2022-sachuest-point-ri-saturday-830-am/
LOCATION:CT
CATEGORIES:Field Trip
ORGANIZER;CN="Paul Desjardins":MAILTO:paul.desjardins2@gmail.com
END:VEVENT
END:VCALENDAR