BEGIN:VCALENDAR
VERSION:2.0
PRODID:-// - ECPv6.15.20//NONSGML v1.0//EN
CALSCALE:GREGORIAN
METHOD:PUBLISH
X-ORIGINAL-URL:https://www.hartfordaudubon.org
X-WR-CALDESC:Events for 
REFRESH-INTERVAL;VALUE=DURATION:PT1H
X-Robots-Tag:noindex
X-PUBLISHED-TTL:PT1H
BEGIN:VTIMEZONE
TZID:America/New_York
BEGIN:DAYLIGHT
TZOFFSETFROM:-0500
TZOFFSETTO:-0400
TZNAME:EDT
DTSTART:20210314T070000
END:DAYLIGHT
BEGIN:STANDARD
TZOFFSETFROM:-0400
TZOFFSETTO:-0500
TZNAME:EST
DTSTART:20211107T060000
END:STANDARD
BEGIN:DAYLIGHT
TZOFFSETFROM:-0500
TZOFFSETTO:-0400
TZNAME:EDT
DTSTART:20220313T070000
END:DAYLIGHT
BEGIN:STANDARD
TZOFFSETFROM:-0400
TZOFFSETTO:-0500
TZNAME:EST
DTSTART:20221106T060000
END:STANDARD
BEGIN:DAYLIGHT
TZOFFSETFROM:-0500
TZOFFSETTO:-0400
TZNAME:EDT
DTSTART:20230312T070000
END:DAYLIGHT
BEGIN:STANDARD
TZOFFSETFROM:-0400
TZOFFSETTO:-0500
TZNAME:EST
DTSTART:20231105T060000
END:STANDARD
END:VTIMEZONE
BEGIN:VEVENT
DTSTART;TZID=America/New_York:20220409T080000
DTEND;TZID=America/New_York:20220409T110000
DTSTAMP:20260425T144924
CREATED:20210808T173015Z
LAST-MODIFIED:20210808T173539Z
UID:13353-1649491200-1649502000@www.hartfordaudubon.org
SUMMARY:Apr 9\, 2022 - Great Pond\, Simsbury - Saturday 8 am
DESCRIPTION:Apr 9\, 2022   Great Pond\, Simsbury   Saturday  8 am \n156 Great Pond Rd\, Simsbury \nBetween Laurel Ln and Old Farms Rd \nMeet in parking lot at end of entrance dirt road \nAn easy walk over a newly widened road leads to Great Pond where we will see waterfowl\, shorebirds\, migrating warblers and the many types of birds that call this area home.  Usually lasts about 3 hrs\, but can leave at any time.  Maximum distance is 1.5 miles.  Bring a spotting scope if you have one. \nhttps://portal.ct.gov/DEEP/State-Parks/Forests/Massacoe-State-Forest     (Great Pond is a separate block of this forest) – Hiking map available online \nPlease contact Jon with any questions:\nJon Ward   jward88787@aol.com      860-416-3958 T \n 
URL:https://www.hartfordaudubon.org/trip-event/apr-9-2022-great-pond-simsbury-saturday-8-am/
LOCATION:CT
CATEGORIES:Field Trip
ORGANIZER;CN="Jon Ward":MAILTO:jward88787@aol.com
END:VEVENT
BEGIN:VEVENT
DTSTART;TZID=America/New_York:20220412T190000
DTEND;TZID=America/New_York:20220412T210000
DTSTAMP:20260425T144924
CREATED:20210806T185133Z
LAST-MODIFIED:20211016T171145Z
UID:13262-1649790000-1649797200@www.hartfordaudubon.org
SUMMARY:Invisible Birds - An Ornithologist’s Reading of Ralph Elllison’s Invisible Man - 4/12/2022
DESCRIPTION:Invisible Birds – An Ornithologist’s Reading of Ralph Elllison’s Invisible Man \nSocial Time at 7:00 pm \nSt James’s Episcopal Church\,1018 Farmington Ave\, West Hartford\, CT. \nSpeaker:  David Spector \nDavid will focus on Ralph Ellison’s 1952 novel\, Invisible Man\, a classic in American literature. Attention to the birds in this work are evidence of how Ellison brought his knowledge and love of birds into his writing. David\, an ornithologist\, taught biology at Central Connecticut State University for many years before his retirement in 2020. \nPlease contact Annette with any questions: \nAnnette Pasek             apasek@cox.net            860-490-8357 T \n  \n 
URL:https://www.hartfordaudubon.org/trip-event/invisible-birds-an-ornithologists-reading-of-ralph-elllisons-invisible-man/
LOCATION:CT
CATEGORIES:Meeting
END:VEVENT
BEGIN:VEVENT
DTSTART;TZID=America/New_York:20220416T080000
DTEND;TZID=America/New_York:20220416T100000
DTSTAMP:20260425T144924
CREATED:20210808T173844Z
LAST-MODIFIED:20210808T174058Z
UID:13355-1650096000-1650103200@www.hartfordaudubon.org
SUMMARY:April 16\, 2022 - Greenstone Hollow - Saturday 8 am
DESCRIPTION:Apr 16\, 2022   Greenstone Hollow      Saturday 8 am \n31 Ridge Blvd\, East Granby \nPark on north side of road \nAll are welcome on this exploration of our Greenstone Hollow Nature Preserve.  Woodland\, water and shrub meadow habitats will hopefully provide 20-40 species during the Fall migration. About 1.5  miles of easy walking for up to 2 hours. Can leave at any time.  Wear waterproof foot gear if it has rained recently. \nPlease contact Chris with any questions: \nChris&Diane Fisher   ChrisF001@aol.com     860-967-5976 T
URL:https://www.hartfordaudubon.org/trip-event/april-16-2022-greenstone-hollow-saturday-8-am/
LOCATION:CT
CATEGORIES:Field Trip
ORGANIZER;CN="Chris / Diane Fisher":MAILTO:chrisf001@aol.com
END:VEVENT
BEGIN:VEVENT
DTSTART;TZID=America/New_York:20220419T193000
DTEND;TZID=America/New_York:20220419T213000
DTSTAMP:20260425T144924
CREATED:20210806T191324Z
LAST-MODIFIED:20220418T125940Z
UID:13274-1650396600-1650403800@www.hartfordaudubon.org
SUMMARY:Springtime in Western Canada - 4/19/2022
DESCRIPTION:This will be an in-person event. Location: McAuley Residence Auditorium \nSpeaker: Chris Fisher \nSpringtime in Western Canada \nJoin Chris & Diane Fisher in the first part of their 4-month trip to Alaska and back. In this multi-media presentation\, Chris will take us across the Canadian Prairies and explore the Canadian Rockies up to the start of the Alaskan Highway. Chris\, a Hartford Audubon member\, has previously given us programs on Africa\, Galapagos Islands\, birding the Yucatan Peninsula and birding in Costa Rica. \nShown below is a map that may assist you in finding the location and entrance to the auditorium. It may be helpful to select it and print it out if you are not familiar with the area: \n \nPlease contact Frances D’Amico with questions:  frandamico525@yahoo.com or 203-237-2734
URL:https://www.hartfordaudubon.org/trip-event/springtime-in-western-canada/
LOCATION:McAuley Residence Auditorium\, 275 Steele Rd.\, West Hartford\, CT\, 06117\, United States
CATEGORIES:Wildlife Series
ORGANIZER;CN="Chris / Diane Fisher":MAILTO:chrisf001@aol.com
END:VEVENT
BEGIN:VEVENT
DTSTART;TZID=America/New_York:20220420T080000
DTEND;TZID=America/New_York:20220420T100000
DTSTAMP:20260425T144924
CREATED:20210808T174631Z
LAST-MODIFIED:20210823T185919Z
UID:13359-1650441600-1650448800@www.hartfordaudubon.org
SUMMARY:April 20\, 2022 - Glastonbury Great Pond -Wednesday 8 am
DESCRIPTION:April 20\, 2022     Glastonbury Great Pond     Wed 8 am \nEntrance is just beyond 451 Great Pond Rd\, Glastonbury\, on left \n From Rt. 17 – use south entrance to Great Pond Rd and  \ndrive in 0.2 mi.  Park on south side away from hydrants. \nExpect common CT birds as well as migratory. Habitat varies\, woodland\, water\, shrub and field.  Count on chickadee\, nuthatch\, jay\, cardinal\, wren.  Many hawk\, duck and sparrow species.  There are always some surprises. 2.5 mile walk. Hilly terrain. Bring bug spray and sturdy shoes.  Extend your morning by birding nearby Cotton Hollow and Ferry Road\, a CT River ferry landing. \nPlease contact Annette if you have any questions:\nAnnette Pasek              apasek@cox.net           860-490-8357 T
URL:https://www.hartfordaudubon.org/trip-event/april-20-2022-glastonbury-great-pond-wednesday-8-am/
LOCATION:CT
CATEGORIES:Field Trip
END:VEVENT
BEGIN:VEVENT
DTSTART;TZID=America/New_York:20220423T080000
DTEND;TZID=America/New_York:20220423T110000
DTSTAMP:20260425T144924
CREATED:20210808T174858Z
LAST-MODIFIED:20210808T174937Z
UID:13361-1650700800-1650711600@www.hartfordaudubon.org
SUMMARY:April 23\, 2022  Station 43 Beginners Bird Walk #4 Sat 8 am
DESCRIPTION:Apr 23\, 2022  Station 43 Beginners Bird Walk #4 Saturday 8 am \n990 Main St\, South Windsor \nCorner of Newberry Rd and Main St   \nPark in front of stucco house \nThe fourth of four morning walks designed for beginners at Hartford Audubon’s oldest sanctuary. Station 43 is an excellent birding area year ‘round and on each walk we will look for seasonal birds.  The walk is roughly 2.5 miles (3 hrs) long over flat terrain but we may encounter muddy areas and water covering parts of the path.  Bring spotting scope if you have one.  High\, water-proof boots and insect repellent are suggested. \nhttps://www.hartfordaudubon.org/sanctuaries/station-43-wildlife-sanctuary/ \nPlease contact Jon with any questions:\nJon Ward   jward88787@aol.com      860-416-3958 T \n 
URL:https://www.hartfordaudubon.org/trip-event/april-23-2022-station-43-beginners-bird-walk-4-sat-8-am/
LOCATION:CT
CATEGORIES:Field Trip
ORGANIZER;CN="Jon Ward":MAILTO:jward88787@aol.com
END:VEVENT
BEGIN:VEVENT
DTSTART;VALUE=DATE:20220430
DTEND;VALUE=DATE:20220523
DTSTAMP:20260425T144924
CREATED:20210808T175237Z
LAST-MODIFIED:20220427T160802Z
UID:13363-1651276800-1653263999@www.hartfordaudubon.org
SUMMARY:April 30\, 2022 - Annual Spring Census -Saturday - 3 weeks
DESCRIPTION:April 30\, 2022 – Annual Spring Census – Saturday – 3 weeks \nJoin fellow HAS members for our annual Spring census which will end on Sunday\, May 22nd.  Unlike our other bird counts\, this count is by towns in the greater Hartford area and lasts 3 weeks.   Bird as much or as little as you like and report to as many town captains as you wish.  A list of captains will be released at a later date. \nPlease contact Jamie with any questions:\nJamie Meyers     sunnyctredbird@gmail.com    860-693-4497
URL:https://www.hartfordaudubon.org/trip-event/april-30-2022-annual-spring-census-saturday-3-weeks/
LOCATION:CT
CATEGORIES:Club Event,Field Trip
END:VEVENT
BEGIN:VEVENT
DTSTART;TZID=America/New_York:20220430T070000
DTEND;TZID=America/New_York:20220430T120000
DTSTAMP:20260425T144924
CREATED:20210808T175600Z
LAST-MODIFIED:20210808T175605Z
UID:13365-1651302000-1651320000@www.hartfordaudubon.org
SUMMARY:April 30\, 2022 - Quarry Park- Saturday 7 am
DESCRIPTION:April 30\, 2022 – Quarry Park –   Saturday – 7 am \n270 Old Main St\, Rocky Hill \nMeet in the small dirt parking lot opposite Marshall Rd  \nEnjoy a morning trip exploring Quarry Park.  Warblers and field birds will be found.  If the river conditions permit\, we will also caravan to explore the Connecticut River flood plain until about 12pm.  About a three mile walk.  There are some ups and downs and several places have open rock that can be slippery in damp or wet weather. Wear sturdy shoes and waterproof boots if wet. \nhttps://www.rockyhillct.gov/quarry_park/index.php.      https://cms.revize.com/revize/rockyhill/Quarry_Map_PDF.pdf \nPlease contact Larry with any questions:\nLarry Lunden      Killdeer431@comcast.net      860-232-2416 \n  \n  \n  \n  \n 
URL:https://www.hartfordaudubon.org/trip-event/april-30-2022-quarry-park-saturday-7-am/
LOCATION:CT
CATEGORIES:Field Trip
ORGANIZER;CN="Larry Lunden":MAILTO:killdeer431@comcast.net
END:VEVENT
BEGIN:VEVENT
DTSTART;TZID=America/New_York:20220430T080000
DTEND;TZID=America/New_York:20220430T110000
DTSTAMP:20260425T144924
CREATED:20210808T175928Z
LAST-MODIFIED:20220413T123505Z
UID:13367-1651305600-1651316400@www.hartfordaudubon.org
SUMMARY:April 30\, 2022 - Simsbury River Walk -  Saturday 8 am
DESCRIPTION:April 30\, 2022 –  Simsbury River Walk  – Saturday – 8 am \n 46 Drake Hill Rd\, Simsbury \nPark at the Simsbury High School Crew Boathouse \nAcross Drake Hill Rd from the Flower Bridge \nThe Simsbury River Walk provides beautiful and varied birding habitat along the Farmington River floodplain and can be great for warblers and other passerines.  Plan to walk approximately 2 miles over 2-3 hours.  The trail is flat but may be wet in places\, depending on recent rainfall.  Bring bug spray and appropriate footwear. For a map and more information visit. \nhttps://www.simsbury-ct.gov/sites/g/files/vyhlif1216/f/file/file/riverwalk.pdf \nPlease contact Jon Ward with any questions: \nJon Ward         860-416-3958 T   jward88787@aol.com \n                                                                                    \n 
URL:https://www.hartfordaudubon.org/trip-event/april-30-2022-simsbury-river-walk-saturday-8-am/
LOCATION:CT
CATEGORIES:Field Trip
ORGANIZER;CN="Jon Ward":MAILTO:jward88787@aol.com
END:VEVENT
END:VCALENDAR