BEGIN:VCALENDAR
VERSION:2.0
PRODID:-// - ECPv6.15.20//NONSGML v1.0//EN
CALSCALE:GREGORIAN
METHOD:PUBLISH
X-ORIGINAL-URL:https://www.hartfordaudubon.org
X-WR-CALDESC:Events for 
REFRESH-INTERVAL;VALUE=DURATION:PT1H
X-Robots-Tag:noindex
X-PUBLISHED-TTL:PT1H
BEGIN:VTIMEZONE
TZID:America/New_York
BEGIN:DAYLIGHT
TZOFFSETFROM:-0500
TZOFFSETTO:-0400
TZNAME:EDT
DTSTART:20210314T070000
END:DAYLIGHT
BEGIN:STANDARD
TZOFFSETFROM:-0400
TZOFFSETTO:-0500
TZNAME:EST
DTSTART:20211107T060000
END:STANDARD
BEGIN:DAYLIGHT
TZOFFSETFROM:-0500
TZOFFSETTO:-0400
TZNAME:EDT
DTSTART:20220313T070000
END:DAYLIGHT
BEGIN:STANDARD
TZOFFSETFROM:-0400
TZOFFSETTO:-0500
TZNAME:EST
DTSTART:20221106T060000
END:STANDARD
BEGIN:DAYLIGHT
TZOFFSETFROM:-0500
TZOFFSETTO:-0400
TZNAME:EDT
DTSTART:20230312T070000
END:DAYLIGHT
BEGIN:STANDARD
TZOFFSETFROM:-0400
TZOFFSETTO:-0500
TZNAME:EST
DTSTART:20231105T060000
END:STANDARD
END:VTIMEZONE
BEGIN:VEVENT
DTSTART;TZID=America/New_York:20220604T080000
DTEND;TZID=America/New_York:20220604T120000
DTSTAMP:20260425T180254
CREATED:20210808T184743Z
LAST-MODIFIED:20220516T124013Z
UID:13398-1654329600-1654344000@www.hartfordaudubon.org
SUMMARY:Canceled - Jun 4\, 2022 - Greenstone Hollow- Saturday 8 am
DESCRIPTION:Canceled: \nJun 4\, 2022 – Greenstone Hollow – Saturday 8 am \nCelebrate CT Trails Day \n31 Ridge Blvd\, East Granby \nPark on north side of road \nCelebrate CT Trails Day with a leisurely bird walk on trails through mixed woodlands and fields\, across wetlands and near ponds.  This is held in conjunction with CFPA’s Trails Day when there are hundreds of events across the state.  Park along the right (north) side of the road. Flat easy walking.  About one mile.  Expect mud\, and water if it has been raining recently.  Many habitat types:  woods\, marsh\, shrub field\, beaver pond\, cedar woods.  Should be very good for spring warblers.   E-Bird Hotspot. \nPlease contact the following leaders if you have any questions: \nLarry Lunden      Killdeer431@comcast.net      860-232-2416 \nSarah Faulkner    sffaulkner@comcast.net     860-543-1280 T
URL:https://www.hartfordaudubon.org/trip-event/jun-4-2022-greenstone-hollow-saturday-8-am/
LOCATION:CT
CATEGORIES:Field Trip
ORGANIZER;CN="Larry Lunden":MAILTO:killdeer431@comcast.net
END:VEVENT
BEGIN:VEVENT
DTSTART;TZID=America/New_York:20220605T090000
DTEND;TZID=America/New_York:20220605T130000
DTSTAMP:20260425T180254
CREATED:20210808T185053Z
LAST-MODIFIED:20210905T174358Z
UID:13400-1654419600-1654434000@www.hartfordaudubon.org
SUMMARY:Trail's Day Beginner's Family Bird Walk - Elizabeth Park
DESCRIPTION:Trail’s Day Beginner’s Family Birdwalk in Elizabeth Park  \nElizabeth Park\, 1555 Asylum Avenue\, West Hartford \nPark in the parking areas and meet in front of the Pond House Café \nJoin HAS leader and science teacher Sarah Faulkner for a two-hour beginner’s birdwalk for families in this beautiful park.  You’ll be introduced to birdwatching\, learn to find and identify birds\, and learn about apps on your phone that can help.  Children between ages 6-17 are welcome.  We’ll look for birds\, discuss the ecosystems\, and enjoy being in nature. Easy walking\, about 1 mile in total on sidewalks and driveways. Bring binoculars and smart phone if possible\, layered clothing\, sturdy sneakers\, insect repellent\, water and snack.  Leader will have some binoculars to loan to participants. Email leader to pre-register for this walk. \nPlease contact Sarah with any questions:\nSarah Faulkner     sffaulkner@comcast.net    860-543-1280 T
URL:https://www.hartfordaudubon.org/trip-event/jun-5-2022-trails-day-beginners-family-birdwalk-elizabeth-park-sunday-9-am/
LOCATION:CT
CATEGORIES:Field Trip
END:VEVENT
BEGIN:VEVENT
DTSTART;VALUE=DATE:20220611
DTEND;VALUE=DATE:20220613
DTSTAMP:20260425T180254
CREATED:20210808T185354Z
LAST-MODIFIED:20210814T155424Z
UID:13402-1654905600-1655078399@www.hartfordaudubon.org
SUMMARY:Jun 11-12\, 2022 - Annual Summer Bird Count -Sat & Sun
DESCRIPTION:Jun 11-12\, 2022 – Annual Summer Bird Count Sat Sat & Sun \nBird Count Circle \n7.5 mile radius from Old State House \nJoin Hartford Audubon members as we participate in the  annual Summer Bird Count. Species and numbers are counted on this two-day tally within our Christmas Count circle. Bird one day or both and help collect breeding bird data and track species trends for Connecticut. Bird for an hour or bird all weekend. \nPlease contact Jay if you have any questions: \nJay Kaplan    jaybrd49@aol.com  860-693-0157 / 860-707-5246 T \n  \n  \n  \n  \n  \n  \n 
URL:https://www.hartfordaudubon.org/trip-event/jun-11-12-2022-annual-summer-bird-count-sat-sun/
LOCATION:CT
CATEGORIES:Club Event,Field Trip
ORGANIZER;CN="Jay Kaplan":MAILTO:jaybrd49@aol.com
END:VEVENT
BEGIN:VEVENT
DTSTART;TZID=America/New_York:20220621T180000
DTEND;TZID=America/New_York:20220621T200000
DTSTAMP:20260425T180254
CREATED:20210806T185652Z
LAST-MODIFIED:20220601T182520Z
UID:13266-1655834400-1655841600@www.hartfordaudubon.org
SUMMARY: Annual Potluck Picnic - 6/21/2022
DESCRIPTION:Jun 21      Annual Picnic BYO Food   Tue 6 pm \nNorthwest Park\, 145 Lang Rd\, Windsor\, CT. \nJoin us for a bird walk and the company of our members to kick off the summer! A bird walk will be held at 5:00 when we hope to see orchard orioles\, indigo buntings\, and bluebirds. Bring your own food\, serving utensils\, your place setting. Dessert and refreshments will be provided.  The picnic will conclude with a brief meeting. \nPlease contact Annette with any questions: \nAnnette Pasek             apasek@cox.net            860-490-8357 T \n 
URL:https://www.hartfordaudubon.org/trip-event/annual-potluck-picnic/
LOCATION:CT
CATEGORIES:Meeting
END:VEVENT
END:VCALENDAR