BEGIN:VCALENDAR
VERSION:2.0
PRODID:-// - ECPv6.15.20//NONSGML v1.0//EN
CALSCALE:GREGORIAN
METHOD:PUBLISH
X-ORIGINAL-URL:https://www.hartfordaudubon.org
X-WR-CALDESC:Events for 
REFRESH-INTERVAL;VALUE=DURATION:PT1H
X-Robots-Tag:noindex
X-PUBLISHED-TTL:PT1H
BEGIN:VTIMEZONE
TZID:America/New_York
BEGIN:DAYLIGHT
TZOFFSETFROM:-0500
TZOFFSETTO:-0400
TZNAME:EDT
DTSTART:20210314T070000
END:DAYLIGHT
BEGIN:STANDARD
TZOFFSETFROM:-0400
TZOFFSETTO:-0500
TZNAME:EST
DTSTART:20211107T060000
END:STANDARD
BEGIN:DAYLIGHT
TZOFFSETFROM:-0500
TZOFFSETTO:-0400
TZNAME:EDT
DTSTART:20220313T070000
END:DAYLIGHT
BEGIN:STANDARD
TZOFFSETFROM:-0400
TZOFFSETTO:-0500
TZNAME:EST
DTSTART:20221106T060000
END:STANDARD
BEGIN:DAYLIGHT
TZOFFSETFROM:-0500
TZOFFSETTO:-0400
TZNAME:EDT
DTSTART:20230312T070000
END:DAYLIGHT
BEGIN:STANDARD
TZOFFSETFROM:-0400
TZOFFSETTO:-0500
TZNAME:EST
DTSTART:20231105T060000
END:STANDARD
END:VTIMEZONE
BEGIN:VEVENT
DTSTART;TZID=America/New_York:20220907T083000
DTEND;TZID=America/New_York:20220907T113000
DTSTAMP:20260425T210905
CREATED:20220806T155338Z
LAST-MODIFIED:20220806T160045Z
UID:13854-1662539400-1662550200@www.hartfordaudubon.org
SUMMARY:Hilltop Farm  - 9/7/2022
DESCRIPTION:Leader:  Joan Heffernan  – 8:30 am \n1616 Mapleton Ave\, Suffield\, CT \nEnter at Work Day Sign Entrance \nPark near the red barn.  Addtional parking signs will be posted.  \nWalk around this 7.9-acre historic homestead and adjacent town-owned open space.  View the eagles’ nest from the boardwalk which is surrounded by newly planted native species purchased with a HAS grant.  Stroll by the Connecticut River\, an inland pond\, and the Community Garden plots.  Visit the Bird Garden area – home to bluebirds\, wrens and hummingbirds.  This area\, also enhanced with the HAS grant\,   provides a more passive place for those who would like to sit and relax while enjoying birds and butterflies.   Butterfly\, pollinator\, and hummingbird gardens all surround the historic barn. We will be walking on 2 miles of hilly farm road and well-established woodland trails.  3 hours.  https://www.hilltopfarmsuffield.org/ \nJoan Heffernan     joanheffernan@gmail.com    860-668-5328 /  860-983-5158 T
URL:https://www.hartfordaudubon.org/trip-event/hilltop-farm-9-7-2022/
LOCATION:CT
CATEGORIES:Field Trip
END:VEVENT
BEGIN:VEVENT
DTSTART;TZID=America/New_York:20220910T083000
DTEND;TZID=America/New_York:20220910T113000
DTSTAMP:20260425T210905
CREATED:20220806T160400Z
LAST-MODIFIED:20220806T160430Z
UID:13857-1662798600-1662809400@www.hartfordaudubon.org
SUMMARY:Great Pond\, Simsbury - 9/10/2022
DESCRIPTION:Leader:  Jon Ward – beginning at 8 am \n156 Great Pond Rd\, Simsbury \nBetween Laurel Ln and Old Farms Rd \nMeet in parking lot at end of entrance dirt road \nAn easy walk over a newly widened road leads to Great Pond where we will see waterfowl\, shorebirds\, migrating warblers and the many types of birds that call this area home.  Usually lasts about 3 hrs\, but one can leave at any time.  Maximum distance is 1.5 miles.  Bring a spotting scope if you have one. \nhttps://portal.ct.gov/DEEP/State-Parks/Forests/Massacoe-State-Forest     (Great Pond is a separate block of this forest) \nHiking map available online \nJon Ward                  jward88787@aol.com                860-416-3958 T
URL:https://www.hartfordaudubon.org/trip-event/great-pond-simsbury-9-10-2022/
LOCATION:CT
CATEGORIES:Field Trip
ORGANIZER;CN="Jon Ward":MAILTO:jward88787@aol.com
END:VEVENT
BEGIN:VEVENT
DTSTART;TZID=America/New_York:20220913T190000
DTEND;TZID=America/New_York:20220913T210000
DTSTAMP:20260425T210905
CREATED:20220806T143007Z
LAST-MODIFIED:20220806T145622Z
UID:13814-1663095600-1663102800@www.hartfordaudubon.org
SUMMARY:Identifying Fall Warblers - 9/13/2022
DESCRIPTION:Speaker:  Joe Attwater \nSocial Time at 7:00 pm/ Meeting at 7:30 pm \nSt James’s Episcopal Church\,1018 Farmington Ave\, WH \nWarblers are one group of migrants that birders and non-birders alike look forward to seeing during migration. These gems of the bird world are often more difficult to differentiate in fall\, as many young birds make their way south for the first time and some species lose their beautiful breeding plumage. Join CT Audubon Society’s Joe Attwater to learn about the amazing journeys these tiny songbirds make and some tips and tricks for identifying those species moving through Connecticut. Joe is the Conservation and Education Coordinator at CT Audubon Society’s Roger Tory Peterson (RTP) Estuary Center. Please contact Fran with any questions. \nFrances D’Amico                    frandamico525@yahoo.com    203-237-2734  T
URL:https://www.hartfordaudubon.org/trip-event/identifying-fall-warblers-9-13-2022/
LOCATION:St. James’s Episcopal Church\, 1018 Farmington Ave.\, West Hartford\, CT\, 06127\, United States
CATEGORIES:Meeting
ORGANIZER;CN="Fran D%E2%80%99Amico":MAILTO:frandamico525@yahoo.com
END:VEVENT
BEGIN:VEVENT
DTSTART;VALUE=DATE:20220915
DTEND;VALUE=DATE:20220917
DTSTAMP:20260425T210905
CREATED:20220806T154516Z
LAST-MODIFIED:20220915T185920Z
UID:13849-1663200000-1663372799@www.hartfordaudubon.org
SUMMARY:Hawk Watches at Booth Hill - September 2022
DESCRIPTION:September 15 and 16 \nBooth Hill\, CT Rt 20\, West Hartland \nFrom Granby center follow Rt 20 west for 14.8 miles \nPark on side of road and walk south less than 100 feet \nUpdates to these days for this event will be announced via the AllHAS e-mail listserv.  View Broad-winged Hawks at the peak of their migration through Connecticut.  Bring a chair\, binoculars\, food and drink\, Scopes are helpful if you have one. \nThis is E-bird Hot Spot L36 https://ebird.org/hotspot/L36. and records species in September:  Broad winged Hawk\, Sharp-shinned\, red-tailed\, Kestrel\, Bald Eagle\, Osprey\, turkey\, flycatchers\, phoebe\, vireos\, and others. \n 
URL:https://www.hartfordaudubon.org/trip-event/hawk-watches-at-booth-hill/
LOCATION:CT
CATEGORIES:Field Trip
END:VEVENT
BEGIN:VEVENT
DTSTART;TZID=America/New_York:20220917T080000
DTEND;TZID=America/New_York:20220917T110000
DTSTAMP:20260425T210905
CREATED:20220806T160726Z
LAST-MODIFIED:20220806T160801Z
UID:13860-1663401600-1663412400@www.hartfordaudubon.org
SUMMARY:Simsbury River Walk - 9/17/2022
DESCRIPTION:Leader:  Jon Ward – starting at 8 am \n 46 Drake Hill Rd\, Simsbury \nPark at the Simsbury High School Crew Boathouse across from \nDrake Hill Rd from Flower Bridge. Do not park at Flower Bridge \nThe Simsbury River Walk provides beautiful and varied birding habitat along the Farmington River floodplain and can be great for warblers and other passerines.  Plan to walk approximately 2 miles over 2-3 hours.  The trail is flat but may be wet in places\, depending on recent rainfall.  Bring bug spray and appropriate footwear. For a map and more information visit. \nhttps://www.simsbury-ct.gov/sites/g/files/vyhlif1216/f/file/file/riverwalk.pdf \nJon Ward                  jward88787@aol.com                860-416-3958 T
URL:https://www.hartfordaudubon.org/trip-event/simsbury-river-walk-9-17-2022/
LOCATION:CT
CATEGORIES:Field Trip
ORGANIZER;CN="Jon Ward":MAILTO:jward88787@aol.com
END:VEVENT
BEGIN:VEVENT
DTSTART;TZID=America/New_York:20220922T080000
DTEND;TZID=America/New_York:20220922T100000
DTSTAMP:20260425T210905
CREATED:20220806T161036Z
LAST-MODIFIED:20220903T130749Z
UID:13862-1663833600-1663840800@www.hartfordaudubon.org
SUMMARY:Glastonbury Great Pond - 9/22/2022
DESCRIPTION:Leader: Annette Pasek – starting at 8 am \nEntrance is just beyond 451 Great Pond Rd\, Glastonbury on left \n From Rt. 17 – use south entrance to Great Pond Rd and  \ndrive in 0.2 mi.  Park on south side away from hydrants. \nExpect common CT birds as well as migratory. Habitat varies: woodland\, water\, shrub and field.  Count on chickadee\, nuthatch\, jay\, cardinal\, wren.  Many hawk\, duck and sparrow species.  There are always some surprises. 2.5 mile walk. Hilly terrain. Bring bug spray and sturdy shoes. \nAnnette Pasek               apasek@cox.net                     860-490-8357
URL:https://www.hartfordaudubon.org/trip-event/glastonbury-great-pond-9-22-2022/
LOCATION:CT
CATEGORIES:Field Trip
ORGANIZER;CN="Annette Pasek":MAILTO:apasek@cox.net
END:VEVENT
BEGIN:VEVENT
DTSTART;TZID=America/New_York:20220924T080000
DTEND;TZID=America/New_York:20220924T110000
DTSTAMP:20260425T210905
CREATED:20220806T161321Z
LAST-MODIFIED:20220806T162051Z
UID:13865-1664006400-1664017200@www.hartfordaudubon.org
SUMMARY:Station 43 Beginners Bird Walk #1 - 9/24/2022
DESCRIPTION:Leader:  Jon Ward – starting at 8 am \n990 Main St\, South Windsor \nCorner of Newberry Rd and Main St \nPark in front of stucco house. \nThe first of four morning walks designed for beginners at Hartford Audubon’s oldest sanctuary. Station 43 is an excellent birding area year ‘round and on each walk we will look for seasonal birds. The walk is roughly 2.5 miles long (about 3 hours) over flat terrain but we may encounter muddy areas and water covering parts of the path. Bring spotting scope if you have one. High\, water-proof boots and insect repellent are suggested. \n  \nhttps://www.hartfordaudubon.org/sanctuaries/station-43-wildlife-sanctuary/ \nJon Ward                  jward88787@aol.com                860-416-3958 T
URL:https://www.hartfordaudubon.org/trip-event/station-43-beginners-bird-walk-1-9-24-2022/
LOCATION:CT
CATEGORIES:Field Trip
ORGANIZER;CN="Jon Ward":MAILTO:jward88787@aol.com
END:VEVENT
BEGIN:VEVENT
DTSTART;TZID=America/New_York:20220925T080000
DTEND;TZID=America/New_York:20220925T100000
DTSTAMP:20260425T210905
CREATED:20220806T161921Z
LAST-MODIFIED:20220806T162046Z
UID:13868-1664092800-1664100000@www.hartfordaudubon.org
SUMMARY:Mary Conklin Preserve\, Canton - 9/25/2022
DESCRIPTION:Leader: Sarah Faulkner starting at 8 am \nMary Conklin Preserve\,  144 Indian Hill Rd\, Canton\, CT \nFrom Rt 44 follow Indian Hill Rd .9 mi to Spaulding Hill Rd \nGo another .1mi and look for Canton Land Trust sign on left by the driveway.  \nJoin us for a two hour leisurely 2-mile hike at this gorgeous preserve. We’ll see what birds we can find.  Walking is easy on gently rolling trails with minimal elevation\, but footing can be uneven. Bug spray is recommended.  We’ll be using both Merlin to identify calls and eBird to log our discoveries. \nSarah Faulkner     sffaulkner@comcast.net             860-543-1280 T
URL:https://www.hartfordaudubon.org/trip-event/mary-conklin-preserve-canton-9-25-2022/
LOCATION:CT
CATEGORIES:Field Trip
END:VEVENT
BEGIN:VEVENT
DTSTART;TZID=America/New_York:20220925T083000
DTEND;TZID=America/New_York:20220925T103000
DTSTAMP:20260425T210905
CREATED:20220806T163100Z
LAST-MODIFIED:20220909T131824Z
UID:13877-1664094600-1664101800@www.hartfordaudubon.org
SUMMARY:Keney Park - 9/25/2022
DESCRIPTION:Leader:  Annette Pasek\nHartford’s Jewel starting at 8:30 am \n171 Windsor Ave\, Windsor\, CT Park in Golf Club Parking Lot Park \nThe walk is flat and easy walking on both paved and wooded trails. We will hopefully see Blue Birds\, fall warblers and others as we enjoy this hidden jewel of a park. The walk will be between 2 – 2-1/2 hours long\, depending on what we come across. Great for beginners\, but always good for seasoned veterans. Dress appropriately for the weather and use bug spray.\nAnnette Pasek               apasek@cox.net                     860-490-8357
URL:https://www.hartfordaudubon.org/trip-event/keney-park-9-25-2002/
LOCATION:CT
CATEGORIES:Field Trip
ORGANIZER;CN="Annette Pasek":MAILTO:apasek@cox.net
END:VEVENT
BEGIN:VEVENT
DTSTART;TZID=America/New_York:20220928T083000
DTEND;TZID=America/New_York:20220928T103000
DTSTAMP:20260425T210905
CREATED:20220806T162420Z
LAST-MODIFIED:20220806T162420Z
UID:13871-1664353800-1664361000@www.hartfordaudubon.org
SUMMARY:Lewis Farm Sanctuary - 9/28/2022
DESCRIPTION:Leader: Abby Wolcott starting at 8:30 am \n1035 Hill St\, Suffield \nPark off road on WEST side only (by sign for Sanctuary)  \n Use caution: poor sight line for passing cars \nPlease join Abby on a trip through this slice of heaven on Hill Street. The Audubon property has been near and dear to Abby’s heart since she was old enough to follow her 3 brothers down the hill in search of wildlife. Now\, decades later the sanctuary still calls her name.  She has sought out the quiet trails on days when she has had a heavy heart and on those days when her world was full of joy. Please join Abby as we meander down the trails and across the bridge on our quest for birds. Grab your binoculars and let the nature discourse begin!  Fall migrants – Come get acquainted this fall and return in the spring for warblers and wildflowers. Varied habitats\, wooded\, marsh\, brook/pond.  Wide trails\, smooth walking gentle hills.  https://www.hartfordaudubon.org/sanctuaries/lewis-farm-bird-sanctuary/ \nAbby Wolcott              abwol81@cox.net                    860-436-7667 T
URL:https://www.hartfordaudubon.org/trip-event/lewis-farm-sanctuary-9-28-2022/
LOCATION:CT
CATEGORIES:Field Trip
END:VEVENT
BEGIN:VEVENT
DTSTART;TZID=America/New_York:20220929T150000
DTEND;TZID=America/New_York:20220929T190000
DTSTAMP:20260425T210905
CREATED:20220806T162718Z
LAST-MODIFIED:20220806T162743Z
UID:13874-1664463600-1664478000@www.hartfordaudubon.org
SUMMARY:Cruisin' with Birds & Brews - 9/29/2022
DESCRIPTION:Leader: Annette Pasek at 3 pm \nUse 202 Ferry Lane\, South Glastonbury\, CT for a GPS address \nDrive past house at 202 to the end of lane\, park in lot on left. \nHappy hour time!  Starting at the Connecticut River easy observations from picnic area for common birds\, woodpeckers and gulls\, ducks are likely too!  Migration may bring some surprises.  The big question is when will a Sandhill Crane be spotted in the farm fields?  Flat terrain\, easy birding.  The walk ends around the corner at 275 Dug Rd\, Hops on the Hill Brewery where Thursday evenings they host a Car Cruise Night! Bring a lawn chair. \nTake Route 17 to South Glastonbury\, then turn on Rt. 160 and follow to Ferry.  If you want to take the ferry from Rocky Hill\, take the Silas Dean Highway to CT 160 and follow to Ferry.  The Ferry costs $5 per vehicle and only runs until 6:45pm.  Weather and mechanical issues can affect whether the Ferry is running\, so check the website to be sure. \nhttps://portal.ct.gov/DOT/Traveler/ferries/Rocky-Hill-Ferry \nAnnette Pasek               apasek@cox.net                     860-490-8357 T
URL:https://www.hartfordaudubon.org/trip-event/cruisin-with-birds-brews-9-29-2022/
LOCATION:CT
CATEGORIES:Field Trip
ORGANIZER;CN="Annette Pasek":MAILTO:apasek@cox.net
END:VEVENT
END:VCALENDAR