BEGIN:VCALENDAR
VERSION:2.0
PRODID:-// - ECPv6.15.20//NONSGML v1.0//EN
CALSCALE:GREGORIAN
METHOD:PUBLISH
X-ORIGINAL-URL:https://www.hartfordaudubon.org
X-WR-CALDESC:Events for 
REFRESH-INTERVAL;VALUE=DURATION:PT1H
X-Robots-Tag:noindex
X-PUBLISHED-TTL:PT1H
BEGIN:VTIMEZONE
TZID:America/New_York
BEGIN:DAYLIGHT
TZOFFSETFROM:-0500
TZOFFSETTO:-0400
TZNAME:EDT
DTSTART:20210314T070000
END:DAYLIGHT
BEGIN:STANDARD
TZOFFSETFROM:-0400
TZOFFSETTO:-0500
TZNAME:EST
DTSTART:20211107T060000
END:STANDARD
BEGIN:DAYLIGHT
TZOFFSETFROM:-0500
TZOFFSETTO:-0400
TZNAME:EDT
DTSTART:20220313T070000
END:DAYLIGHT
BEGIN:STANDARD
TZOFFSETFROM:-0400
TZOFFSETTO:-0500
TZNAME:EST
DTSTART:20221106T060000
END:STANDARD
BEGIN:DAYLIGHT
TZOFFSETFROM:-0500
TZOFFSETTO:-0400
TZNAME:EDT
DTSTART:20230312T070000
END:DAYLIGHT
BEGIN:STANDARD
TZOFFSETFROM:-0400
TZOFFSETTO:-0500
TZNAME:EST
DTSTART:20231105T060000
END:STANDARD
END:VTIMEZONE
BEGIN:VEVENT
DTSTART;TZID=America/New_York:20221008T080000
DTEND;TZID=America/New_York:20221008T100000
DTSTAMP:20260425T223404
CREATED:20220806T163429Z
LAST-MODIFIED:20220814T150549Z
UID:13880-1665216000-1665223200@www.hartfordaudubon.org
SUMMARY:Greenstone Hollow - 10/8/2022
DESCRIPTION:Leaders:  Chris Fisher and Diane Fisher will lead the trip starting at 8 am \n31 Ridge Blvd\, East Granby \nPark on north side of road – Drake Hill Rd from Flower Bridge. Do not park at Flower Bridge \nAll are welcome on this exploration of our Greenstone Hollow Nature Preserve.  Woodland\, water and shrub meadow habitats will hopefully provide 20-40 species during the fall migration. About 1.5 miles of easy walking for up to 2 hours.  Wear waterproof footgear if it has rained recently. \nChris Fisher    ChrisF001@aol.com           860-967-5976
URL:https://www.hartfordaudubon.org/trip-event/greenstone-hollow-10-8-2022/
LOCATION:CT
CATEGORIES:Field Trip
ORGANIZER;CN="Chris / Diane Fisher":MAILTO:chrisf001@aol.com
END:VEVENT
BEGIN:VEVENT
DTSTART;VALUE=DATE:20221009
DTEND;VALUE=DATE:20221010
DTSTAMP:20260425T223404
CREATED:20220806T164007Z
LAST-MODIFIED:20220917T165006Z
UID:13883-1665273600-1665359999@www.hartfordaudubon.org
SUMMARY:Big Sit at Station 43 - 10/9/2022
DESCRIPTION: Leader:  Maggie Peretto – All Day \nCorner of Newberry Rd and Main St  \nPark in front of stucco house. Walk about 0.4 mi west on dirt road \nWe are hoping others will join and we can have folks there all day so drop by any time.  Visit https://www.thebigsit.org to learn more about this national project. It is a day of fun at Station 43 where we count all species we see and hear from a 17-foot circle located at the HAS platform on the southwest end of the marsh. Bring a stool/chair and a scope if you have one. If it’s been wet\, wear boots. \nMaggie Peretto        wings.mp@gmail.com / 860-604-4903 
URL:https://www.hartfordaudubon.org/trip-event/big-sit-at-station-43-10-9-2022/
LOCATION:CT
CATEGORIES:Club Event,Field Trip
END:VEVENT
BEGIN:VEVENT
DTSTART;TZID=America/New_York:20221011T190000
DTEND;TZID=America/New_York:20221011T210000
DTSTAMP:20260425T223404
CREATED:20220806T143959Z
LAST-MODIFIED:20220806T144638Z
UID:13818-1665514800-1665522000@www.hartfordaudubon.org
SUMMARY:Sparrow Identification Simplified - 10/11/2022
DESCRIPTION:Speaker – Frank Gallo \nZoom Meeting at 7:00 pm \nZOOM MEETING – Link will be mailed to AllHAS \nSparrow Identification Simplified – Little Brown Birds to Know and Love \nFrank Gallo has long been a staple in the CT birding community. He is the Senior Naturalist at the New Canaan Nature Center. Tonight\, Frank will give us tips on how to ID sparrows and show some of the rare ones that show up from time to time. In addition to his “day” job\, Frank leads local trips for Sunrise Birding.  Please contact Fran with any questions. \nFrances D’Amico      frandamico525@yahoo.com      203-237-2734  
URL:https://www.hartfordaudubon.org/trip-event/sparrow-identification-simplified-10-11-2022/
LOCATION:CT
CATEGORIES:Meeting
ORGANIZER;CN="Fran D%E2%80%99Amico":MAILTO:frandamico525@yahoo.com
END:VEVENT
BEGIN:VEVENT
DTSTART;TZID=America/New_York:20221015T093000
DTEND;TZID=America/New_York:20221015T113000
DTSTAMP:20260425T223404
CREATED:20220806T164318Z
LAST-MODIFIED:20220806T164318Z
UID:13885-1665826200-1665833400@www.hartfordaudubon.org
SUMMARY:Beaver Brook Area\, Peoples Forest - 10/15/2022
DESCRIPTION:Leaders:  Sylvia Halkin and Sally Rieger starting at 9:30 am \nOn Google Maps\, 324 Park Rd\, Barkhamsted –  will take you close to intersection of Park Rd. & Beaver Brook Rd.  \nGo south .3mi on Beaver Brook Rd. to bridge – park in picnic area.   \nJoin us for a beautiful forest and marsh walk of about 2 miles in the Peoples State Forest\, Barkhamsted. We will see an interesting variety of birds.  From the picnic area we will walk 1/2 mile on Beaver Brook Rd to the new boardwalk through a forested wetland on the Agnes Bowen Trail\, then a short distance to a second boardwalk out into the Beaver Meadow marsh.  Both boardwalks have benches. \nSylvia Halkin               halkin@ccsu.edu                    860-985-7343 T \nSally Rieger         dfrandssr@aol.com           860-658-7317 T
URL:https://www.hartfordaudubon.org/trip-event/beaver-brook-area-peoples-forest-10-15-2022/
LOCATION:CT
CATEGORIES:Field Trip
END:VEVENT
BEGIN:VEVENT
DTSTART;TZID=America/New_York:20221018T193000
DTEND;TZID=America/New_York:20221018T210000
DTSTAMP:20260425T223404
CREATED:20220806T125346Z
LAST-MODIFIED:20220808T125650Z
UID:13790-1666121400-1666126800@www.hartfordaudubon.org
SUMMARY:Birding the Andes - 10/18/2022
DESCRIPTION:Join past President Sam Fried for his 41st program for HAS. He’ll be taking us on a roller coaster of a trip birding the Colombian Andes. Traveling from mountain valleys to mountaintops at 14\,000 feet\, from cloud forest to tropical lowlands\, we had the pleasure of encountering 40 species of hummingbirds and my target bird for the trip – Andean Cock of the Rock! Going up and down 25\,000 feet in one day can be dizzying\, but the birds were more than worth it.   Please contact Frances below if you have any questions. \nFrances D’Amico      frandamico525@yahoo.com      203-237-2734
URL:https://www.hartfordaudubon.org/trip-event/birding-the-andes/
LOCATION:McAuley Residence Auditorium\, 275 Steele Rd.\, West Hartford\, CT\, 06117\, United States
CATEGORIES:Wildlife Series
ORGANIZER;CN="Frances D%E2%80%99Amico":MAILTO:frandamico525@yahoo.com
END:VEVENT
END:VCALENDAR