BEGIN:VCALENDAR
VERSION:2.0
PRODID:-// - ECPv6.15.20//NONSGML v1.0//EN
CALSCALE:GREGORIAN
METHOD:PUBLISH
X-ORIGINAL-URL:https://www.hartfordaudubon.org
X-WR-CALDESC:Events for 
REFRESH-INTERVAL;VALUE=DURATION:PT1H
X-Robots-Tag:noindex
X-PUBLISHED-TTL:PT1H
BEGIN:VTIMEZONE
TZID:America/New_York
BEGIN:DAYLIGHT
TZOFFSETFROM:-0500
TZOFFSETTO:-0400
TZNAME:EDT
DTSTART:20210314T070000
END:DAYLIGHT
BEGIN:STANDARD
TZOFFSETFROM:-0400
TZOFFSETTO:-0500
TZNAME:EST
DTSTART:20211107T060000
END:STANDARD
BEGIN:DAYLIGHT
TZOFFSETFROM:-0500
TZOFFSETTO:-0400
TZNAME:EDT
DTSTART:20220313T070000
END:DAYLIGHT
BEGIN:STANDARD
TZOFFSETFROM:-0400
TZOFFSETTO:-0500
TZNAME:EST
DTSTART:20221106T060000
END:STANDARD
BEGIN:DAYLIGHT
TZOFFSETFROM:-0500
TZOFFSETTO:-0400
TZNAME:EDT
DTSTART:20230312T070000
END:DAYLIGHT
BEGIN:STANDARD
TZOFFSETFROM:-0400
TZOFFSETTO:-0500
TZNAME:EST
DTSTART:20231105T060000
END:STANDARD
END:VTIMEZONE
BEGIN:VEVENT
DTSTART;TZID=America/New_York:20221108T190000
DTEND;TZID=America/New_York:20221108T210000
DTSTAMP:20260425T235125
CREATED:20220806T144307Z
LAST-MODIFIED:20220806T144400Z
UID:13821-1667934000-1667941200@www.hartfordaudubon.org
SUMMARY:Connecticut Wild Turkey Restoration & Management - 11/8/2022
DESCRIPTION:Speaker:  Will Cassidy \nThis presentation will provide the history and management of Wild Turkeys in our state\, including the rise and fall of turkey populations\, life history\, predators\, management programs\, and vocalizations. Will Cassidy is a certified wildlife biologist at the Connecticut Department of Energy and Environmental Protection (DEEP). Please contact Fran with any questions. \nFrances D’Amico      frandamico525@yahoo.com  203-237-2734  T
URL:https://www.hartfordaudubon.org/trip-event/connecticut-wild-turkey-restoration-management-11-8-2022/
LOCATION:St. James’s Episcopal Church\, 1018 Farmington Ave.\, West Hartford\, CT\, 06127\, United States
CATEGORIES:Meeting
ORGANIZER;CN="Fran D%E2%80%99Amico":MAILTO:frandamico525@yahoo.com
END:VEVENT
BEGIN:VEVENT
DTSTART;VALUE=DATE:20221112
DTEND;VALUE=DATE:20221114
DTSTAMP:20260425T235125
CREATED:20220806T164546Z
LAST-MODIFIED:20220806T164702Z
UID:13887-1668211200-1668383999@www.hartfordaudubon.org
SUMMARY:Long Island - 11/12/2022 - 2 days
DESCRIPTION:Leader: Peter Stephan    \nVarious sites on Long Island \nVisit Jamaica Bay\, Jones Beach\, Lake Capri\, Belmont Lake\, Shinnecock Inlet\, Montauk Point\, and Shelter Island.  Spend Saturday night on Long Island. Return on Ferry Sunday evening. Waterfowl are the main benefits of this trip.  While we have seen many rarities  (Ross’s Gull\, Spotted Redshank\, Black-bellied Whistling and Tufted ducks\, Ash-throated Flycatcher) they should not be counted on!! Easy walking. \nPeter Stephan              stephraf@aol.com                   860-729-8374 T \n 
URL:https://www.hartfordaudubon.org/trip-event/long-island-11-12-2022-2-days/
LOCATION:CT
CATEGORIES:Field Trip
ORGANIZER;CN="Peter Stephan":MAILTO:stephraf@aol.com
END:VEVENT
BEGIN:VEVENT
DTSTART;TZID=America/New_York:20221115T190000
DTEND;TZID=America/New_York:20221115T210000
DTSTAMP:20260425T235125
CREATED:20220806T130855Z
LAST-MODIFIED:20220806T133250Z
UID:13796-1668538800-1668546000@www.hartfordaudubon.org
SUMMARY:The Fascinating World of Owls - 11/15/2022
DESCRIPTION:Zoom Program at 7:00 PM / ZOOM MEETING – Link will be mailed to AllHAS \n Speaker:  Denver Holt \nDenver Holt is the founder and president of the Owl Research Institute and a leading expert on owls.  He has been featured in articles from National Geographic to the New York Times as well as many TV programs.  ORI believes in long-term research on owls\, their prey species\, and their relationship to the habitat in which they live. These data help maintain viable populations. Denver will be with us via Zoom to talk about what research is currently being done and why ORI conducts long-term studies. \nFrances D’Amico      frandamico525@yahoo.com      203-237-2734
URL:https://www.hartfordaudubon.org/trip-event/the-fascinating-world-of-owls/
LOCATION:CT
CATEGORIES:Wildlife Series
ORGANIZER;CN="Fran D%E2%80%99Amico":MAILTO:frandamico525@yahoo.com
END:VEVENT
END:VCALENDAR