BEGIN:VCALENDAR
VERSION:2.0
PRODID:-// - ECPv6.15.20//NONSGML v1.0//EN
CALSCALE:GREGORIAN
METHOD:PUBLISH
X-ORIGINAL-URL:https://www.hartfordaudubon.org
X-WR-CALDESC:Events for 
REFRESH-INTERVAL;VALUE=DURATION:PT1H
X-Robots-Tag:noindex
X-PUBLISHED-TTL:PT1H
BEGIN:VTIMEZONE
TZID:America/New_York
BEGIN:DAYLIGHT
TZOFFSETFROM:-0500
TZOFFSETTO:-0400
TZNAME:EDT
DTSTART:20220313T070000
END:DAYLIGHT
BEGIN:STANDARD
TZOFFSETFROM:-0400
TZOFFSETTO:-0500
TZNAME:EST
DTSTART:20221106T060000
END:STANDARD
BEGIN:DAYLIGHT
TZOFFSETFROM:-0500
TZOFFSETTO:-0400
TZNAME:EDT
DTSTART:20230312T070000
END:DAYLIGHT
BEGIN:STANDARD
TZOFFSETFROM:-0400
TZOFFSETTO:-0500
TZNAME:EST
DTSTART:20231105T060000
END:STANDARD
BEGIN:DAYLIGHT
TZOFFSETFROM:-0500
TZOFFSETTO:-0400
TZNAME:EDT
DTSTART:20240310T070000
END:DAYLIGHT
BEGIN:STANDARD
TZOFFSETFROM:-0400
TZOFFSETTO:-0500
TZNAME:EST
DTSTART:20241103T060000
END:STANDARD
END:VTIMEZONE
BEGIN:VEVENT
DTSTART;VALUE=DATE:20231110
DTEND;VALUE=DATE:20231113
DTSTAMP:20260426T002658
CREATED:20230726T131926Z
LAST-MODIFIED:20231109T122548Z
UID:14533-1699574400-1699833599@www.hartfordaudubon.org
SUMMARY:Delmarva Peninsula Bird Trip - November 10-12\, 2023
DESCRIPTION:Delaware\, Maryland and Virginia \nContact Peter for arrangements. \nVisit Bombay Hook\, Chincoteague and Blackwater National Wildlife Refuges as well as Ocean City\, Elliot’s Pond\, Indian River Inlet and possibly Prime Hook NWR. These are all top birding spots in this area. \nPeter Stephan           stephraf@aol.com               860-729-8374 T
URL:https://www.hartfordaudubon.org/trip-event/delmarva-peninsula-bird-trip-november-11-132023/
LOCATION:Delmarva Peninsula (DE\,MD\,VA)\, Chincoteague Island\, VA\, United States
CATEGORIES:Field Trip
ORGANIZER;CN="Peter Stephan":MAILTO:stephraf@aol.com
END:VEVENT
BEGIN:VEVENT
DTSTART;TZID=America/New_York:20231114T190000
DTEND;TZID=America/New_York:20231114T210000
DTSTAMP:20260426T002658
CREATED:20230815T123618Z
LAST-MODIFIED:20230815T123618Z
UID:14696-1699988400-1699995600@www.hartfordaudubon.org
SUMMARY:Monthly Meeting - 11/14/2023 - Hartford Bird Treaty
DESCRIPTION:7 pm – Social Hour / 7:30 – Program begins. \nSpeaker: Mary Pelletier \nIn 2011\, the City of Hartford was selected to be the eighth U.S. Fish & Wildlife Service Urban Bird Treaty city nationwide. This unique initiative brings together federal\, state\, municipal\, non-profit and educational organizations to create bird-friendly habitats and connect citizens with nature through birding and conservation. Mary will review implementation and goals of this treaty\, as well as how other communities can participate. She is dedicated to conservation and revival of ecosystem benefits within cities and is a founding Director of Park Watershed. \nPlease reach out to Frances D’Amico with any questions at frandamico525@yahoo.com or 203-237-2734.
URL:https://www.hartfordaudubon.org/trip-event/monthly-meeting-11-14-2023-hartford-bird-treaty/
LOCATION:St. James’s Episcopal Church\, 1018 Farmington Ave.\, West Hartford\, CT\, 06127\, United States
CATEGORIES:Meeting
ORGANIZER;CN="Hartford Audubon Society":MAILTO:info@hartfordaudubon.org
END:VEVENT
END:VCALENDAR