BEGIN:VCALENDAR
VERSION:2.0
PRODID:-// - ECPv6.15.20//NONSGML v1.0//EN
CALSCALE:GREGORIAN
METHOD:PUBLISH
X-ORIGINAL-URL:https://www.hartfordaudubon.org
X-WR-CALDESC:Events for 
REFRESH-INTERVAL;VALUE=DURATION:PT1H
X-Robots-Tag:noindex
X-PUBLISHED-TTL:PT1H
BEGIN:VTIMEZONE
TZID:America/New_York
BEGIN:DAYLIGHT
TZOFFSETFROM:-0500
TZOFFSETTO:-0400
TZNAME:EDT
DTSTART:20230312T070000
END:DAYLIGHT
BEGIN:STANDARD
TZOFFSETFROM:-0400
TZOFFSETTO:-0500
TZNAME:EST
DTSTART:20231105T060000
END:STANDARD
BEGIN:DAYLIGHT
TZOFFSETFROM:-0500
TZOFFSETTO:-0400
TZNAME:EDT
DTSTART:20240310T070000
END:DAYLIGHT
BEGIN:STANDARD
TZOFFSETFROM:-0400
TZOFFSETTO:-0500
TZNAME:EST
DTSTART:20241103T060000
END:STANDARD
BEGIN:DAYLIGHT
TZOFFSETFROM:-0500
TZOFFSETTO:-0400
TZNAME:EDT
DTSTART:20250309T070000
END:DAYLIGHT
BEGIN:STANDARD
TZOFFSETFROM:-0400
TZOFFSETTO:-0500
TZNAME:EST
DTSTART:20251102T060000
END:STANDARD
END:VTIMEZONE
BEGIN:VEVENT
DTSTART;TZID=America/New_York:20241005T073000
DTEND;TZID=America/New_York:20241005T103000
DTSTAMP:20260425T074019
CREATED:20240804T145830Z
LAST-MODIFIED:20240804T145830Z
UID:15269-1728113400-1728124200@www.hartfordaudubon.org
SUMMARY:Raymond Brook Preserve - Bird Walk - October 5\, 2024
DESCRIPTION:Oct 5    Raymond Brook Preserve\, Hebron Sat 7:30 am \nRaymond Brook Preserve \n168 Church St (Rt. 85) Hebron CT \nJoin us in Hebron at this hidden gem hotspot! Trails are mostly flat\, wide\, gravel paths (i.e. easy walking!) through woods/overgrown farm fields\, open grass fields\, and small pond habitat. Loop is about two miles and will probably last around 2 hours. May be a little muddy if recent rain\, but usually not too bad. We will also be able to tour the recently established pollinator garden\, funded by a 2023 HAS grant. There are no restroom facilities at the preserve so please plan accordingly. Afterwards those interested can join us at the Flour Girl Cafe (12 Main St\, Hebron) for coffee and swapping bird stories. \nGabrielle & Will Bugden     gvonp27@gmail.com  860-490-5112 T \n 
URL:https://www.hartfordaudubon.org/trip-event/raymond-brook-preserve-bird-walk-october-5-2024/
LOCATION:CT
CATEGORIES:Field Trip
END:VEVENT
BEGIN:VEVENT
DTSTART;TZID=America/New_York:20241005T080000
DTEND;TZID=America/New_York:20241005T110000
DTSTAMP:20260425T074019
CREATED:20240804T154439Z
LAST-MODIFIED:20240927T155246Z
UID:15289-1728115200-1728126000@www.hartfordaudubon.org
SUMMARY:Keney Park Bird Walk - October 5\, 2024
DESCRIPTION:Oct 5        Keney Park – Hartford’s Jewel   Fri 8:00  am \n171 Windsor Ave\, Windsor\, CT \nPark in Golf Club Parking Lot \nThis walk is flat and easy walking on both paved and wooded trails. We hope to see Eastern Bluebirds\, fall warblers and others as we enjoy this hidden jewel of a park. The walk will last 2 to 2-1/2 hours\, depending on what we find. Great for beginners\, but always good for seasoned veterans. Dress appropriately for the weather and use bug spray. \nAnnette Pasek               apasek@cox.net                     860-490-8357 T \nAl Gatti                    algatti22@gmail.com                  860-916-7142 T \n 
URL:https://www.hartfordaudubon.org/trip-event/keney-park-bird-walk-october-4-2024/
LOCATION:CT
CATEGORIES:Field Trip
ORGANIZER;CN="Annette Pasek":MAILTO:apasek@cox.net
END:VEVENT
BEGIN:VEVENT
DTSTART;VALUE=DATE:20241006
DTEND;VALUE=DATE:20241007
DTSTAMP:20260425T074019
CREATED:20240804T150101Z
LAST-MODIFIED:20240804T150125Z
UID:15271-1728172800-1728259199@www.hartfordaudubon.org
SUMMARY:Big Sit at Station 43 - October 6\, 2024 - All Day
DESCRIPTION:Oct 6                 Big Sit at Station 43            Sun All Day \n953 Main St\, South Windsor \nCorner of Newberry Rd and Main St \nPark along road near intersection. \nMaggie will cover part of the time.   We are hoping others will join and we can have folks there all day so drop by any time.  Visit https://www.thebigsit.org  to learn more about this national project. It is a day of fun at Station 43 where we count all species we see and hear from a 17-foot circle located at the HAS platform on the southwest end of the marsh. Bring a stool/chair and a scope if you have one. If it’s been wet\, wear boots. \nMaggie Peretto        wings.mp@gmail.com               860-604-4903 T
URL:https://www.hartfordaudubon.org/trip-event/big-sit-at-station-43-october-6-2024-all-day/
LOCATION:S Windsor\, 990 Main St.\, South Windsor\, CT\, 06074\, United States
CATEGORIES:Club Event,Field Trip
ORGANIZER;CN="Maggie Peretto":MAILTO:wings.mp@gmail.com
END:VEVENT
BEGIN:VEVENT
DTSTART;TZID=America/New_York:20241008T070000
DTEND;TZID=America/New_York:20241008T210000
DTSTAMP:20260425T074019
CREATED:20240804T152510Z
LAST-MODIFIED:20240804T152811Z
UID:15285-1728370800-1728421200@www.hartfordaudubon.org
SUMMARY:Monthly Meeting - October 8\, 2024
DESCRIPTION:Oct 8               ✪ Monthly Meeting ✪          Tue 7:30 pm \nSocial Time at 7:00 pm \nSt James’s Episcopal Church\,1018 Farmington Ave\, WH \nSpeaker: Sylvia Halkin\, Ph.D. \nChanges in Northern Cardinal Songs Over Time and Space \nA Northern Cardinal learns its songs from its neighbors during its first year of life. The same repertoire of 8-12 songs is sung by all the male and female cardinals in a local population\, but some songs are not sung by cardinals outside that population\, while other songs are much more widespread. To better understand how songs evolve\, in 2021 I recorded cardinals at the same location where I had recorded them intensively in the 1980s!  Some songs had added a new segment but were still recognizable after 40 years; others had been replaced by completely different songs. The long-lasting songs were also the most widespread: they were sung along much of the length of 100-mile N/S and E/W transects centered on the 1980s recording location.  Such widely shared songs may help cardinals to communicate with new neighbors if they settle away from the location where they learned their songs. \n  \nSylvia was a Professor in the Biology Department at CCSU for 30 years\, teaching Ornithology\, Animal Behavior\, Natural History of Connecticut\, Field Biology courses abroad (England\, Ireland\, Australia\, India)\, and other courses to undergraduate and graduate students. Her published research includes articles on how birds use their song repertoires\, nut-caching behavior of eastern gray squirrels (with CCSU student co-authors\, also included in an Animal Planet “Most Extreme Pirates” episode)\, and on foraging niches of Black-capped Chickadees and Tufted Titmice\, Sandy’s Point’s Least Tern colony\, and how strangler figs may help their host trees to weather storms (with CCSU student lead authors John Correia\, Jennifer Healy\, and Leora Richard\, respectively).  She is the lead author of the comprehensive Birds of the World species account for Northern Cardinals\, researched and written with a great team of co-authors. \nFrances D’Amico      frandamico525@yahoo.com      203-237-2734  
URL:https://www.hartfordaudubon.org/trip-event/monthly-meeting-october-8-2024/
LOCATION:St. James’s Episcopal Church\, 1018 Farmington Ave.\, West Hartford\, CT\, 06127\, United States
CATEGORIES:Meeting
ORGANIZER;CN="Frances D%E2%80%99Amico":MAILTO:frandamico525@yahoo.com
END:VEVENT
BEGIN:VEVENT
DTSTART;TZID=America/New_York:20241011T070000
DTEND;TZID=America/New_York:20241011T100000
DTSTAMP:20260425T074019
CREATED:20240804T150336Z
LAST-MODIFIED:20240804T150336Z
UID:15274-1728630000-1728640800@www.hartfordaudubon.org
SUMMARY:Longo Farms Open Space - Bird Walk - October 11\, 2024
DESCRIPTION:Oct 11          Longo Farms Open Space        Fri 7:00 am \n2954 Hebron Ave\, Glastonbury \nEntrance sign next to driveway.  Drive in 0.2 mi and park in lot. \nTruely a fun place to gather and learn about birds! Diverse habitat includes\, pond\, marsh\, farmland\, woodlands\, succession growth. Can be very birdy including warblers\, vireos and orioles. Likely some raptors and waterfowl as well as farmland birds such as Bobolink. Protective boots and bug spray may be necessary. Hilly open trails. This walk can be up to 2 miles depending on how birdie and on group pace. Plan for 3 hours. \nAnnette Pasek               apasek@cox.net                     860-490-8357 T
URL:https://www.hartfordaudubon.org/trip-event/longo-farms-open-space-bird-walk-october-11-2024/
LOCATION:CT
CATEGORIES:Field Trip
ORGANIZER;CN="Annette Pasek":MAILTO:apasek@cox.net
END:VEVENT
BEGIN:VEVENT
DTSTART;TZID=America/New_York:20241012T080000
DTEND;TZID=America/New_York:20241012T100000
DTSTAMP:20260425T074019
CREATED:20240804T150605Z
LAST-MODIFIED:20240804T150605Z
UID:15276-1728720000-1728727200@www.hartfordaudubon.org
SUMMARY:Farmington River Park Bird Walk - October 12\, 2024
DESCRIPTION:Oct 12            Farmington River Park         Sat 8:00  am \n458 Tunxis Avenue\, Bloomfield\, CT \nMeet in Parking Lot \nEnjoy a morning trip exploring the Farmington River and neighboring woodlands. This is a new area for Hartford Audubon.  This is an exploratory walk to see what can be found in the area.  About a two-mile walk.  There are some ups and downs\, and several places may be muddy. River conditions may send us on a different trail. \nLarry Lunden     larrylunden@hartfordaudubon.org 860-953-1847
URL:https://www.hartfordaudubon.org/trip-event/farmington-river-park-bird-walk-october-12-2024/
LOCATION:CT
CATEGORIES:Field Trip
ORGANIZER;CN="Larry Lunden":MAILTO:killdeer431@comcast.net
END:VEVENT
BEGIN:VEVENT
DTSTART;TZID=America/New_York:20241015T193000
DTEND;TZID=America/New_York:20241015T213000
DTSTAMP:20260425T074019
CREATED:20240804T153045Z
LAST-MODIFIED:20240804T153502Z
UID:15287-1729020600-1729027800@www.hartfordaudubon.org
SUMMARY:Wildlife Series #1 - October 15\, 2024
DESCRIPTION:Oct 15    Wildlife Series           Tue 7:30 pm \nThe McAuley Residence Audutorium \n275 Steele Rd\, West Hartford \nSpeaker – Gina Nichol \nFLOCKOLOGY!: Unraveling the Mysteries of Bird Flocks \nAs birders and wildlife enthusiasts\, we can’t help but marvel at large gatherings of birds. Flocks can range in size from just a few birds to tens of thousands\, even millions. Whether they be in the air or on the ground\, they can offer a magnificent spectacle. This presentation asks the question\, why do birds form flocks? And it explores the phenomenon of bird gatherings with vivid photographs\, anecdotes and video clips. The advantages and disadvantages of flocking are discussed and collective names used to identify groups of birds are presented.  Naturalist and tour leader Gina Nichol\, the founder of Sunrise Birding\, has previously shared her outstanding photography in many previous Wildlife Series programs. \nFrances D’Amico      frandamico525@yahoo.com      203-237-2734
URL:https://www.hartfordaudubon.org/trip-event/wildlife-series-1-october-15-2024/
LOCATION:McAuley Residence Auditorium\, 275 Steele Rd.\, West Hartford\, CT\, 06117\, United States
CATEGORIES:Wildlife Series
ORGANIZER;CN="Frances D%E2%80%99Amico":MAILTO:frandamico525@yahoo.com
END:VEVENT
BEGIN:VEVENT
DTSTART;TZID=America/New_York:20241020T093000
DTEND;TZID=America/New_York:20241020T113000
DTSTAMP:20260425T074019
CREATED:20240804T150931Z
LAST-MODIFIED:20240804T150931Z
UID:15279-1729416600-1729423800@www.hartfordaudubon.org
SUMMARY:A.W. Stanley Park Bird Walk - October 20\, 2024
DESCRIPTION:Oct 20     A.W. Stanley Park\, New Britain  – Sun 9:30 am \n 2159 Stanley St\, New Britain\, CT \n Park in the lot across from the pool building. \n (Note this is NOT Stanley Quarter Park\, also in New Britain) \nA.W. Stanley Park is a New Britain gem\, hosting a diverse community of resident and migratory birds\, with mixed species foraging flocks assembling in October.  We will take a ~2-mile route\, walking on paved and unpaved trails through forested and open areas around the pond\, including a small hill and a cliff overlook\, and returning beside a stream bordering a marsh.  With luck\, the maples will be putting on a colorful display.  If you download the free Merlin Bird ID app to your smartphone in advance\, (https://merlin.allaboutbirds.org/download/)\, you can try out its Sound ID on the birds we hear.  Dress appropriately for the weather. We will probably spend a couple of hours in the park\, with many stops.  A 2014 trail guide includes parts of our route; parts of the trail have been re-routed\, and some features have changed (https://visitnbct.com/wp-content/uploads/2024/04/AW-Stanley-Trail-Guide.pdf).The trip will be cancelled or rescheduled if it’s raining; call to ask if the weather seems borderline. \nSylvia Halkin               halkin@ccsu.edu                    860-985-7343 T
URL:https://www.hartfordaudubon.org/trip-event/a-w-stanley-park-bird-walk-october-20-2024/
LOCATION:CT
CATEGORIES:Field Trip
END:VEVENT
END:VCALENDAR