BEGIN:VCALENDAR
VERSION:2.0
PRODID:-// - ECPv6.15.20//NONSGML v1.0//EN
CALSCALE:GREGORIAN
METHOD:PUBLISH
X-ORIGINAL-URL:https://www.hartfordaudubon.org
X-WR-CALDESC:Events for 
REFRESH-INTERVAL;VALUE=DURATION:PT1H
X-Robots-Tag:noindex
X-PUBLISHED-TTL:PT1H
BEGIN:VTIMEZONE
TZID:America/New_York
BEGIN:DAYLIGHT
TZOFFSETFROM:-0500
TZOFFSETTO:-0400
TZNAME:EDT
DTSTART:20240310T070000
END:DAYLIGHT
BEGIN:STANDARD
TZOFFSETFROM:-0400
TZOFFSETTO:-0500
TZNAME:EST
DTSTART:20241103T060000
END:STANDARD
BEGIN:DAYLIGHT
TZOFFSETFROM:-0500
TZOFFSETTO:-0400
TZNAME:EDT
DTSTART:20250309T070000
END:DAYLIGHT
BEGIN:STANDARD
TZOFFSETFROM:-0400
TZOFFSETTO:-0500
TZNAME:EST
DTSTART:20251102T060000
END:STANDARD
BEGIN:DAYLIGHT
TZOFFSETFROM:-0500
TZOFFSETTO:-0400
TZNAME:EDT
DTSTART:20260308T070000
END:DAYLIGHT
BEGIN:STANDARD
TZOFFSETFROM:-0400
TZOFFSETTO:-0500
TZNAME:EST
DTSTART:20261101T060000
END:STANDARD
END:VTIMEZONE
BEGIN:VEVENT
DTSTART;TZID=America/New_York:20250301T080000
DTEND;TZID=America/New_York:20250301T110000
DTSTAMP:20260425T001206
CREATED:20240905T163130Z
LAST-MODIFIED:20240905T170230Z
UID:15387-1740816000-1740826800@www.hartfordaudubon.org
SUMMARY:Station 43 Beginners Bird Walk #3 - March 1\, 2025
DESCRIPTION:Mar 1 Station 43 Beginners Bird Walk #3  8 am953 Main St\, South WindsorCorner of Newberry Rd and Main StPark along road near intersection. \nThe third of four morning walks designed for beginners at HartfordAudubon’s oldest sanctuary. Station 43 is an excellent birding areayear–round and on each walk we will look for seasonal birds. Thewalk is roughly 2.5 miles (3 hours) long over flat terrain but wemay encounter areas with water/ice covering parts of the path. \nContact Jon Ward jward88787@aol.com 860–416–3958 T
URL:https://www.hartfordaudubon.org/trip-event/station-43-beginners-bird-walk-3-march-1-2025/
LOCATION:CT
CATEGORIES:Field Trip
ORGANIZER;CN="Hartford Audubon Society":MAILTO:info@hartfordaudubon.org
END:VEVENT
BEGIN:VEVENT
DTSTART;TZID=America/New_York:20250305T190000
DTEND;TZID=America/New_York:20250305T203000
DTSTAMP:20260425T001206
CREATED:20240905T170506Z
LAST-MODIFIED:20240905T170631Z
UID:15389-1741201200-1741206600@www.hartfordaudubon.org
SUMMARY:Birding With Your Phone - March 5\, 2025
DESCRIPTION:Mar 5 Birding With Your Phone Wed 7:00 pm \nVirtual Workshop via Zoom – RESERVATION REQUIRED \nA 1–1/2 hour\, virtual hands–on workshop with Ken Elkins ofConnecticut Audubon. Ken will teach attendees how to use andrefine the use of eBird\, Merlin\, several bird guides\, and more.Registration is required\, so email Sarah to reserve a space.Participants will be sent a list of apps to download before theworkshop. \nContact Sarah Faulkner sffaulkner@comcast.net 860–543–1280 T
URL:https://www.hartfordaudubon.org/trip-event/birding-with-your-phone-march-5-2025/
LOCATION:CT
CATEGORIES:Club Event
ORGANIZER;CN="Hartford Audubon Society":MAILTO:info@hartfordaudubon.org
END:VEVENT
BEGIN:VEVENT
DTSTART;VALUE=DATE:20250309
DTEND;VALUE=DATE:20250310
DTSTAMP:20260425T001206
CREATED:20240905T171154Z
LAST-MODIFIED:20250306T153434Z
UID:15391-1741478400-1741564799@www.hartfordaudubon.org
SUMMARY:CANCELLED:  Daylight Saving Bird-a-Thon Sun All Day - March 9\, 2025
DESCRIPTION:NOTE:  THIS EVENT HAS BEEN CANCELLED \nDaylight Saving Bird–a–Thon Sun All Day \nAll of Hartford County \nJoin Hartford Audubon for a fun one–day birding competition tocelebrate the return of Daylight Saving Time! Form teams of 2–4people\, dress up and name them with a smile in mind. Competeand report results. One point for every species\, 2 points for everyspecies found on a HAS sanctuary and 10 bonus points if you havea new birder on the team. At the end of the day we’ll get togetherfor a potluck dinner. Maggie will send out an informational e–mailthe week before.\nContact Maggie Peretto wings.mp@gmail.com 860–604–4903 T
URL:https://www.hartfordaudubon.org/trip-event/daylight-saving-bird-a-thon-sun-all-day-march-9-2025/
LOCATION:CT
CATEGORIES:Club Event
ORGANIZER;CN="Hartford Audubon Society":MAILTO:info@hartfordaudubon.org
END:VEVENT
BEGIN:VEVENT
DTSTART;TZID=America/New_York:20250311T190000
DTEND;TZID=America/New_York:20250311T210000
DTSTAMP:20260425T001206
CREATED:20240905T171442Z
LAST-MODIFIED:20240905T171442Z
UID:15393-1741719600-1741726800@www.hartfordaudubon.org
SUMMARY:Monthly Meeting- March 11\, 2025 - The Abundant Life in Old and Dead Trees
DESCRIPTION:Mar 11 ✪ Monthly Meeting ✪ Tue 7:30 pmSocial Time at 7:00 pmSt James’s Episcopal Church\,1018 Farmington Ave\, WH\nSpeaker: Margery WintersMorticulture: The Abundant Life in Old & Dead Trees\nOnce considered a wasted resource and a hazard in forestlandscapes\, dead trees and logs are now known to be valuable andessential parts of a healthy forest ecosystem. Learn how theyprovide habitat and food for many terrestrial and aquatic species\,act as seedbeds for new trees\, and serve as a source of water\,energy\, carbon\, and nutrients for the entire forest.\nContact Alison Wilcox alisonboyko@gmail.com 860–707–5907 T
URL:https://www.hartfordaudubon.org/trip-event/monthly-meeting-march-11-2025-the-abundant-life-in-old-and-dead-trees/
LOCATION:St. James’s Episcopal Church\, 1018 Farmington Ave.\, West Hartford\, CT\, 06127\, United States
CATEGORIES:Meeting
ORGANIZER;CN="Hartford Audubon Society":MAILTO:info@hartfordaudubon.org
END:VEVENT
BEGIN:VEVENT
DTSTART;TZID=America/New_York:20250318T190000
DTEND;TZID=America/New_York:20250318T210000
DTSTAMP:20260425T001206
CREATED:20240905T171748Z
LAST-MODIFIED:20250110T161659Z
UID:15395-1742324400-1742331600@www.hartfordaudubon.org
SUMMARY:Wildlife Series - March 18\, 2025: A Birder’s Journal of Brazil’s Lower Amazon\, Pantanal\, and Cerrado
DESCRIPTION:Mar 18 🦋 Wildlife Series 🦆 Tue 7:30 pmThe McAuley Residence Auditorium275 Steele Rd\, West Hartford \nA Birder’s Journal of Brazil’s Lower Amazon\, Pantanal\, and Cerrado. \nDave Tripp will take you through a photographic journey filled with birds and wildlife from these incredible biomes. \nDave has been birding seriously since the age of 12. He serves on the ARCC and has done so for the last 24 years. He leads annual regional trips to Cape May\, NJ and Northeastern Massachusetts for the Litchfield Hills Audubon where he serves as the Treasurer.  Dave has traveled to many countries birding including South Africa and England but prefers the tropical Americas. Brazil has become his newest infatuation. \nContact Frances D’Amico frandamico525@yahoo.com 203–715–631
URL:https://www.hartfordaudubon.org/trip-event/wildlife-series-march-18-2025-speaker-tbd/
LOCATION:McAuley Residence Auditorium\, 275 Steele Rd.\, West Hartford\, CT\, 06117\, United States
CATEGORIES:Wildlife Series
ORGANIZER;CN="Hartford Audubon Society":MAILTO:info@hartfordaudubon.org
END:VEVENT
BEGIN:VEVENT
DTSTART;TZID=America/New_York:20250322T190000
DTEND;TZID=America/New_York:20250322T203000
DTSTAMP:20260425T001206
CREATED:20240905T173949Z
LAST-MODIFIED:20240905T174126Z
UID:15397-1742670000-1742675400@www.hartfordaudubon.org
SUMMARY:Woodcocks at Nod Brook - March 22\, 2025
DESCRIPTION:Mar 22 Woodcocks at Nod Brook Sat 7:15 pm82 Hopmeadow St (Rt 10)\, Simsbury\nBack of the first parking lot of the Tower Office Park\nSee the unique mating display or “sky dance” of the AmericanWoodcock on a relatively short evening trip. Short distance 0.25mile – lasts about 1 hour after dusk. Must stand still/quiet whilewaiting for birds. Dress and layer for cold.\nContact Brian Toal BrianToal@SBCGlobal.net 860–999–2733 T
URL:https://www.hartfordaudubon.org/trip-event/woodcocks-at-nod-brook-march-22-2025/
LOCATION:CT
CATEGORIES:Field Trip
ORGANIZER;CN="Hartford Audubon Society":MAILTO:info@hartfordaudubon.org
END:VEVENT
BEGIN:VEVENT
DTSTART;TZID=America/New_York:20250323T083000
DTEND;TZID=America/New_York:20250323T170000
DTSTAMP:20260425T001206
CREATED:20240905T174327Z
LAST-MODIFIED:20250320T134817Z
UID:15399-1742718600-1742749200@www.hartfordaudubon.org
SUMMARY:Cancelled - Sachuest Point\, RI - March 23\, 2025
DESCRIPTION:Please Note: This trip has been cancelled due to leader illness. \nMar 23 Sachuest Point\, RI Sun 8:30 am769 Sachuest Point Rd\, Middletown\, RIMeet at the Sachuest Point Visitor Center parking lot \nView Harlequin Ducks and seabirds that are hard to see in CT. Wewill also visit Trustom Pond\, Ninigret\, and locations showingrarities. Level walking on shoreline trail about 2–3 miles. Dresswarmly and bring a lunch. \nContact Jon Ward jward88787@aol.com 860–623–3696
URL:https://www.hartfordaudubon.org/trip-event/sachuest-point-ri-march-23-2025/
LOCATION:Sachuest Point National Wildlife Refuge\, Hanging Rock Rd.\, Middletown\, RI\, United States
CATEGORIES:Field Trip
ORGANIZER;CN="Hartford Audubon Society":MAILTO:info@hartfordaudubon.org
END:VEVENT
BEGIN:VEVENT
DTSTART;TZID=America/New_York:20250330T080000
DTEND;TZID=America/New_York:20250330T110000
DTSTAMP:20260425T001206
CREATED:20240905T174634Z
LAST-MODIFIED:20240905T174911Z
UID:15401-1743321600-1743332400@www.hartfordaudubon.org
SUMMARY:Silver Sands State Park - March 30\, 2025
DESCRIPTION:Mar 30 Silver Sands Sun 8 amSilver Sands State Park\, 1 Silver Sands Pkwy\, MilfordMeet in main parking lot\nContact Maggie to verify this date.\n\n\nThis is a good trip to try for sea ducks and sparrows while hoping for a Rough–legged Hawk. Dress warmly. Flat shoreline walk approximately 2 miles for about 3 hours.\nMaggie Peretto wings.mp@gmail.com 860–604–4903 TErnie Harris pdlqlt@mac.com 860–603–2655
URL:https://www.hartfordaudubon.org/trip-event/silver-sands-state-park-march-30-2025/
LOCATION:CT
CATEGORIES:Field Trip
ORGANIZER;CN="Hartford Audubon Society":MAILTO:info@hartfordaudubon.org
END:VEVENT
END:VCALENDAR