BEGIN:VCALENDAR
VERSION:2.0
PRODID:-// - ECPv6.15.20//NONSGML v1.0//EN
CALSCALE:GREGORIAN
METHOD:PUBLISH
X-ORIGINAL-URL:https://www.hartfordaudubon.org
X-WR-CALDESC:Events for 
REFRESH-INTERVAL;VALUE=DURATION:PT1H
X-Robots-Tag:noindex
X-PUBLISHED-TTL:PT1H
BEGIN:VTIMEZONE
TZID:America/New_York
BEGIN:DAYLIGHT
TZOFFSETFROM:-0500
TZOFFSETTO:-0400
TZNAME:EDT
DTSTART:20240310T070000
END:DAYLIGHT
BEGIN:STANDARD
TZOFFSETFROM:-0400
TZOFFSETTO:-0500
TZNAME:EST
DTSTART:20241103T060000
END:STANDARD
BEGIN:DAYLIGHT
TZOFFSETFROM:-0500
TZOFFSETTO:-0400
TZNAME:EDT
DTSTART:20250309T070000
END:DAYLIGHT
BEGIN:STANDARD
TZOFFSETFROM:-0400
TZOFFSETTO:-0500
TZNAME:EST
DTSTART:20251102T060000
END:STANDARD
BEGIN:DAYLIGHT
TZOFFSETFROM:-0500
TZOFFSETTO:-0400
TZNAME:EDT
DTSTART:20260308T070000
END:DAYLIGHT
BEGIN:STANDARD
TZOFFSETFROM:-0400
TZOFFSETTO:-0500
TZNAME:EST
DTSTART:20261101T060000
END:STANDARD
END:VTIMEZONE
BEGIN:VEVENT
DTSTART;VALUE=DATE:20251108
DTEND;VALUE=DATE:20251110
DTSTAMP:20260424T120158
CREATED:20250729T134842Z
LAST-MODIFIED:20250729T134924Z
UID:15767-1762560000-1762732799@www.hartfordaudubon.org
SUMMARY:Long Island\, NY - Bird Trip - November 8-9\, 2025
DESCRIPTION:Nov 8  -9 Long Island Sat 2 daysContact Peter for arrangementsVarious sites on Long Island\nVisit Jamaica Bay\, Jones Beach\, Lake Capri\, Belmont Lake\,Shinnecock Inlet\, Montauk Point\, and Shelter Island. SpendSaturday night on Long Island. Return on Ferry Sunday evening.Waterfowl are the main benefits of this trip. While we have seenmany rarities (Ross’s Gull\, Spotted Redshank\, Black–belliedWhistling and Tufted ducks\, Ash–throated Flycatcher) they shouldnot be counted on!! Easy walking.\n\nPeter Stephan stephraf@aol.com 860–729–8374 T
URL:https://www.hartfordaudubon.org/trip-event/long-island-ny-bird-trip-november-8-9-2025/
LOCATION:CT
CATEGORIES:Field Trip
ORGANIZER;CN="Hartford Audubon Society":MAILTO:info@hartfordaudubon.org
END:VEVENT
BEGIN:VEVENT
DTSTART;TZID=America/New_York:20251111T190000
DTEND;TZID=America/New_York:20251111T210000
DTSTAMP:20260424T120158
CREATED:20250729T135227Z
LAST-MODIFIED:20250729T135533Z
UID:15770-1762887600-1762894800@www.hartfordaudubon.org
SUMMARY:Monthly Meeting - The Christmas Bird Count History and Future - November 11\, 2025
DESCRIPTION:Nov 11 ✪ Monthly Meeting ✪ Tue 7:30 pmSt James’s Episcopal Church\,1018 Farmington Ave\, WHSocial Time at 7:00pm. Speaker: David Tripp\, Jr. \nThe Christmas Bird Count\, Its History & Future with YouInterested in helping HAS count birds as part of the AudubonChristmas Bird Count? Join us to hear Dave Tripp\, Jr.\, present onthe history of the CBC\, trends discovered in previous counts\, howto participate in a CBC\, and how exactly to find and count thosebirds during the cold winter weather. \nAlison Wilcox Speakers@HartfordAudubon.org 860–707–5907 T
URL:https://www.hartfordaudubon.org/trip-event/monthly-meeting-the-christmas-bird-count-history-and-future-november-11-2025/
LOCATION:St. James’s Episcopal Church\, 1018 Farmington Ave.\, West Hartford\, CT\, 06127\, United States
CATEGORIES:Meeting
ORGANIZER;CN="Hartford Audubon Society":MAILTO:info@hartfordaudubon.org
END:VEVENT
BEGIN:VEVENT
DTSTART;TZID=America/New_York:20251118T190000
DTEND;TZID=America/New_York:20251118T210000
DTSTAMP:20260424T120158
CREATED:20250729T135735Z
LAST-MODIFIED:20250808T123505Z
UID:15772-1763492400-1763499600@www.hartfordaudubon.org
SUMMARY:Wildlife Series: Bobcats in CT - November 18\, 2025
DESCRIPTION:Nov 18 🦋 Wildlife Series 🦆 Tue 7:30 pmSocial Time at 7:00pm \nThe McAuley Residence auditorium\n275 Steele Rd\, West Hartford\nSpeaker: Jason Hawley: DEEP Wildlife BiologistTale of the Cat: Bobcats in Connecticut \nDEEP Wildlife biologist\, Jason Hawley will educate us aboutbobcat natural history in Connecticut\, bobcat biology\, the resultsof the recent research\, and the future of bobcat conservation.Alison Wilcox Speakers@HartfordAudubon.org 860–707–5907 T
URL:https://www.hartfordaudubon.org/trip-event/wildlife-series-bobcats-in-ct-november-18-2025/
LOCATION:McAuley Residence Auditorium\, 275 Steele Rd.\, West Hartford\, CT\, 06117\, United States
CATEGORIES:Wildlife Series
ORGANIZER;CN="Hartford Audubon Society":MAILTO:info@hartfordaudubon.org
END:VEVENT
END:VCALENDAR